BEGIN:VCALENDAR
VERSION:2.0
PRODID:-//total concept - ECPv6.15.17.1//NONSGML v1.0//EN
CALSCALE:GREGORIAN
METHOD:PUBLISH
X-ORIGINAL-URL:https://totalconcept.be
X-WR-CALDESC:Events for total concept
REFRESH-INTERVAL;VALUE=DURATION:PT1H
X-Robots-Tag:noindex
X-PUBLISHED-TTL:PT1H
BEGIN:VTIMEZONE
TZID:Europe/Helsinki
BEGIN:DAYLIGHT
TZOFFSETFROM:+0200
TZOFFSETTO:+0300
TZNAME:EEST
DTSTART:20250330T010000
END:DAYLIGHT
BEGIN:STANDARD
TZOFFSETFROM:+0300
TZOFFSETTO:+0200
TZNAME:EET
DTSTART:20251026T010000
END:STANDARD
BEGIN:DAYLIGHT
TZOFFSETFROM:+0200
TZOFFSETTO:+0300
TZNAME:EEST
DTSTART:20260329T010000
END:DAYLIGHT
BEGIN:STANDARD
TZOFFSETFROM:+0300
TZOFFSETTO:+0200
TZNAME:EET
DTSTART:20261025T010000
END:STANDARD
BEGIN:DAYLIGHT
TZOFFSETFROM:+0200
TZOFFSETTO:+0300
TZNAME:EEST
DTSTART:20270328T010000
END:DAYLIGHT
BEGIN:STANDARD
TZOFFSETFROM:+0300
TZOFFSETTO:+0200
TZNAME:EET
DTSTART:20271031T010000
END:STANDARD
END:VTIMEZONE
BEGIN:VEVENT
DTSTART;VALUE=DATE:20260317
DTEND;VALUE=DATE:20260320
DTSTAMP:20260420T160058
CREATED:20251006T194346Z
LAST-MODIFIED:20251006T194346Z
UID:12994-1773705600-1773964799@totalconcept.be
SUMMARY:Aqua Nederland 2026
DESCRIPTION:Aqua Nederland 2026 is a leading European trade fair bringing together exhibitors and buyers to showcase innovations\, launch new products and build partnerships. Hosted at Evenementenhal Gorinchem.
URL:https://totalconcept.be/event/aqua-nederland-2026/
LOCATION:Evenementenhal Gorinchem\, Netherlands
CATEGORIES:Beurs,Trade Fair
END:VEVENT
BEGIN:VEVENT
DTSTART;VALUE=DATE:20260315
DTEND;VALUE=DATE:20260318
DTSTAMP:20260420T160058
CREATED:20251006T194346Z
LAST-MODIFIED:20251006T194346Z
UID:12993-1773532800-1773791999@totalconcept.be
SUMMARY:Tavola 2026
DESCRIPTION:Tavola 2026 is a leading European trade fair bringing together exhibitors and buyers to showcase innovations\, launch new products and build partnerships. Hosted at Kortrijk Xpo.
URL:https://totalconcept.be/event/tavola-2026/
LOCATION:Kortrijk Xpo\, Belgium
CATEGORIES:Beurs,Trade Fair
END:VEVENT
BEGIN:VEVENT
DTSTART;VALUE=DATE:20260313
DTEND;VALUE=DATE:20260315
DTSTAMP:20260420T160058
CREATED:20251006T194338Z
LAST-MODIFIED:20260418T070229Z
UID:12992-1773360000-1773532799@totalconcept.be
SUMMARY:ACE 2026
DESCRIPTION:ACE 2026 is a leading European trade fair bringing together exhibitors and buyers to showcase innovations\, launch new products and build partnerships. Hosted at Business Design Centre London.
URL:https://totalconcept.be/event/ace-2026/
LOCATION:Business Design Centre London
CATEGORIES:Beurs
END:VEVENT
BEGIN:VEVENT
DTSTART;VALUE=DATE:20260312
DTEND;VALUE=DATE:20260313
DTSTAMP:20260420T160058
CREATED:20251006T194338Z
LAST-MODIFIED:20251006T194338Z
UID:12991-1773273600-1773359999@totalconcept.be
SUMMARY:Vakbeurs Openbare Ruimte 2026
DESCRIPTION:Vakbeurs Openbare Ruimte 2026 is a leading European trade fair bringing together exhibitors and buyers to showcase innovations\, launch new products and build partnerships. Hosted at Brussels Expo in Brussels.
URL:https://totalconcept.be/event/vakbeurs-openbare-ruimte-2026/
LOCATION:Brussels Expo\, Belgium
CATEGORIES:Beurs,Trade Fair
END:VEVENT
BEGIN:VEVENT
DTSTART;VALUE=DATE:20260311
DTEND;VALUE=DATE:20260316
DTSTAMP:20260420T160058
CREATED:20251006T194338Z
LAST-MODIFIED:20251006T194338Z
UID:12990-1773187200-1773619199@totalconcept.be
SUMMARY:Boot Holland 2026
DESCRIPTION:Boot Holland 2026 is a leading European trade fair bringing together exhibitors and buyers to showcase innovations\, launch new products and build partnerships. Hosted at WTC Expo Leeuwarden.
URL:https://totalconcept.be/event/boot-holland-2026/
LOCATION:WTC Expo Leeuwarden\, Netherlands
CATEGORIES:Beurs,Trade Fair
END:VEVENT
BEGIN:VEVENT
DTSTART;VALUE=DATE:20260311
DTEND;VALUE=DATE:20260313
DTSTAMP:20260420T160058
CREATED:20260418T071553Z
LAST-MODIFIED:20260418T071553Z
UID:14366-1773187200-1773359999@totalconcept.be
SUMMARY:Techni-Mat 2026
DESCRIPTION:
URL:https://totalconcept.be/event/techni-mat-2026-2/
LOCATION:Flanders Expo Gent
CATEGORIES:Beurs
END:VEVENT
BEGIN:VEVENT
DTSTART;VALUE=DATE:20260310
DTEND;VALUE=DATE:20260314
DTSTAMP:20260420T160058
CREATED:20251006T194331Z
LAST-MODIFIED:20251006T194331Z
UID:12987-1773100800-1773446399@totalconcept.be
SUMMARY:Intertraffic 2026
DESCRIPTION:Intertraffic 2026 is a leading European trade fair bringing together exhibitors and buyers to showcase innovations\, launch new products and build partnerships. Hosted at RAI Amsterdam in Amsterdam.
URL:https://totalconcept.be/event/intertraffic-2026/
LOCATION:RAI Amsterdam\, Netherlands
CATEGORIES:Beurs,Trade Fair
END:VEVENT
BEGIN:VEVENT
DTSTART;VALUE=DATE:20260310
DTEND;VALUE=DATE:20260313
DTSTAMP:20260420T160058
CREATED:20251006T194337Z
LAST-MODIFIED:20251006T194337Z
UID:12988-1773100800-1773359999@totalconcept.be
SUMMARY:Solar Solutions International 2026
DESCRIPTION:Solar Solutions International 2026 is a leading European trade fair bringing together exhibitors and buyers to showcase innovations\, launch new products and build partnerships. Hosted at Expo Greater Amsterdam in Amsterdam.
URL:https://totalconcept.be/event/solar-solutions-international-2026/
LOCATION:Expo Greater Amsterdam
CATEGORIES:Beurs,Trade Fair
END:VEVENT
BEGIN:VEVENT
DTSTART;VALUE=DATE:20260310
DTEND;VALUE=DATE:20260312
DTSTAMP:20260420T160058
CREATED:20251006T194338Z
LAST-MODIFIED:20260418T071540Z
UID:12989-1773100800-1773273599@totalconcept.be
SUMMARY:StocExpo 2026
DESCRIPTION:StocExpo 2026 is a leading European trade fair bringing together exhibitors and buyers to showcase innovations\, launch new products and build partnerships. Hosted at Rotterdam Ahoy.
URL:https://totalconcept.be/event/stocexpo-2026/
LOCATION:Rotterdam Ahoy
CATEGORIES:Beurs
END:VEVENT
BEGIN:VEVENT
DTSTART;VALUE=DATE:20260308
DTEND;VALUE=DATE:20260312
DTSTAMP:20260420T160058
CREATED:20251006T194331Z
LAST-MODIFIED:20260418T070703Z
UID:12986-1772928000-1773273599@totalconcept.be
SUMMARY:HORECATEL 2026
DESCRIPTION:HORECATEL 2026 is a leading European trade fair bringing together exhibitors and buyers to showcase innovations\, launch new products and build partnerships. Hosted at Wex Marche-en-Famenne.
URL:https://totalconcept.be/event/horecatel-2026/
LOCATION:Wex Marche-en-Famenne
CATEGORIES:Beurs
END:VEVENT
BEGIN:VEVENT
DTSTART;VALUE=DATE:20260307
DTEND;VALUE=DATE:20260309
DTSTAMP:20260420T160058
CREATED:20260418T071459Z
LAST-MODIFIED:20260418T071459Z
UID:14337-1772841600-1773014399@totalconcept.be
SUMMARY:Second Home Expo 2026
DESCRIPTION:
URL:https://totalconcept.be/event/second-home-expo-2026-2/
LOCATION:Antwerp Expo
CATEGORIES:Beurs
END:VEVENT
BEGIN:VEVENT
DTSTART;VALUE=DATE:20260305
DTEND;VALUE=DATE:20260308
DTSTAMP:20260420T160058
CREATED:20251006T194331Z
LAST-MODIFIED:20251006T194331Z
UID:12985-1772668800-1772927999@totalconcept.be
SUMMARY:Dental Expo 2026
DESCRIPTION:Dental Expo 2026 is a leading European trade fair bringing together exhibitors and buyers to showcase innovations\, launch new products and build partnerships. Hosted at RAI Amsterdam in Amsterdam.
URL:https://totalconcept.be/event/dental-expo-2026/
LOCATION:RAI Amsterdam\, Netherlands
CATEGORIES:Beurs,Trade Fair
END:VEVENT
BEGIN:VEVENT
DTSTART;VALUE=DATE:20260303
DTEND;VALUE=DATE:20260306
DTSTAMP:20260420T160058
CREATED:20260418T070636Z
LAST-MODIFIED:20260418T070636Z
UID:14183-1772496000-1772755199@totalconcept.be
SUMMARY:Futurebuild 2026
DESCRIPTION:
URL:https://totalconcept.be/event/futurebuild-2026-2/
CATEGORIES:Beurs
END:VEVENT
BEGIN:VEVENT
DTSTART;VALUE=DATE:20260303
DTEND;VALUE=DATE:20260306
DTSTAMP:20260420T160058
CREATED:20251006T194330Z
LAST-MODIFIED:20251006T194330Z
UID:12984-1772496000-1772755199@totalconcept.be
SUMMARY:ITB Berlin 2026
DESCRIPTION:ITB Berlin 2026 is a leading European trade fair bringing together exhibitors and buyers to showcase innovations\, launch new products and build partnerships. Hosted at Messe Berlin.
URL:https://totalconcept.be/event/itb-berlin-2026/
LOCATION:Messe Berlin\, Germany
CATEGORIES:Beurs,Trade Fair
END:VEVENT
BEGIN:VEVENT
DTSTART;VALUE=DATE:20260301
DTEND;VALUE=DATE:20260303
DTSTAMP:20260420T160058
CREATED:20251006T194330Z
LAST-MODIFIED:20251006T194330Z
UID:12983-1772323200-1772495999@totalconcept.be
SUMMARY:The Hair Project 2026
DESCRIPTION:The Hair Project 2026 is a leading European trade fair bringing together exhibitors and buyers to showcase innovations\, launch new products and build partnerships. Hosted at Kortrijk Xpo.
URL:https://totalconcept.be/event/the-hair-project-2026/
LOCATION:Kortrijk Xpo\, Belgium
CATEGORIES:Beurs,Trade Fair
END:VEVENT
BEGIN:VEVENT
DTSTART;VALUE=DATE:20260225
DTEND;VALUE=DATE:20260227
DTSTAMP:20260420T160058
CREATED:20251006T194316Z
LAST-MODIFIED:20251006T194316Z
UID:12982-1771977600-1772150399@totalconcept.be
SUMMARY:Sett Gent 2026
DESCRIPTION:Sett Gent 2026 is a leading European trade fair bringing together exhibitors and buyers to showcase innovations\, launch new products and build partnerships. Hosted at Nekkerhal Mechelen.
URL:https://totalconcept.be/event/sett-gent-2026/
LOCATION:Nekkerhal Mechelen\, Belgium
CATEGORIES:Beurs,Trade Fair
END:VEVENT
BEGIN:VEVENT
DTSTART;VALUE=DATE:20260224
DTEND;VALUE=DATE:20260227
DTSTAMP:20260420T160058
CREATED:20251006T194316Z
LAST-MODIFIED:20251006T194316Z
UID:12981-1771891200-1772150399@totalconcept.be
SUMMARY:HortiContact 2026
DESCRIPTION:HortiContact 2026 is a leading European trade fair bringing together exhibitors and buyers to showcase innovations\, launch new products and build partnerships. Hosted at Evenementenhal Gorinchem.
URL:https://totalconcept.be/event/horticontact-2026/
LOCATION:Evenementenhal Gorinchem\, Netherlands
CATEGORIES:Beurs,Trade Fair
END:VEVENT
BEGIN:VEVENT
DTSTART;VALUE=DATE:20260222
DTEND;VALUE=DATE:20260227
DTSTAMP:20260420T160058
CREATED:20251006T194316Z
LAST-MODIFIED:20251006T194316Z
UID:12980-1771718400-1772150399@totalconcept.be
SUMMARY:Euroshop 2026
DESCRIPTION:Euroshop 2026 is a leading European trade fair bringing together exhibitors and buyers to showcase innovations\, launch new products and build partnerships. Hosted at Messe Düsseldorf in Düsseldorf.
URL:https://totalconcept.be/event/euroshop-2026/
LOCATION:Messe Düsseldorf\, Germany
CATEGORIES:Beurs,Trade Fair
END:VEVENT
BEGIN:VEVENT
DTSTART;VALUE=DATE:20260222
DTEND;VALUE=DATE:20260227
DTSTAMP:20260420T160058
CREATED:20251006T194315Z
LAST-MODIFIED:20251006T194315Z
UID:12979-1771718400-1772150399@totalconcept.be
SUMMARY:EuroCIS 2026
DESCRIPTION:EuroCIS 2026 is a leading European trade fair bringing together exhibitors and buyers to showcase innovations\, launch new products and build partnerships. Hosted at Messe Düsseldorf in Düsseldorf.
URL:https://totalconcept.be/event/eurocis-2026/
LOCATION:Messe Düsseldorf\, Germany
CATEGORIES:Beurs,Trade Fair
END:VEVENT
BEGIN:VEVENT
DTSTART;VALUE=DATE:20260220
DTEND;VALUE=DATE:20260223
DTSTAMP:20260420T160058
CREATED:20251006T194315Z
LAST-MODIFIED:20251006T194315Z
UID:12978-1771545600-1771804799@totalconcept.be
SUMMARY:Agridagen 2026
DESCRIPTION:Agridagen 2026 is a leading European trade fair bringing together exhibitors and buyers to showcase innovations\, launch new products and build partnerships. Hosted at Weelde Depot.
URL:https://totalconcept.be/event/agridagen-2026/
LOCATION:Weelde Depot\, Belgium
CATEGORIES:Beurs,Trade Fair
END:VEVENT
BEGIN:VEVENT
DTSTART;VALUE=DATE:20260219
DTEND;VALUE=DATE:20260223
DTSTAMP:20260420T160058
CREATED:20251006T194303Z
LAST-MODIFIED:20251006T194303Z
UID:12977-1771459200-1771804799@totalconcept.be
SUMMARY:Flanders Horse Expo 2026
DESCRIPTION:Flanders Horse Expo 2026 is a leading European trade fair bringing together exhibitors and buyers to showcase innovations\, launch new products and build partnerships. Hosted at Flanders Expo.
URL:https://totalconcept.be/event/flanders-horse-expo-2026/
LOCATION:Flanders Expo\, Belgium
CATEGORIES:Beurs,Trade Fair
END:VEVENT
BEGIN:VEVENT
DTSTART;VALUE=DATE:20260210
DTEND;VALUE=DATE:20260214
DTSTAMP:20260420T160058
CREATED:20251006T194303Z
LAST-MODIFIED:20251006T194303Z
UID:12975-1770681600-1771027199@totalconcept.be
SUMMARY:Biofach 2026
DESCRIPTION:Biofach 2026 is a leading European trade fair bringing together exhibitors and buyers to showcase innovations\, launch new products and build partnerships. Hosted at Nürnberg Messe.
URL:https://totalconcept.be/event/biofach-2026/
LOCATION:Nürnberg Messe\, Germany
CATEGORIES:Beurs,Trade Fair
END:VEVENT
BEGIN:VEVENT
DTSTART;VALUE=DATE:20260210
DTEND;VALUE=DATE:20260213
DTSTAMP:20260420T160058
CREATED:20251006T194303Z
LAST-MODIFIED:20251006T194303Z
UID:12976-1770681600-1770940799@totalconcept.be
SUMMARY:Infra Relatiedagen 2026
DESCRIPTION:Infra Relatiedagen 2026 is a leading European trade fair bringing together exhibitors and buyers to showcase innovations\, launch new products and build partnerships. Hosted at Evenementenhal Hardenberg.
URL:https://totalconcept.be/event/infra-relatiedagen-2026/
LOCATION:Evenementenhal Hardenberg\, Netherlands
CATEGORIES:Beurs,Trade Fair
END:VEVENT
BEGIN:VEVENT
DTSTART;VALUE=DATE:20260209
DTEND;VALUE=DATE:20260213
DTSTAMP:20260420T160058
CREATED:20251006T194303Z
LAST-MODIFIED:20251006T194303Z
UID:12974-1770595200-1770940799@totalconcept.be
SUMMARY:Horecabeurs Bredene 2026
DESCRIPTION:Horecabeurs Bredene 2026 is a leading European trade fair bringing together exhibitors and buyers to showcase innovations\, launch new products and build partnerships. Hosted at Meeting- en Eventcentrum Staf Versluys.
URL:https://totalconcept.be/event/horecabeurs-bredene-2026/
LOCATION:Meeting- en Eventcentrum Staf Versluys\, Belgium
CATEGORIES:Beurs,Trade Fair
END:VEVENT
BEGIN:VEVENT
DTSTART;VALUE=DATE:20260209
DTEND;VALUE=DATE:20260212
DTSTAMP:20260420T160058
CREATED:20251006T194303Z
LAST-MODIFIED:20251006T194303Z
UID:12973-1770595200-1770854399@totalconcept.be
SUMMARY:HorecaEvenTT 2026
DESCRIPTION:HorecaEvenTT 2026 is a leading European trade fair bringing together exhibitors and buyers to showcase innovations\, launch new products and build partnerships. Hosted at WTC Expo Leeuwarden.
URL:https://totalconcept.be/event/horecaeventt-2026/
LOCATION:WTC Expo Leeuwarden\, Netherlands
CATEGORIES:Beurs,Trade Fair
END:VEVENT
BEGIN:VEVENT
DTSTART;VALUE=DATE:20260207
DTEND;VALUE=DATE:20260216
DTSTAMP:20260420T160058
CREATED:20251006T194300Z
LAST-MODIFIED:20251007T055000Z
UID:12969-1770422400-1771199999@totalconcept.be
SUMMARY:BATIBOUW 2026
DESCRIPTION:BATIBOUW 2026 is Belgium’s flagship building and renovation fair in Brussels. Compare materials\, energy solutions and interior concepts for residential and professional projects. \n\nStructure: façades\, roofing\, insulation and windows.\nEnergy: HVAC\, solar\, storage and smart controls.\nInterior: kitchens\, bathrooms and finishes.\nAdvice: sustainability\, financing and regulation.\nCTA: attract homeowners and pros in Brussels.\n    Book your exhibition stand with Total Concept.
URL:https://totalconcept.be/event/batibouw-2026/
LOCATION:Brussels Expo\, Belgium
CATEGORIES:Beurs,Trade Fair
END:VEVENT
BEGIN:VEVENT
DTSTART;VALUE=DATE:20260207
DTEND;VALUE=DATE:20260216
DTSTAMP:20260420T160058
CREATED:20251006T194300Z
LAST-MODIFIED:20251006T194300Z
UID:12970-1770422400-1771199999@totalconcept.be
SUMMARY:Bouwbeurs Roeselare 2026
DESCRIPTION:Bouwbeurs Roeselare 2026 is a leading European trade fair bringing together exhibitors and buyers to showcase innovations\, launch new products and build partnerships. Hosted at Roeselare Expo.
URL:https://totalconcept.be/event/bouwbeurs-roeselare-2026/
LOCATION:Roeselare Expo\, Belgium
CATEGORIES:Beurs,Trade Fair
END:VEVENT
BEGIN:VEVENT
DTSTART;VALUE=DATE:20260207
DTEND;VALUE=DATE:20260212
DTSTAMP:20260420T160058
CREATED:20251006T194301Z
LAST-MODIFIED:20251007T055023Z
UID:12972-1770422400-1770854399@totalconcept.be
SUMMARY:INTERGASTRA 2026
DESCRIPTION:INTERGASTRA 2026 is the leading hospitality fair at Messe Stuttgart. Hoteliers\, restaurateurs and caterers discover equipment\, F&B and digital solutions to grow revenue and guest satisfaction. \n\nFront & back of house: kitchen\, bar and service.\nF&B: ingredients\, beverages and specialty coffee.\nTech: POS\, reservations and delivery.\nConcepts: design\, sustainability and operations.\nCTA: drive tastings and bookings at your stand.\n    Book your exhibition stand with Total Concept.
URL:https://totalconcept.be/event/intergastra-2026/
LOCATION:Messe Stuttgart\, Germany
CATEGORIES:Beurs,Trade Fair
END:VEVENT
BEGIN:VEVENT
DTSTART;VALUE=DATE:20260207
DTEND;VALUE=DATE:20260212
DTSTAMP:20260420T160058
CREATED:20251006T194300Z
LAST-MODIFIED:20251007T055013Z
UID:12971-1770422400-1770854399@totalconcept.be
SUMMARY:GELATISSIMO 2026
DESCRIPTION:GELATISSIMO 2026 is Europe’s gelato and artisan ice cream fair at Messe Stuttgart. Gelatieri and suppliers explore ingredients\, machines and display concepts to craft profitable menus. \n\nIngredients: bases\, pastes\, toppings and inclusions.\nEquipment: pasteurizers\, batch freezers and showcases.\nDesserts: gelato cakes\, sorbets and soft serve.\nBusiness: hygiene\, workflow and menu engineering.\nCTA: tempt visitors with live tastings.\n    Book your exhibition stand with Total Concept.
URL:https://totalconcept.be/event/gelatissimo-2026/
LOCATION:Messe Stuttgart\, Germany
CATEGORIES:Beurs,Trade Fair
END:VEVENT
BEGIN:VEVENT
DTSTART;VALUE=DATE:20260206
DTEND;VALUE=DATE:20260211
DTSTAMP:20260420T160058
CREATED:20251006T194253Z
LAST-MODIFIED:20251007T054857Z
UID:12966-1770336000-1770767999@totalconcept.be
SUMMARY:Ambiente 2026
DESCRIPTION:Ambiente 2026 is the leading consumer goods fair at Messe Frankfurt\, spanning Dining\, Living and Giving. Retailers and brands set assortments and discover global design trends. \n\nDining: tableware\, cookware and kitchen tools.\nLiving: décor\, lighting and small furniture.\nGiving: gifts\, stationery and personal accessories.\nTrends: curated style areas and special shows.\nCTA: convert international buyers in Frankfurt.\n    Book your exhibition stand with Total Concept.
URL:https://totalconcept.be/event/ambiente-2026/
LOCATION:Messe Frankfurt
CATEGORIES:Beurs,Trade Fair
END:VEVENT
END:VCALENDAR