BEGIN:VCALENDAR
VERSION:2.0
PRODID:-//total concept - ECPv6.15.17.1//NONSGML v1.0//EN
CALSCALE:GREGORIAN
METHOD:PUBLISH
X-ORIGINAL-URL:https://totalconcept.be
X-WR-CALDESC:Events for total concept
REFRESH-INTERVAL;VALUE=DURATION:PT1H
X-Robots-Tag:noindex
X-PUBLISHED-TTL:PT1H
BEGIN:VTIMEZONE
TZID:Europe/Helsinki
BEGIN:DAYLIGHT
TZOFFSETFROM:+0200
TZOFFSETTO:+0300
TZNAME:EEST
DTSTART:20250330T010000
END:DAYLIGHT
BEGIN:STANDARD
TZOFFSETFROM:+0300
TZOFFSETTO:+0200
TZNAME:EET
DTSTART:20251026T010000
END:STANDARD
BEGIN:DAYLIGHT
TZOFFSETFROM:+0200
TZOFFSETTO:+0300
TZNAME:EEST
DTSTART:20260329T010000
END:DAYLIGHT
BEGIN:STANDARD
TZOFFSETFROM:+0300
TZOFFSETTO:+0200
TZNAME:EET
DTSTART:20261025T010000
END:STANDARD
BEGIN:DAYLIGHT
TZOFFSETFROM:+0200
TZOFFSETTO:+0300
TZNAME:EEST
DTSTART:20270328T010000
END:DAYLIGHT
BEGIN:STANDARD
TZOFFSETFROM:+0300
TZOFFSETTO:+0200
TZNAME:EET
DTSTART:20271031T010000
END:STANDARD
END:VTIMEZONE
BEGIN:VEVENT
DTSTART;VALUE=DATE:20260616
DTEND;VALUE=DATE:20260619
DTSTAMP:20260421T130800
CREATED:20260418T070321Z
LAST-MODIFIED:20260421T053847Z
UID:14111-1781568000-1781827199@totalconcept.be
SUMMARY:BREAKBULK 2026
DESCRIPTION:Stand Builder for Breakbulk Europe 2026\nAre you exhibiting at Breakbulk Europe 2026? Make a strong impression at one of the world’s leading events for project cargo and breakbulk logistics. \nTotal Concept is your experienced partner for stand design and construction in Rotterdam.\nWhether you need a modular booth or a premium custom-built stand\, we create exhibition concepts that help your brand stand out in front of shipping professionals\, freight specialists\, logistics providers\, project cargo experts and decision-makers. \nGet a Free Stand Design Proposal \n\nAbout Breakbulk Europe 2026\nHeld from 16–18 June 2026 at Rotterdam Ahoy\, Breakbulk Europe unites the project cargo and breakbulk industry in one major international business environment. The event is focused on logistics\, shipping\, heavy lift\, project supply chains and global networking. \nFor exhibitors active in project logistics\, heavy transport\, ports\, freight services\, shipping technology or specialist solutions\, a professional stand is essential to attract attention\, build trust and generate valuable business opportunities. \nYour Exhibition Stand at Breakbulk Europe 2026\nAt a breakbulk and project logistics event\, your stand should communicate reliability\, technical capability and commercial visibility.\nTotal Concept offers turnkey stand solutions tailored to your objectives and budget: \n\nCustom Design Stands: Premium booth concepts with strong branding\, clear presentation and a memorable visitor experience.\nModular System Stands: Efficient\, reusable stand systems with a clean and professional look.\nHybrid Solutions: A smart combination of modular efficiency and custom-built visual impact.\n\nWhy Choose Total Concept?\nWe understand the practical and visual expectations of professional trade fairs.\nAs your full-service stand builder\, we take care of the complete process: \n\n3D Visualization: We turn your briefing into a realistic stand proposal before production begins.\nIn-House Production: Our own workshop ensures high-quality construction\, finishing and print production.\nLogistics & Installation: We manage transport\, build-up\, technical coordination and dismantling.\nProject Management: Your dedicated project manager follows up planning\, deadlines and organizer communication from start to finish.\n\nFAQ for Breakbulk Europe 2026 Exhibitors\n\nCan you build stands for this event?\nYes. We support exhibitors throughout Europe with transport\, venue coordination\, installation and dismantling.\nWhat type of stand works best for this show?\nThat depends on your goals. We often recommend a stand with strong branding\, clear product presentation and a layout that supports both visibility and quality business conversations.\nDo you offer turnkey stand construction?\nYes. We can provide the full package: stand design\, production\, transport\, installation\, furniture\, lighting\, AV and dismantling.\n\n\nReady to Exhibit at Breakbulk Europe 2026?\n  Let’s create a stand that positions your brand professionally in front of the right audience. \n  ➜ Contact Total Concept
URL:https://totalconcept.be/event/breakbulk-2026/
CATEGORIES:Beurs,Beursstand,Expo,Trade Fair
END:VEVENT
BEGIN:VEVENT
DTSTART;VALUE=DATE:20260617
DTEND;VALUE=DATE:20260619
DTSTAMP:20260421T130800
CREATED:20251006T194534Z
LAST-MODIFIED:20260421T042411Z
UID:13015-1781654400-1781827199@totalconcept.be
SUMMARY:E-Waste World 2026
DESCRIPTION:Introduction\nE‑Waste World Conference & Expo 2026 is Europe’s premier event for electronics recycling and circular economy solutions. Taking place on 17–18 June 2026 in Messe Frankfurt\, it brings together recycling companies\, critical raw material suppliers\, electronics manufacturers\, IT asset disposition specialists and the entire e‑waste supply chain. With hundreds of exhibitors and expert speakers\, your stand presence is essential to showcase your innovations and connect with decision‑makers. \nAbout the Event\nHosted in Hall 3 at Messe Frankfurt in Germany\, E‑Waste World Conference & Expo 2026 is co‑located with the Battery Recycling Conference & Expo\, Metal Recycling Conference & Expo and ITAD & Circular Electronics Conference. The show focuses on creating a circular economy for electronics by highlighting innovations in collection and take‑back strategies\, design for recycling\, sorting and separation technologies\, urban mining\, material recovery and closed‑loop solutions. It attracts a global audience of recycling companies\, raw‑material suppliers\, consumer electronics and industrial electronics manufacturers\, PV and battery producers\, waste management firms\, technology suppliers and sustainability professionals. \nThe 2026 edition will build on the success of 2024\, which hosted about 3\,000 attendees\, 200 exhibitors and 130 speakers across four conference tracks. Visitors gain free access to the exhibition\, conference sessions and networking events\, making it an ideal platform to discover more than 300 exhibitors offering cutting‑edge recycling technologies\, material recovery solutions\, hazardous waste disposal systems\, battery and EV recycling\, reverse logistics\, remanufacturing\, IT asset disposition and advanced material traceability technologies. \nWhy Exhibit at E‑Waste World 2026?\nExhibiting at E‑Waste World Conference & Expo 2026 puts your company at the heart of Europe’s largest electronics\, metals and battery recycling fair. As a participant\, you will: \n\nShowcase your latest products and services to thousands of prospective customers and partners from across the global recycling community.\nNetwork with key decision‑makers\, industry leaders and sustainability experts to forge new partnerships and strengthen existing relationships.\nPosition your brand as an innovative technical partner within the circular economy and benchmark your solutions against competitors.\nKeep ahead of evolving customer requirements and industry regulations by attending conference sessions delivered by more than 180 expert speakers.\nLeverage the synergy of co‑located events on battery\, metal and ITAD recycling to reach a broader audience and discover complementary technologies.\n\nWhether you specialise in advanced sorting equipment\, material recovery\, secondary raw materials\, battery recycling\, urban mining\, reverse logistics or ITAD solutions\, E‑Waste World 2026 is the ideal stage to demonstrate your expertise and engage with a targeted audience seeking sustainable solutions. \nTotal Concept – Exhibition Stand Builder for E‑Waste World 2026\nTotal Concept delivers bespoke exhibition stands that help you stand out at E‑Waste World Conference & Expo 2026. Our team designs and constructs creative\, high‑quality booths that reflect your brand’s commitment to sustainability and innovation. We handle everything from concept development and 3D design to fabrication\, logistics and on‑site installation at Messe Frankfurt. \nWe offer: \n\nCustom stand design tailored to your objectives and industry segment.\nModular and custom‑built structures featuring integrated lighting\, digital displays and eco‑friendly materials.\nComplete production\, transport\, assembly and dismantling services\, so your team can focus on networking and selling.\nDecorative elements and experiential build solutions that highlight recycling technologies and circular economy messages.\nFull service before\, during and after the event\, ensuring a seamless experience for exhibitors.\n\nBy choosing Total Concept as your exhibition stand builder for E‑Waste World 2026\, you gain a reliable partner with extensive experience at trade fairs across Europe. We transform your ideas into an engaging stand that captures attention and delivers measurable results. \nPlan Your Stand for E‑Waste World 2026\nAre you ready to make an impact at Europe’s leading e‑waste and recycling event? Let Total Concept design and build your stand for E‑Waste World Conference & Expo 2026. Get in touch with our team to discuss your vision and start planning a booth that reflects your expertise. \nContact Total Concept
URL:https://totalconcept.be/event/e-waste-world-2026/
LOCATION:Messe Frankfurt
CATEGORIES:Beurs,Beursstand,Expo,Trade Fair
END:VEVENT
BEGIN:VEVENT
DTSTART;VALUE=DATE:20260622
DTEND;VALUE=DATE:20260625
DTSTAMP:20260421T130800
CREATED:20260418T071539Z
LAST-MODIFIED:20260421T054401Z
UID:14357-1782086400-1782345599@totalconcept.be
SUMMARY:SPOGA GAFA 2026
DESCRIPTION:Stand Builder for spoga+gafa 2026\nAre you exhibiting at spoga+gafa 2026? Make a strong impression at one of the leading global trade fairs for garden lifestyle and BBQ. \nTotal Concept is your experienced partner for stand design and construction in Cologne.\nWhether you need a modular booth or a premium custom-built stand\, we create exhibition concepts that help your brand stand out in front of buyers\, retailers\, distributors\, designers and garden-industry professionals. \nGet a Free Stand Design Proposal \n\nAbout spoga+gafa 2026\nHeld from 22–24 June 2026 at Koelnmesse\, spoga+gafa is a leading international trade fair for the garden lifestyle sector. The event brings together products\, trends and business opportunities across outdoor living\, gardening and BBQ. \nFor exhibitors active in garden furniture\, BBQ\, outdoor living\, gardening tools\, decoration or specialist services\, a professional stand is essential to attract attention\, build trust and generate valuable business opportunities. \nYour Exhibition Stand at spoga+gafa 2026\nAt a garden lifestyle trade fair\, your stand should communicate product appeal\, trend relevance and commercial value.\nTotal Concept offers turnkey stand solutions tailored to your objectives and budget: \n\nCustom Design Stands: Premium booth concepts with strong branding\, clear presentation and a memorable visitor experience.\nModular System Stands: Efficient\, reusable stand systems with a clean and professional look.\nHybrid Solutions: A smart combination of modular efficiency and custom-built visual impact.\n\nWhy Choose Total Concept?\nWe understand the practical and visual expectations of professional trade fairs.\nAs your full-service stand builder\, we take care of the complete process: \n\n3D Visualization: We turn your briefing into a realistic stand proposal before production begins.\nIn-House Production: Our own workshop ensures high-quality construction\, finishing and print production.\nLogistics & Installation: We manage transport\, build-up\, technical coordination and dismantling.\nProject Management: Your dedicated project manager follows up planning\, deadlines and organizer communication from start to finish.\n\nFAQ for spoga+gafa 2026 Exhibitors\n\nCan you build stands for this event?\nYes. We support exhibitors throughout Europe with transport\, venue coordination\, installation and dismantling.\nWhat type of stand works best for this show?\nThat depends on your goals. We often recommend a stand with strong branding\, clear product presentation and a layout that supports both visibility and quality business conversations.\nDo you offer turnkey stand construction?\nYes. We can provide the full package: stand design\, production\, transport\, installation\, furniture\, lighting\, AV and dismantling.\n\n\nReady to Exhibit at spoga+gafa 2026?\n  Let’s create a stand that positions your brand professionally in front of the right audience. \n  ➜ Contact Total Concept
URL:https://totalconcept.be/event/spoga-gafa-2026/
LOCATION:Koelnmesse\, Germany
CATEGORIES:Beurs,Beursstand,Expo,Trade Fair
END:VEVENT
BEGIN:VEVENT
DTSTART;VALUE=DATE:20260904
DTEND;VALUE=DATE:20260909
DTSTAMP:20260421T130800
CREATED:20260418T070747Z
LAST-MODIFIED:20260421T054127Z
UID:14219-1788480000-1788911999@totalconcept.be
SUMMARY:IFA 2026
DESCRIPTION:
URL:https://totalconcept.be/event/ifa-2026/
LOCATION:Messe Berlin\, Germany
CATEGORIES:Beurs,Beursstand,Expo,Trade Fair
END:VEVENT
BEGIN:VEVENT
DTSTART;VALUE=DATE:20260904
DTEND;VALUE=DATE:20260909
DTSTAMP:20260421T130800
CREATED:20260418T071516Z
LAST-MODIFIED:20260421T054105Z
UID:14348-1788480000-1788911999@totalconcept.be
SUMMARY:SMM 2026
DESCRIPTION:Stand Builder for SMM 2026\nAre you exhibiting at SMM 2026? Make a strong impression at one of the leading international maritime trade fairs. \nTotal Concept is your experienced partner for stand design and construction in Hamburg.\nWhether you need a modular booth or a premium custom-built stand\, we create exhibition concepts that help your brand stand out in front of shipowners\, shipyards\, marine suppliers\, engineers and decision-makers. \nGet a Free Stand Design Proposal \n\nAbout SMM 2026\nHeld from 1–4 September 2026 at Hamburg Messe und Congress\, SMM is one of the world’s leading maritime trade fairs\, gathering the global shipping and maritime technology community in Hamburg. The event addresses innovation\, decarbonisation\, digitalisation and the future of the maritime sector. \nFor exhibitors active in maritime technology\, propulsion\, ship systems\, automation\, digital solutions or related services\, a professional stand is essential to attract attention\, build trust and generate valuable business opportunities. \nYour Exhibition Stand at SMM 2026\nAt a maritime trade fair\, your stand should communicate innovation\, reliability and international business value.\nTotal Concept offers turnkey stand solutions tailored to your objectives and budget: \n\nCustom Design Stands: Premium booth concepts with strong branding\, clear presentation and a memorable visitor experience.\nModular System Stands: Efficient\, reusable stand systems with a clean and professional look.\nHybrid Solutions: A smart combination of modular efficiency and custom-built visual impact.\n\nWhy Choose Total Concept?\nWe understand the practical and visual expectations of professional trade fairs.\nAs your full-service stand builder\, we take care of the complete process: \n\n3D Visualization: We turn your briefing into a realistic stand proposal before production begins.\nIn-House Production: Our own workshop ensures high-quality construction\, finishing and print production.\nLogistics & Installation: We manage transport\, build-up\, technical coordination and dismantling.\nProject Management: Your dedicated project manager follows up planning\, deadlines and organizer communication from start to finish.\n\nFAQ for SMM 2026 Exhibitors\n\nCan you build stands for this event?\nYes. We support exhibitors throughout Europe with transport\, venue coordination\, installation and dismantling.\nWhat type of stand works best for this show?\nThat depends on your goals. We often recommend a stand with strong branding\, clear product presentation and a layout that supports both visibility and quality business conversations.\nDo you offer turnkey stand construction?\nYes. We can provide the full package: stand design\, production\, transport\, installation\, furniture\, lighting\, AV and dismantling.\n\n\nReady to Exhibit at SMM 2026?\n  Let’s create a stand that positions your brand professionally in front of the right audience. \n  ➜ Contact Total Concept
URL:https://totalconcept.be/event/smm-2026/
CATEGORIES:Beurs,Beursstand,Expo,Trade Fair
END:VEVENT
BEGIN:VEVENT
DTSTART;VALUE=DATE:20260905
DTEND;VALUE=DATE:20260910
DTSTAMP:20260421T130800
CREATED:20260418T070549Z
LAST-MODIFIED:20260421T054117Z
UID:14147-1788566400-1788998399@totalconcept.be
SUMMARY:ERS 2026
DESCRIPTION:Stand Builder for ERS Congress 2026\nAre you exhibiting at ERS Congress 2026? Make a strong impression at one of the world’s leading congresses in respiratory medicine. \nTotal Concept is your experienced partner for stand design and construction in Barcelona.\nWhether you need a modular booth or a premium custom-built stand\, we create exhibition concepts that help your brand stand out in front of respiratory specialists\, clinicians\, researchers\, medtech suppliers and healthcare stakeholders. \nGet a Free Stand Design Proposal \n\nAbout ERS Congress 2026\nHeld from 5–9 September 2026 at Fira Gran Via\, ERS Congress is one of the most important international events in respiratory medicine. It brings together clinicians\, scientists\, industry and innovation around the latest developments in lung health and respiratory care. \nFor exhibitors active in medical devices\, diagnostics\, pharma\, respiratory technology\, digital health or specialist services\, a professional stand is essential to attract attention\, build trust and generate valuable business opportunities. \nYour Exhibition Stand at ERS Congress 2026\nAt a medical congress\, your stand should communicate scientific trust\, clinical relevance and professional visibility.\nTotal Concept offers turnkey stand solutions tailored to your objectives and budget: \n\nCustom Design Stands: Premium booth concepts with strong branding\, clear presentation and a memorable visitor experience.\nModular System Stands: Efficient\, reusable stand systems with a clean and professional look.\nHybrid Solutions: A smart combination of modular efficiency and custom-built visual impact.\n\nWhy Choose Total Concept?\nWe understand the practical and visual expectations of professional trade fairs.\nAs your full-service stand builder\, we take care of the complete process: \n\n3D Visualization: We turn your briefing into a realistic stand proposal before production begins.\nIn-House Production: Our own workshop ensures high-quality construction\, finishing and print production.\nLogistics & Installation: We manage transport\, build-up\, technical coordination and dismantling.\nProject Management: Your dedicated project manager follows up planning\, deadlines and organizer communication from start to finish.\n\nFAQ for ERS Congress 2026 Exhibitors\n\nCan you build stands for this event?\nYes. We support exhibitors throughout Europe with transport\, venue coordination\, installation and dismantling.\nWhat type of stand works best for this show?\nThat depends on your goals. We often recommend a stand with strong branding\, clear product presentation and a layout that supports both visibility and quality business conversations.\nDo you offer turnkey stand construction?\nYes. We can provide the full package: stand design\, production\, transport\, installation\, furniture\, lighting\, AV and dismantling.\n\n\nReady to Exhibit at ERS Congress 2026?\n  Let’s create a stand that positions your brand professionally in front of the right audience. \n  ➜ Contact Total Concept
URL:https://totalconcept.be/event/ers-2026/
CATEGORIES:Beurs,Beursstand,Expo,Trade Fair
END:VEVENT
BEGIN:VEVENT
DTSTART;VALUE=DATE:20260908
DTEND;VALUE=DATE:20260911
DTSTAMP:20260421T130800
CREATED:20260418T070257Z
LAST-MODIFIED:20260421T054156Z
UID:14088-1788825600-1789084799@totalconcept.be
SUMMARY:BATTERY TECH EUROPE 2026
DESCRIPTION:Stand Builder for Battery & Energy Storage Tech Europe 2026\nAre you exhibiting at Battery & Energy Storage Tech Europe 2026? Make a strong impression at a leading European event for battery and energy storage technology. \nTotal Concept is your experienced partner for stand design and construction in Barcelona.\nWhether you need a modular booth or a premium custom-built stand\, we create exhibition concepts that help your brand stand out in front of battery professionals\, engineers\, investors\, manufacturers and energy-storage stakeholders. \nGet a Free Stand Design Proposal \n\nAbout Battery & Energy Storage Tech Europe 2026\nHeld from 8–9 September 2026 at Fira Barcelona\, Battery & Energy Storage Tech Europe is a specialist conference and exhibition focused on the battery and energy storage ecosystem. It brings together innovators\, manufacturers\, researchers\, investors and industry professionals. \nFor exhibitors active in battery systems\, storage solutions\, engineering\, manufacturing\, R&D tools or specialist services\, a professional stand is essential to attract attention\, build trust and generate valuable business opportunities. \nYour Exhibition Stand at Battery & Energy Storage Tech Europe 2026\nAt a battery and energy storage event\, your stand should communicate technical credibility\, innovation and B2B growth.\nTotal Concept offers turnkey stand solutions tailored to your objectives and budget: \n\nCustom Design Stands: Premium booth concepts with strong branding\, clear presentation and a memorable visitor experience.\nModular System Stands: Efficient\, reusable stand systems with a clean and professional look.\nHybrid Solutions: A smart combination of modular efficiency and custom-built visual impact.\n\nWhy Choose Total Concept?\nWe understand the practical and visual expectations of professional trade fairs.\nAs your full-service stand builder\, we take care of the complete process: \n\n3D Visualization: We turn your briefing into a realistic stand proposal before production begins.\nIn-House Production: Our own workshop ensures high-quality construction\, finishing and print production.\nLogistics & Installation: We manage transport\, build-up\, technical coordination and dismantling.\nProject Management: Your dedicated project manager follows up planning\, deadlines and organizer communication from start to finish.\n\nFAQ for Battery & Energy Storage Tech Europe 2026 Exhibitors\n\nCan you build stands for this event?\nYes. We support exhibitors throughout Europe with transport\, venue coordination\, installation and dismantling.\nWhat type of stand works best for this show?\nThat depends on your goals. We often recommend a stand with strong branding\, clear product presentation and a layout that supports both visibility and quality business conversations.\nDo you offer turnkey stand construction?\nYes. We can provide the full package: stand design\, production\, transport\, installation\, furniture\, lighting\, AV and dismantling.\n\n\nReady to Exhibit at Battery & Energy Storage Tech Europe 2026?\n  Let’s create a stand that positions your brand professionally in front of the right audience. \n  ➜ Contact Total Concept
URL:https://totalconcept.be/event/battery-tech-europe-2026/
CATEGORIES:Beurs,Beursstand,Expo,Trade Fair
END:VEVENT
END:VCALENDAR