BEGIN:VCALENDAR
VERSION:2.0
PRODID:-//total concept - ECPv6.15.17.1//NONSGML v1.0//EN
CALSCALE:GREGORIAN
METHOD:PUBLISH
X-ORIGINAL-URL:https://totalconcept.be
X-WR-CALDESC:Events for total concept
REFRESH-INTERVAL;VALUE=DURATION:PT1H
X-Robots-Tag:noindex
X-PUBLISHED-TTL:PT1H
BEGIN:VTIMEZONE
TZID:Europe/Helsinki
BEGIN:DAYLIGHT
TZOFFSETFROM:+0200
TZOFFSETTO:+0300
TZNAME:EEST
DTSTART:20250330T010000
END:DAYLIGHT
BEGIN:STANDARD
TZOFFSETFROM:+0300
TZOFFSETTO:+0200
TZNAME:EET
DTSTART:20251026T010000
END:STANDARD
BEGIN:DAYLIGHT
TZOFFSETFROM:+0200
TZOFFSETTO:+0300
TZNAME:EEST
DTSTART:20260329T010000
END:DAYLIGHT
BEGIN:STANDARD
TZOFFSETFROM:+0300
TZOFFSETTO:+0200
TZNAME:EET
DTSTART:20261025T010000
END:STANDARD
BEGIN:DAYLIGHT
TZOFFSETFROM:+0200
TZOFFSETTO:+0300
TZNAME:EEST
DTSTART:20270328T010000
END:DAYLIGHT
BEGIN:STANDARD
TZOFFSETFROM:+0300
TZOFFSETTO:+0200
TZNAME:EET
DTSTART:20271031T010000
END:STANDARD
END:VTIMEZONE
BEGIN:VEVENT
DTSTART;VALUE=DATE:20260915
DTEND;VALUE=DATE:20260918
DTSTAMP:20260424T092917
CREATED:20260421T111131Z
LAST-MODIFIED:20260421T111131Z
UID:15096-1789430400-1789689599@totalconcept.be
SUMMARY:ZUKUNFT PERSONAL 2026
DESCRIPTION:Stand Builder for ZUKUNFT PERSONAL 2026\nExhibiting at ZUKUNFT PERSONAL 2026? Stand out at this education\, training\, HR and workplace development event with a booth designed for visibility\, conversations and results. \nZUKUNFT PERSONAL 2026 attracts HR leaders\, recruiters\, employers\, educators\, L&D managers and career professionals. Total Concept designs and builds exhibition stands across Europe\, from modular systems to fully custom booth concepts with production\, transport\, installation and dismantling included. \nGet a Free Stand Design Proposal \n\nAbout ZUKUNFT PERSONAL 2026\nZUKUNFT PERSONAL 2026 takes place from 15-17 September 2026 at Koelnmesse. The event focuses on education\, training\, HR and workplace development\, making it relevant for exhibitors that want to meet qualified visitors and build visibility in their market. \nWho Visits ZUKUNFT PERSONAL 2026?\nThe typical audience includes HR leaders\, recruiters\, employers\, educators\, L&D managers and career professionals. Depending on your offer\, the fair is especially valuable for suppliers active in recruitment services\, learning platforms\, workplace solutions\, schools and training providers. \nYour Exhibition Stand at ZUKUNFT PERSONAL 2026\nAt this event\, your stand should communicate your offer simply\, support conversations and make it easy for visitors to engage. We create exhibition stands that support product presentation\, brand visibility and efficient meetings on the show floor. \n\nCustom Design Stands: Custom stand concepts that help explain services clearly and create approachable meeting space.\nModular Stands: Modular stands that stay practical\, open and easy to scale across recruitment and HR events.\nHybrid Solutions: Hybrid booths that combine efficiency with stronger branded presentation and engagement zones.\n\nWhy Choose Total Concept?\n\nStrategic Design: We translate your objectives\, target audience and product story into a stand concept that fits the event.\nIn-House Production: Our own workshop handles structure\, finishing\, graphics and practical build quality.\nLogistics & Installation: We coordinate transport\, build-up\, dismantling and on-site follow-up.\nDedicated Project Management: You have one clear point of contact from first briefing to final handover.\n\n\nPlanning to Exhibit at ZUKUNFT PERSONAL 2026?\nLet’s create a stand that helps your brand connect with the right visitors at Koelnmesse. \n  ➜ Contact Total Concept
URL:https://totalconcept.be/event/zukunft-personal-2026/
LOCATION:Koelnmesse\, Germany
CATEGORIES:Beurs,Beursstand,Expo,Trade Fair
END:VEVENT
END:VCALENDAR