BEGIN:VCALENDAR
VERSION:2.0
PRODID:-//total concept - ECPv6.15.17.1//NONSGML v1.0//EN
CALSCALE:GREGORIAN
METHOD:PUBLISH
X-ORIGINAL-URL:https://totalconcept.be
X-WR-CALDESC:Events for total concept
REFRESH-INTERVAL;VALUE=DURATION:PT1H
X-Robots-Tag:noindex
X-PUBLISHED-TTL:PT1H
BEGIN:VTIMEZONE
TZID:Europe/Helsinki
BEGIN:DAYLIGHT
TZOFFSETFROM:+0200
TZOFFSETTO:+0300
TZNAME:EEST
DTSTART:20270328T010000
END:DAYLIGHT
BEGIN:STANDARD
TZOFFSETFROM:+0300
TZOFFSETTO:+0200
TZNAME:EET
DTSTART:20271031T010000
END:STANDARD
BEGIN:DAYLIGHT
TZOFFSETFROM:+0200
TZOFFSETTO:+0300
TZNAME:EEST
DTSTART:20280326T010000
END:DAYLIGHT
BEGIN:STANDARD
TZOFFSETFROM:+0300
TZOFFSETTO:+0200
TZNAME:EET
DTSTART:20281029T010000
END:STANDARD
BEGIN:DAYLIGHT
TZOFFSETFROM:+0200
TZOFFSETTO:+0300
TZNAME:EEST
DTSTART:20290325T010000
END:DAYLIGHT
BEGIN:STANDARD
TZOFFSETFROM:+0300
TZOFFSETTO:+0200
TZNAME:EET
DTSTART:20291028T010000
END:STANDARD
END:VTIMEZONE
BEGIN:VEVENT
DTSTART;VALUE=DATE:20280301
DTEND;VALUE=DATE:20280302
DTSTAMP:20260424T130807
CREATED:20260421T113617Z
LAST-MODIFIED:20260421T113617Z
UID:15594-1835481600-1835567999@totalconcept.be
SUMMARY:THE HAIR PROJECT 2028
DESCRIPTION:Stand Builder for THE HAIR PROJECT 2028\nExhibiting at THE HAIR PROJECT 2028? Stand out at this beauty\, cosmetics\, hair and wellness event with a booth designed for visibility\, conversations and results. \nTHE HAIR PROJECT 2028 attracts salon owners\, retailers\, distributors\, therapists\, buyers and beauty professionals. Total Concept designs and builds exhibition stands across Europe\, from modular systems to fully custom booth concepts with production\, transport\, installation and dismantling included. \nGet a Free Stand Design Proposal \n\nAbout THE HAIR PROJECT 2028\nTHE HAIR PROJECT 2028 takes place from 1 March 2028 at Kortrijk Xpo. The event focuses on beauty\, cosmetics\, hair and wellness\, making it relevant for exhibitors that want to meet qualified visitors and build visibility in their market. \nWho Visits THE HAIR PROJECT 2028?\nThe typical audience includes salon owners\, retailers\, distributors\, therapists\, buyers and beauty professionals. Depending on your offer\, the fair is especially valuable for suppliers active in cosmetics\, skincare\, haircare\, wellness products\, equipment and training services. \nYour Exhibition Stand at THE HAIR PROJECT 2028\nAt this event\, your stand should create strong brand atmosphere\, support product testing and make social\, visual presentation count. We create exhibition stands that support product presentation\, brand visibility and efficient meetings on the show floor. \n\nCustom Design Stands: Custom booth concepts with premium finishes\, tester zones and a polished beauty-brand presentation.\nModular Stands: Flexible modular stands that keep products\, back-of-house storage and visitor flow well organised.\nHybrid Solutions: Hybrid stands that mix modular efficiency with custom counters\, displays and lifestyle branding.\n\nWhy Choose Total Concept?\n\nStrategic Design: We translate your objectives\, target audience and product story into a stand concept that fits the event.\nIn-House Production: Our own workshop handles structure\, finishing\, graphics and practical build quality.\nLogistics & Installation: We coordinate transport\, build-up\, dismantling and on-site follow-up.\nDedicated Project Management: You have one clear point of contact from first briefing to final handover.\n\n\nPlanning to Exhibit at THE HAIR PROJECT 2028?\nLet’s create a stand that helps your brand connect with the right visitors at Kortrijk Xpo. \n  ➜ Contact Total Concept
URL:https://totalconcept.be/event/the-hair-project-2028/
LOCATION:Kortrijk Xpo\, Belgium
CATEGORIES:Beurs,Beursstand,Expo,Trade Fair
END:VEVENT
END:VCALENDAR