BEGIN:VCALENDAR
VERSION:2.0
PRODID:-//total concept - ECPv6.15.17.1//NONSGML v1.0//EN
CALSCALE:GREGORIAN
METHOD:PUBLISH
X-WR-CALNAME:total concept
X-ORIGINAL-URL:https://totalconcept.be
X-WR-CALDESC:Events for total concept
REFRESH-INTERVAL;VALUE=DURATION:PT1H
X-Robots-Tag:noindex
X-PUBLISHED-TTL:PT1H
BEGIN:VTIMEZONE
TZID:Europe/Helsinki
BEGIN:DAYLIGHT
TZOFFSETFROM:+0200
TZOFFSETTO:+0300
TZNAME:EEST
DTSTART:20250330T010000
END:DAYLIGHT
BEGIN:STANDARD
TZOFFSETFROM:+0300
TZOFFSETTO:+0200
TZNAME:EET
DTSTART:20251026T010000
END:STANDARD
BEGIN:DAYLIGHT
TZOFFSETFROM:+0200
TZOFFSETTO:+0300
TZNAME:EEST
DTSTART:20260329T010000
END:DAYLIGHT
BEGIN:STANDARD
TZOFFSETFROM:+0300
TZOFFSETTO:+0200
TZNAME:EET
DTSTART:20261025T010000
END:STANDARD
BEGIN:DAYLIGHT
TZOFFSETFROM:+0200
TZOFFSETTO:+0300
TZNAME:EEST
DTSTART:20270328T010000
END:DAYLIGHT
BEGIN:STANDARD
TZOFFSETFROM:+0300
TZOFFSETTO:+0200
TZNAME:EET
DTSTART:20271031T010000
END:STANDARD
BEGIN:DAYLIGHT
TZOFFSETFROM:+0200
TZOFFSETTO:+0300
TZNAME:EEST
DTSTART:20280326T010000
END:DAYLIGHT
BEGIN:STANDARD
TZOFFSETFROM:+0300
TZOFFSETTO:+0200
TZNAME:EET
DTSTART:20281029T010000
END:STANDARD
BEGIN:DAYLIGHT
TZOFFSETFROM:+0200
TZOFFSETTO:+0300
TZNAME:EEST
DTSTART:20290325T010000
END:DAYLIGHT
BEGIN:STANDARD
TZOFFSETFROM:+0300
TZOFFSETTO:+0200
TZNAME:EET
DTSTART:20291028T010000
END:STANDARD
BEGIN:DAYLIGHT
TZOFFSETFROM:+0200
TZOFFSETTO:+0300
TZNAME:EEST
DTSTART:20300331T010000
END:DAYLIGHT
BEGIN:STANDARD
TZOFFSETFROM:+0300
TZOFFSETTO:+0200
TZNAME:EET
DTSTART:20301027T010000
END:STANDARD
BEGIN:DAYLIGHT
TZOFFSETFROM:+0200
TZOFFSETTO:+0300
TZNAME:EEST
DTSTART:20310330T010000
END:DAYLIGHT
BEGIN:STANDARD
TZOFFSETFROM:+0300
TZOFFSETTO:+0200
TZNAME:EET
DTSTART:20311026T010000
END:STANDARD
END:VTIMEZONE
BEGIN:VEVENT
DTSTART;VALUE=DATE:20260622
DTEND;VALUE=DATE:20260625
DTSTAMP:20260421T195341
CREATED:20260421T110901Z
LAST-MODIFIED:20260421T110901Z
UID:15038-1782086400-1782345599@totalconcept.be
SUMMARY:SPOGA+GAFA 2026
DESCRIPTION:Stand Builder for SPOGA+GAFA 2026\nExhibiting at SPOGA+GAFA 2026? Stand out at this business services\, professional networks and commercial solutions event with a booth designed for visibility\, conversations and results. \nSPOGA+GAFA 2026 attracts business owners\, managers\, buyers\, consultants and commercial decision-makers. Total Concept designs and builds exhibition stands across Europe\, from modular systems to fully custom booth concepts with production\, transport\, installation and dismantling included. \nGet a Free Stand Design Proposal \n\nAbout SPOGA+GAFA 2026\nSPOGA+GAFA 2026 takes place from 22-24 June 2026 at Koelnmesse. The event focuses on business services\, professional networks and commercial solutions\, making it relevant for exhibitors that want to meet qualified visitors and build visibility in their market. \nWho Visits SPOGA+GAFA 2026?\nThe typical audience includes business owners\, managers\, buyers\, consultants and commercial decision-makers. Depending on your offer\, the fair is especially valuable for suppliers active in software\, services\, finance\, advisory\, associations and commercial suppliers. \nYour Exhibition Stand at SPOGA+GAFA 2026\nAt this event\, your stand should make your proposition clear fast and create an approachable space for lead generation. We create exhibition stands that support product presentation\, brand visibility and efficient meetings on the show floor. \n\nCustom Design Stands: Custom booths focused on clarity\, trust and strong first impressions with qualified visitors.\nModular Stands: Clean modular stands that support conversation\, lead capture and efficient event logistics.\nHybrid Solutions: Hybrid concepts that combine modular practicality with stronger custom branding and messaging.\n\nWhy Choose Total Concept?\n\nStrategic Design: We translate your objectives\, target audience and product story into a stand concept that fits the event.\nIn-House Production: Our own workshop handles structure\, finishing\, graphics and practical build quality.\nLogistics & Installation: We coordinate transport\, build-up\, dismantling and on-site follow-up.\nDedicated Project Management: You have one clear point of contact from first briefing to final handover.\n\n\nPlanning to Exhibit at SPOGA+GAFA 2026?\nLet’s create a stand that helps your brand connect with the right visitors at Koelnmesse. \n  ➜ Contact Total Concept
URL:https://totalconcept.be/event/spogagafa-2026/
LOCATION:Koelnmesse\, Germany
CATEGORIES:Beurs,Beursstand,Expo,Trade Fair
END:VEVENT
BEGIN:VEVENT
DTSTART;VALUE=DATE:20270915
DTEND;VALUE=DATE:20270918
DTSTAMP:20260421T195341
CREATED:20260421T113102Z
LAST-MODIFIED:20260421T113102Z
UID:15490-1820966400-1821225599@totalconcept.be
SUMMARY:SPOGA+GAFA 2027
DESCRIPTION:Stand Builder for SPOGA+GAFA 2027\nExhibiting at SPOGA+GAFA 2027? Stand out at this business services\, professional networks and commercial solutions event with a booth designed for visibility\, conversations and results. \nSPOGA+GAFA 2027 attracts business owners\, managers\, buyers\, consultants and commercial decision-makers. Total Concept designs and builds exhibition stands across Europe\, from modular systems to fully custom booth concepts with production\, transport\, installation and dismantling included. \nGet a Free Stand Design Proposal \n\nAbout SPOGA+GAFA 2027\nSPOGA+GAFA 2027 takes place from 15-17 September 2027 at Koelnmesse. The event focuses on business services\, professional networks and commercial solutions\, making it relevant for exhibitors that want to meet qualified visitors and build visibility in their market. \nWho Visits SPOGA+GAFA 2027?\nThe typical audience includes business owners\, managers\, buyers\, consultants and commercial decision-makers. Depending on your offer\, the fair is especially valuable for suppliers active in software\, services\, finance\, advisory\, associations and commercial suppliers. \nYour Exhibition Stand at SPOGA+GAFA 2027\nAt this event\, your stand should make your proposition clear fast and create an approachable space for lead generation. We create exhibition stands that support product presentation\, brand visibility and efficient meetings on the show floor. \n\nCustom Design Stands: Custom booths focused on clarity\, trust and strong first impressions with qualified visitors.\nModular Stands: Clean modular stands that support conversation\, lead capture and efficient event logistics.\nHybrid Solutions: Hybrid concepts that combine modular practicality with stronger custom branding and messaging.\n\nWhy Choose Total Concept?\n\nStrategic Design: We translate your objectives\, target audience and product story into a stand concept that fits the event.\nIn-House Production: Our own workshop handles structure\, finishing\, graphics and practical build quality.\nLogistics & Installation: We coordinate transport\, build-up\, dismantling and on-site follow-up.\nDedicated Project Management: You have one clear point of contact from first briefing to final handover.\n\n\nPlanning to Exhibit at SPOGA+GAFA 2027?\nLet’s create a stand that helps your brand connect with the right visitors at Koelnmesse. \n  ➜ Contact Total Concept
URL:https://totalconcept.be/event/spogagafa-2027/
LOCATION:Koelnmesse\, Germany
CATEGORIES:Beurs,Beursstand,Expo,Trade Fair
END:VEVENT
BEGIN:VEVENT
DTSTART;VALUE=DATE:20280915
DTEND;VALUE=DATE:20280918
DTSTAMP:20260421T195341
CREATED:20260421T113932Z
LAST-MODIFIED:20260421T113932Z
UID:15657-1852588800-1852847999@totalconcept.be
SUMMARY:SPOGA+GAFA 2028
DESCRIPTION:Stand Builder for SPOGA+GAFA 2028\nExhibiting at SPOGA+GAFA 2028? Stand out at this business services\, professional networks and commercial solutions event with a booth designed for visibility\, conversations and results. \nSPOGA+GAFA 2028 attracts business owners\, managers\, buyers\, consultants and commercial decision-makers. Total Concept designs and builds exhibition stands across Europe\, from modular systems to fully custom booth concepts with production\, transport\, installation and dismantling included. \nGet a Free Stand Design Proposal \n\nAbout SPOGA+GAFA 2028\nSPOGA+GAFA 2028 takes place from 15-17 September 2028 at Koelnmesse. The event focuses on business services\, professional networks and commercial solutions\, making it relevant for exhibitors that want to meet qualified visitors and build visibility in their market. \nWho Visits SPOGA+GAFA 2028?\nThe typical audience includes business owners\, managers\, buyers\, consultants and commercial decision-makers. Depending on your offer\, the fair is especially valuable for suppliers active in software\, services\, finance\, advisory\, associations and commercial suppliers. \nYour Exhibition Stand at SPOGA+GAFA 2028\nAt this event\, your stand should make your proposition clear fast and create an approachable space for lead generation. We create exhibition stands that support product presentation\, brand visibility and efficient meetings on the show floor. \n\nCustom Design Stands: Custom booths focused on clarity\, trust and strong first impressions with qualified visitors.\nModular Stands: Clean modular stands that support conversation\, lead capture and efficient event logistics.\nHybrid Solutions: Hybrid concepts that combine modular practicality with stronger custom branding and messaging.\n\nWhy Choose Total Concept?\n\nStrategic Design: We translate your objectives\, target audience and product story into a stand concept that fits the event.\nIn-House Production: Our own workshop handles structure\, finishing\, graphics and practical build quality.\nLogistics & Installation: We coordinate transport\, build-up\, dismantling and on-site follow-up.\nDedicated Project Management: You have one clear point of contact from first briefing to final handover.\n\n\nPlanning to Exhibit at SPOGA+GAFA 2028?\nLet’s create a stand that helps your brand connect with the right visitors at Koelnmesse. \n  ➜ Contact Total Concept
URL:https://totalconcept.be/event/spogagafa-2028/
LOCATION:Koelnmesse\, Germany
CATEGORIES:Beurs,Beursstand,Expo,Trade Fair
END:VEVENT
BEGIN:VEVENT
DTSTART;VALUE=DATE:20290915
DTEND;VALUE=DATE:20290918
DTSTAMP:20260421T195341
CREATED:20260421T114202Z
LAST-MODIFIED:20260421T114202Z
UID:15706-1884124800-1884383999@totalconcept.be
SUMMARY:SPOGA+GAFA 2029
DESCRIPTION:Stand Builder for SPOGA+GAFA 2029\nExhibiting at SPOGA+GAFA 2029? Stand out at this business services\, professional networks and commercial solutions event with a booth designed for visibility\, conversations and results. \nSPOGA+GAFA 2029 attracts business owners\, managers\, buyers\, consultants and commercial decision-makers. Total Concept designs and builds exhibition stands across Europe\, from modular systems to fully custom booth concepts with production\, transport\, installation and dismantling included. \nGet a Free Stand Design Proposal \n\nAbout SPOGA+GAFA 2029\nSPOGA+GAFA 2029 takes place from 15-17 September 2029 at Koelnmesse. The event focuses on business services\, professional networks and commercial solutions\, making it relevant for exhibitors that want to meet qualified visitors and build visibility in their market. \nWho Visits SPOGA+GAFA 2029?\nThe typical audience includes business owners\, managers\, buyers\, consultants and commercial decision-makers. Depending on your offer\, the fair is especially valuable for suppliers active in software\, services\, finance\, advisory\, associations and commercial suppliers. \nYour Exhibition Stand at SPOGA+GAFA 2029\nAt this event\, your stand should make your proposition clear fast and create an approachable space for lead generation. We create exhibition stands that support product presentation\, brand visibility and efficient meetings on the show floor. \n\nCustom Design Stands: Custom booths focused on clarity\, trust and strong first impressions with qualified visitors.\nModular Stands: Clean modular stands that support conversation\, lead capture and efficient event logistics.\nHybrid Solutions: Hybrid concepts that combine modular practicality with stronger custom branding and messaging.\n\nWhy Choose Total Concept?\n\nStrategic Design: We translate your objectives\, target audience and product story into a stand concept that fits the event.\nIn-House Production: Our own workshop handles structure\, finishing\, graphics and practical build quality.\nLogistics & Installation: We coordinate transport\, build-up\, dismantling and on-site follow-up.\nDedicated Project Management: You have one clear point of contact from first briefing to final handover.\n\n\nPlanning to Exhibit at SPOGA+GAFA 2029?\nLet’s create a stand that helps your brand connect with the right visitors at Koelnmesse. \n  ➜ Contact Total Concept
URL:https://totalconcept.be/event/spogagafa-2029/
LOCATION:Koelnmesse\, Germany
CATEGORIES:Beurs,Beursstand,Expo,Trade Fair
END:VEVENT
BEGIN:VEVENT
DTSTART;VALUE=DATE:20300915
DTEND;VALUE=DATE:20300918
DTSTAMP:20260421T195341
CREATED:20260421T114403Z
LAST-MODIFIED:20260421T114403Z
UID:15722-1915660800-1915919999@totalconcept.be
SUMMARY:SPOGA+GAFA 2030
DESCRIPTION:Stand Builder for SPOGA+GAFA 2030\nExhibiting at SPOGA+GAFA 2030? Stand out at this business services\, professional networks and commercial solutions event with a booth designed for visibility\, conversations and results. \nSPOGA+GAFA 2030 attracts business owners\, managers\, buyers\, consultants and commercial decision-makers. Total Concept designs and builds exhibition stands across Europe\, from modular systems to fully custom booth concepts with production\, transport\, installation and dismantling included. \nGet a Free Stand Design Proposal \n\nAbout SPOGA+GAFA 2030\nSPOGA+GAFA 2030 takes place from 15-17 September 2030 at Koelnmesse. The event focuses on business services\, professional networks and commercial solutions\, making it relevant for exhibitors that want to meet qualified visitors and build visibility in their market. \nWho Visits SPOGA+GAFA 2030?\nThe typical audience includes business owners\, managers\, buyers\, consultants and commercial decision-makers. Depending on your offer\, the fair is especially valuable for suppliers active in software\, services\, finance\, advisory\, associations and commercial suppliers. \nYour Exhibition Stand at SPOGA+GAFA 2030\nAt this event\, your stand should make your proposition clear fast and create an approachable space for lead generation. We create exhibition stands that support product presentation\, brand visibility and efficient meetings on the show floor. \n\nCustom Design Stands: Custom booths focused on clarity\, trust and strong first impressions with qualified visitors.\nModular Stands: Clean modular stands that support conversation\, lead capture and efficient event logistics.\nHybrid Solutions: Hybrid concepts that combine modular practicality with stronger custom branding and messaging.\n\nWhy Choose Total Concept?\n\nStrategic Design: We translate your objectives\, target audience and product story into a stand concept that fits the event.\nIn-House Production: Our own workshop handles structure\, finishing\, graphics and practical build quality.\nLogistics & Installation: We coordinate transport\, build-up\, dismantling and on-site follow-up.\nDedicated Project Management: You have one clear point of contact from first briefing to final handover.\n\n\nPlanning to Exhibit at SPOGA+GAFA 2030?\nLet’s create a stand that helps your brand connect with the right visitors at Koelnmesse. \n  ➜ Contact Total Concept
URL:https://totalconcept.be/event/spogagafa-2030/
LOCATION:Koelnmesse\, Germany
CATEGORIES:Beurs,Beursstand,Expo,Trade Fair
END:VEVENT
END:VCALENDAR