BEGIN:VCALENDAR
VERSION:2.0
PRODID:-//total concept - ECPv6.15.17.1//NONSGML v1.0//EN
CALSCALE:GREGORIAN
METHOD:PUBLISH
X-ORIGINAL-URL:https://totalconcept.be
X-WR-CALDESC:Events for total concept
REFRESH-INTERVAL;VALUE=DURATION:PT1H
X-Robots-Tag:noindex
X-PUBLISHED-TTL:PT1H
BEGIN:VTIMEZONE
TZID:Europe/Helsinki
BEGIN:DAYLIGHT
TZOFFSETFROM:+0200
TZOFFSETTO:+0300
TZNAME:EEST
DTSTART:20270328T010000
END:DAYLIGHT
BEGIN:STANDARD
TZOFFSETFROM:+0300
TZOFFSETTO:+0200
TZNAME:EET
DTSTART:20271031T010000
END:STANDARD
BEGIN:DAYLIGHT
TZOFFSETFROM:+0200
TZOFFSETTO:+0300
TZNAME:EEST
DTSTART:20280326T010000
END:DAYLIGHT
BEGIN:STANDARD
TZOFFSETFROM:+0300
TZOFFSETTO:+0200
TZNAME:EET
DTSTART:20281029T010000
END:STANDARD
BEGIN:DAYLIGHT
TZOFFSETFROM:+0200
TZOFFSETTO:+0300
TZNAME:EEST
DTSTART:20290325T010000
END:DAYLIGHT
BEGIN:STANDARD
TZOFFSETFROM:+0300
TZOFFSETTO:+0200
TZNAME:EET
DTSTART:20291028T010000
END:STANDARD
END:VTIMEZONE
BEGIN:VEVENT
DTSTART;VALUE=DATE:20280310
DTEND;VALUE=DATE:20280313
DTSTAMP:20260424T090746
CREATED:20260421T113647Z
LAST-MODIFIED:20260421T113647Z
UID:15603-1836259200-1836518399@totalconcept.be
SUMMARY:SOLAR SOLUTIONS 2028
DESCRIPTION:Stand Builder for SOLAR SOLUTIONS 2028\nExhibiting at SOLAR SOLUTIONS 2028? Stand out at this industrial technology\, manufacturing\, automation and engineering event with a booth designed for visibility\, conversations and results. \nSOLAR SOLUTIONS 2028 attracts plant managers\, engineers\, production teams\, integrators\, buyers and technical decision-makers. Total Concept designs and builds exhibition stands across Europe\, from modular systems to fully custom booth concepts with production\, transport\, installation and dismantling included. \nGet a Free Stand Design Proposal \n\nAbout SOLAR SOLUTIONS 2028\nSOLAR SOLUTIONS 2028 takes place from 10-12 March 2028 at Expo Greater Amsterdam. The event focuses on industrial technology\, manufacturing\, automation and engineering\, making it relevant for exhibitors that want to meet qualified visitors and build visibility in their market. \nWho Visits SOLAR SOLUTIONS 2028?\nThe typical audience includes plant managers\, engineers\, production teams\, integrators\, buyers and technical decision-makers. Depending on your offer\, the fair is especially valuable for suppliers active in machinery\, tooling\, automation systems\, industrial software\, components and specialist services. \nYour Exhibition Stand at SOLAR SOLUTIONS 2028\nAt this event\, your stand should show technical value\, give products enough presence and support focused discussions with engineers and buyers. We create exhibition stands that support product presentation\, brand visibility and efficient meetings on the show floor. \n\nCustom Design Stands: Stand concepts with strong product visibility\, demo-friendly layouts and space for technical conversations.\nModular Stands: Efficient modular booths that organise products\, graphics and meeting points in a clean industrial format.\nHybrid Solutions: Hybrid builds that combine reusable structure with custom product displays and engineering-focused branding.\n\nWhy Choose Total Concept?\n\nStrategic Design: We translate your objectives\, target audience and product story into a stand concept that fits the event.\nIn-House Production: Our own workshop handles structure\, finishing\, graphics and practical build quality.\nLogistics & Installation: We coordinate transport\, build-up\, dismantling and on-site follow-up.\nDedicated Project Management: You have one clear point of contact from first briefing to final handover.\n\n\nPlanning to Exhibit at SOLAR SOLUTIONS 2028?\nLet’s create a stand that helps your brand connect with the right visitors at Expo Greater Amsterdam. \n  ➜ Contact Total Concept
URL:https://totalconcept.be/event/solar-solutions-2028/
LOCATION:Expo Greater Amsterdam
CATEGORIES:Beurs,Beursstand,Expo,Trade Fair
END:VEVENT
END:VCALENDAR