BEGIN:VCALENDAR
VERSION:2.0
PRODID:-//total concept - ECPv6.15.17.1//NONSGML v1.0//EN
CALSCALE:GREGORIAN
METHOD:PUBLISH
X-ORIGINAL-URL:https://totalconcept.be
X-WR-CALDESC:Events for total concept
REFRESH-INTERVAL;VALUE=DURATION:PT1H
X-Robots-Tag:noindex
X-PUBLISHED-TTL:PT1H
BEGIN:VTIMEZONE
TZID:Europe/Helsinki
BEGIN:DAYLIGHT
TZOFFSETFROM:+0200
TZOFFSETTO:+0300
TZNAME:EEST
DTSTART:20260329T010000
END:DAYLIGHT
BEGIN:STANDARD
TZOFFSETFROM:+0300
TZOFFSETTO:+0200
TZNAME:EET
DTSTART:20261025T010000
END:STANDARD
BEGIN:DAYLIGHT
TZOFFSETFROM:+0200
TZOFFSETTO:+0300
TZNAME:EEST
DTSTART:20270328T010000
END:DAYLIGHT
BEGIN:STANDARD
TZOFFSETFROM:+0300
TZOFFSETTO:+0200
TZNAME:EET
DTSTART:20271031T010000
END:STANDARD
BEGIN:DAYLIGHT
TZOFFSETFROM:+0200
TZOFFSETTO:+0300
TZNAME:EEST
DTSTART:20280326T010000
END:DAYLIGHT
BEGIN:STANDARD
TZOFFSETFROM:+0300
TZOFFSETTO:+0200
TZNAME:EET
DTSTART:20281029T010000
END:STANDARD
END:VTIMEZONE
BEGIN:VEVENT
DTSTART;VALUE=DATE:20270218
DTEND;VALUE=DATE:20270220
DTSTAMP:20260422T112711
CREATED:20260421T112417Z
LAST-MODIFIED:20260421T112417Z
UID:15355-1802908800-1803081599@totalconcept.be
SUMMARY:SETT WALLONIË (NAMUR) 2027
DESCRIPTION:Stand Builder for SETT WALLONIË (NAMUR) 2027\nExhibiting at SETT WALLONIË (NAMUR) 2027? Stand out at this business services\, professional networks and commercial solutions event with a booth designed for visibility\, conversations and results. \nSETT WALLONIË (NAMUR) 2027 attracts business owners\, managers\, buyers\, consultants and commercial decision-makers. Total Concept designs and builds exhibition stands across Europe\, from modular systems to fully custom booth concepts with production\, transport\, installation and dismantling included. \nGet a Free Stand Design Proposal \n\nAbout SETT WALLONIË (NAMUR) 2027\nSETT WALLONIË (NAMUR) 2027 takes place from 18-19 February 2027 at Namur Expo. The event focuses on business services\, professional networks and commercial solutions\, making it relevant for exhibitors that want to meet qualified visitors and build visibility in their market. \nWho Visits SETT WALLONIË (NAMUR) 2027?\nThe typical audience includes business owners\, managers\, buyers\, consultants and commercial decision-makers. Depending on your offer\, the fair is especially valuable for suppliers active in software\, services\, finance\, advisory\, associations and commercial suppliers. \nYour Exhibition Stand at SETT WALLONIË (NAMUR) 2027\nAt this event\, your stand should make your proposition clear fast and create an approachable space for lead generation. We create exhibition stands that support product presentation\, brand visibility and efficient meetings on the show floor. \n\nCustom Design Stands: Custom booths focused on clarity\, trust and strong first impressions with qualified visitors.\nModular Stands: Clean modular stands that support conversation\, lead capture and efficient event logistics.\nHybrid Solutions: Hybrid concepts that combine modular practicality with stronger custom branding and messaging.\n\nWhy Choose Total Concept?\n\nStrategic Design: We translate your objectives\, target audience and product story into a stand concept that fits the event.\nIn-House Production: Our own workshop handles structure\, finishing\, graphics and practical build quality.\nLogistics & Installation: We coordinate transport\, build-up\, dismantling and on-site follow-up.\nDedicated Project Management: You have one clear point of contact from first briefing to final handover.\n\n\nPlanning to Exhibit at SETT WALLONIË (NAMUR) 2027?\nLet’s create a stand that helps your brand connect with the right visitors at Namur Expo. \n  ➜ Contact Total Concept
URL:https://totalconcept.be/event/sett-wallonie-namur-2027/
LOCATION:Namur Expo
CATEGORIES:Beurs,Beursstand,Expo,Trade Fair
END:VEVENT
END:VCALENDAR