BEGIN:VCALENDAR
VERSION:2.0
PRODID:-//total concept - ECPv6.15.17.1//NONSGML v1.0//EN
CALSCALE:GREGORIAN
METHOD:PUBLISH
X-WR-CALNAME:total concept
X-ORIGINAL-URL:https://totalconcept.be
X-WR-CALDESC:Events for total concept
REFRESH-INTERVAL;VALUE=DURATION:PT1H
X-Robots-Tag:noindex
X-PUBLISHED-TTL:PT1H
BEGIN:VTIMEZONE
TZID:Europe/Helsinki
BEGIN:DAYLIGHT
TZOFFSETFROM:+0200
TZOFFSETTO:+0300
TZNAME:EEST
DTSTART:20250330T010000
END:DAYLIGHT
BEGIN:STANDARD
TZOFFSETFROM:+0300
TZOFFSETTO:+0200
TZNAME:EET
DTSTART:20251026T010000
END:STANDARD
BEGIN:DAYLIGHT
TZOFFSETFROM:+0200
TZOFFSETTO:+0300
TZNAME:EEST
DTSTART:20260329T010000
END:DAYLIGHT
BEGIN:STANDARD
TZOFFSETFROM:+0300
TZOFFSETTO:+0200
TZNAME:EET
DTSTART:20261025T010000
END:STANDARD
BEGIN:DAYLIGHT
TZOFFSETFROM:+0200
TZOFFSETTO:+0300
TZNAME:EEST
DTSTART:20270328T010000
END:DAYLIGHT
BEGIN:STANDARD
TZOFFSETFROM:+0300
TZOFFSETTO:+0200
TZNAME:EET
DTSTART:20271031T010000
END:STANDARD
BEGIN:DAYLIGHT
TZOFFSETFROM:+0200
TZOFFSETTO:+0300
TZNAME:EEST
DTSTART:20280326T010000
END:DAYLIGHT
BEGIN:STANDARD
TZOFFSETFROM:+0300
TZOFFSETTO:+0200
TZNAME:EET
DTSTART:20281029T010000
END:STANDARD
BEGIN:DAYLIGHT
TZOFFSETFROM:+0200
TZOFFSETTO:+0300
TZNAME:EEST
DTSTART:20290325T010000
END:DAYLIGHT
BEGIN:STANDARD
TZOFFSETFROM:+0300
TZOFFSETTO:+0200
TZNAME:EET
DTSTART:20291028T010000
END:STANDARD
END:VTIMEZONE
BEGIN:VEVENT
DTSTART;VALUE=DATE:20260421
DTEND;VALUE=DATE:20260424
DTSTAMP:20260422T033939
CREATED:20251006T194523Z
LAST-MODIFIED:20260421T110242Z
UID:13011-1776729600-1776988799@totalconcept.be
SUMMARY:SEAFOOD EXPO GLOBAL 2026
DESCRIPTION:Stand Builder for SEAFOOD EXPO GLOBAL 2026\nExhibiting at SEAFOOD EXPO GLOBAL 2026? Stand out at this food\, beverage\, hospitality and foodservice event with a booth designed for visibility\, conversations and results. \nSEAFOOD EXPO GLOBAL 2026 attracts retail buyers\, distributors\, chefs\, restaurateurs\, hotel managers and foodservice decision-makers. Total Concept designs and builds exhibition stands across Europe\, from modular systems to fully custom booth concepts with production\, transport\, installation and dismantling included. \nGet a Free Stand Design Proposal \n\nAbout SEAFOOD EXPO GLOBAL 2026\nSEAFOOD EXPO GLOBAL 2026 takes place from 21-23 April 2026 at Fira Barcelona. The event focuses on food\, beverage\, hospitality and foodservice\, making it relevant for exhibitors that want to meet qualified visitors and build visibility in their market. \nWho Visits SEAFOOD EXPO GLOBAL 2026?\nThe typical audience includes retail buyers\, distributors\, chefs\, restaurateurs\, hotel managers and foodservice decision-makers. Depending on your offer\, the fair is especially valuable for suppliers active in food brands\, beverage producers\, kitchen equipment suppliers\, hospitality services and food packaging specialists. \nYour Exhibition Stand at SEAFOOD EXPO GLOBAL 2026\nAt this event\, your stand should support tastings\, brand discovery and efficient conversations with buyers in a busy\, experience-led environment. We create exhibition stands that support product presentation\, brand visibility and efficient meetings on the show floor. \n\nCustom Design Stands: Custom booth concepts with strong brand atmosphere\, tasting points and practical hospitality flow.\nModular Stands: Reusable systems that keep product sampling\, storage and visitor flow organised and professional.\nHybrid Solutions: Hybrid stands that combine efficient structure with custom counters\, visuals and sampling zones.\n\nWhy Choose Total Concept?\n\nStrategic Design: We translate your objectives\, target audience and product story into a stand concept that fits the event.\nIn-House Production: Our own workshop handles structure\, finishing\, graphics and practical build quality.\nLogistics & Installation: We coordinate transport\, build-up\, dismantling and on-site follow-up.\nDedicated Project Management: You have one clear point of contact from first briefing to final handover.\n\n\nPlanning to Exhibit at SEAFOOD EXPO GLOBAL 2026?\nLet’s create a stand that helps your brand connect with the right visitors at Fira Barcelona. \n  ➜ Contact Total Concept
URL:https://totalconcept.be/event/seafood-expo-global-2026/
LOCATION:Fira Barcelona\, Spain
CATEGORIES:Beurs,Beursstand,Expo,Trade Fair
END:VEVENT
BEGIN:VEVENT
DTSTART;VALUE=DATE:20270421
DTEND;VALUE=DATE:20270424
DTSTAMP:20260422T033939
CREATED:20260421T112817Z
LAST-MODIFIED:20260421T112817Z
UID:15435-1808265600-1808524799@totalconcept.be
SUMMARY:SEAFOOD EXPO GLOBAL 2027
DESCRIPTION:Stand Builder for SEAFOOD EXPO GLOBAL 2027\nExhibiting at SEAFOOD EXPO GLOBAL 2027? Stand out at this food\, beverage\, hospitality and foodservice event with a booth designed for visibility\, conversations and results. \nSEAFOOD EXPO GLOBAL 2027 attracts retail buyers\, distributors\, chefs\, restaurateurs\, hotel managers and foodservice decision-makers. Total Concept designs and builds exhibition stands across Europe\, from modular systems to fully custom booth concepts with production\, transport\, installation and dismantling included. \nGet a Free Stand Design Proposal \n\nAbout SEAFOOD EXPO GLOBAL 2027\nSEAFOOD EXPO GLOBAL 2027 takes place from 21-23 April 2027 at Fira Barcelona. The event focuses on food\, beverage\, hospitality and foodservice\, making it relevant for exhibitors that want to meet qualified visitors and build visibility in their market. \nWho Visits SEAFOOD EXPO GLOBAL 2027?\nThe typical audience includes retail buyers\, distributors\, chefs\, restaurateurs\, hotel managers and foodservice decision-makers. Depending on your offer\, the fair is especially valuable for suppliers active in food brands\, beverage producers\, kitchen equipment suppliers\, hospitality services and food packaging specialists. \nYour Exhibition Stand at SEAFOOD EXPO GLOBAL 2027\nAt this event\, your stand should support tastings\, brand discovery and efficient conversations with buyers in a busy\, experience-led environment. We create exhibition stands that support product presentation\, brand visibility and efficient meetings on the show floor. \n\nCustom Design Stands: Custom booth concepts with strong brand atmosphere\, tasting points and practical hospitality flow.\nModular Stands: Reusable systems that keep product sampling\, storage and visitor flow organised and professional.\nHybrid Solutions: Hybrid stands that combine efficient structure with custom counters\, visuals and sampling zones.\n\nWhy Choose Total Concept?\n\nStrategic Design: We translate your objectives\, target audience and product story into a stand concept that fits the event.\nIn-House Production: Our own workshop handles structure\, finishing\, graphics and practical build quality.\nLogistics & Installation: We coordinate transport\, build-up\, dismantling and on-site follow-up.\nDedicated Project Management: You have one clear point of contact from first briefing to final handover.\n\n\nPlanning to Exhibit at SEAFOOD EXPO GLOBAL 2027?\nLet’s create a stand that helps your brand connect with the right visitors at Fira Barcelona. \n  ➜ Contact Total Concept
URL:https://totalconcept.be/event/seafood-expo-global-2027/
LOCATION:Fira Barcelona\, Spain
CATEGORIES:Beurs,Beursstand,Expo,Trade Fair
END:VEVENT
BEGIN:VEVENT
DTSTART;VALUE=DATE:20280421
DTEND;VALUE=DATE:20280424
DTSTAMP:20260422T033939
CREATED:20260421T113802Z
LAST-MODIFIED:20260421T113802Z
UID:15628-1839888000-1840147199@totalconcept.be
SUMMARY:SEAFOOD EXPO GLOBAL 2028
DESCRIPTION:Stand Builder for SEAFOOD EXPO GLOBAL 2028\nExhibiting at SEAFOOD EXPO GLOBAL 2028? Stand out at this food\, beverage\, hospitality and foodservice event with a booth designed for visibility\, conversations and results. \nSEAFOOD EXPO GLOBAL 2028 attracts retail buyers\, distributors\, chefs\, restaurateurs\, hotel managers and foodservice decision-makers. Total Concept designs and builds exhibition stands across Europe\, from modular systems to fully custom booth concepts with production\, transport\, installation and dismantling included. \nGet a Free Stand Design Proposal \n\nAbout SEAFOOD EXPO GLOBAL 2028\nSEAFOOD EXPO GLOBAL 2028 takes place from 21-23 April 2028 at Fira Barcelona. The event focuses on food\, beverage\, hospitality and foodservice\, making it relevant for exhibitors that want to meet qualified visitors and build visibility in their market. \nWho Visits SEAFOOD EXPO GLOBAL 2028?\nThe typical audience includes retail buyers\, distributors\, chefs\, restaurateurs\, hotel managers and foodservice decision-makers. Depending on your offer\, the fair is especially valuable for suppliers active in food brands\, beverage producers\, kitchen equipment suppliers\, hospitality services and food packaging specialists. \nYour Exhibition Stand at SEAFOOD EXPO GLOBAL 2028\nAt this event\, your stand should support tastings\, brand discovery and efficient conversations with buyers in a busy\, experience-led environment. We create exhibition stands that support product presentation\, brand visibility and efficient meetings on the show floor. \n\nCustom Design Stands: Custom booth concepts with strong brand atmosphere\, tasting points and practical hospitality flow.\nModular Stands: Reusable systems that keep product sampling\, storage and visitor flow organised and professional.\nHybrid Solutions: Hybrid stands that combine efficient structure with custom counters\, visuals and sampling zones.\n\nWhy Choose Total Concept?\n\nStrategic Design: We translate your objectives\, target audience and product story into a stand concept that fits the event.\nIn-House Production: Our own workshop handles structure\, finishing\, graphics and practical build quality.\nLogistics & Installation: We coordinate transport\, build-up\, dismantling and on-site follow-up.\nDedicated Project Management: You have one clear point of contact from first briefing to final handover.\n\n\nPlanning to Exhibit at SEAFOOD EXPO GLOBAL 2028?\nLet’s create a stand that helps your brand connect with the right visitors at Fira Barcelona. \n  ➜ Contact Total Concept
URL:https://totalconcept.be/event/seafood-expo-global-2028/
LOCATION:Fira Barcelona\, Spain
CATEGORIES:Beurs,Beursstand,Expo,Trade Fair
END:VEVENT
END:VCALENDAR