BEGIN:VCALENDAR
VERSION:2.0
PRODID:-//total concept - ECPv6.15.17.1//NONSGML v1.0//EN
CALSCALE:GREGORIAN
METHOD:PUBLISH
X-WR-CALNAME:total concept
X-ORIGINAL-URL:https://totalconcept.be
X-WR-CALDESC:Events for total concept
REFRESH-INTERVAL;VALUE=DURATION:PT1H
X-Robots-Tag:noindex
X-PUBLISHED-TTL:PT1H
BEGIN:VTIMEZONE
TZID:Europe/Helsinki
BEGIN:DAYLIGHT
TZOFFSETFROM:+0200
TZOFFSETTO:+0300
TZNAME:EEST
DTSTART:20290325T010000
END:DAYLIGHT
BEGIN:STANDARD
TZOFFSETFROM:+0300
TZOFFSETTO:+0200
TZNAME:EET
DTSTART:20291028T010000
END:STANDARD
BEGIN:DAYLIGHT
TZOFFSETFROM:+0200
TZOFFSETTO:+0300
TZNAME:EEST
DTSTART:20300331T010000
END:DAYLIGHT
BEGIN:STANDARD
TZOFFSETFROM:+0300
TZOFFSETTO:+0200
TZNAME:EET
DTSTART:20301027T010000
END:STANDARD
BEGIN:DAYLIGHT
TZOFFSETFROM:+0200
TZOFFSETTO:+0300
TZNAME:EEST
DTSTART:20310330T010000
END:DAYLIGHT
BEGIN:STANDARD
TZOFFSETFROM:+0300
TZOFFSETTO:+0200
TZNAME:EET
DTSTART:20311026T010000
END:STANDARD
END:VTIMEZONE
BEGIN:VEVENT
DTSTART;VALUE=DATE:20301017
DTEND;VALUE=DATE:20301022
DTSTAMP:20260422T014946
CREATED:20260421T114404Z
LAST-MODIFIED:20260421T114404Z
UID:15724-1918425600-1918857599@totalconcept.be
SUMMARY:PROWOOD 2030
DESCRIPTION:Stand Builder for PROWOOD 2030\nExhibiting at PROWOOD 2030? Stand out at this business services\, professional networks and commercial solutions event with a booth designed for visibility\, conversations and results. \nPROWOOD 2030 attracts business owners\, managers\, buyers\, consultants and commercial decision-makers. Total Concept designs and builds exhibition stands across Europe\, from modular systems to fully custom booth concepts with production\, transport\, installation and dismantling included. \nGet a Free Stand Design Proposal \n\nAbout PROWOOD 2030\nPROWOOD 2030 takes place from 17-21 October 2030 at Flanders Expo. The event focuses on business services\, professional networks and commercial solutions\, making it relevant for exhibitors that want to meet qualified visitors and build visibility in their market. \nWho Visits PROWOOD 2030?\nThe typical audience includes business owners\, managers\, buyers\, consultants and commercial decision-makers. Depending on your offer\, the fair is especially valuable for suppliers active in software\, services\, finance\, advisory\, associations and commercial suppliers. \nYour Exhibition Stand at PROWOOD 2030\nAt this event\, your stand should make your proposition clear fast and create an approachable space for lead generation. We create exhibition stands that support product presentation\, brand visibility and efficient meetings on the show floor. \n\nCustom Design Stands: Custom booths focused on clarity\, trust and strong first impressions with qualified visitors.\nModular Stands: Clean modular stands that support conversation\, lead capture and efficient event logistics.\nHybrid Solutions: Hybrid concepts that combine modular practicality with stronger custom branding and messaging.\n\nWhy Choose Total Concept?\n\nStrategic Design: We translate your objectives\, target audience and product story into a stand concept that fits the event.\nIn-House Production: Our own workshop handles structure\, finishing\, graphics and practical build quality.\nLogistics & Installation: We coordinate transport\, build-up\, dismantling and on-site follow-up.\nDedicated Project Management: You have one clear point of contact from first briefing to final handover.\n\n\nPlanning to Exhibit at PROWOOD 2030?\nLet’s create a stand that helps your brand connect with the right visitors at Flanders Expo. \n  ➜ Contact Total Concept
URL:https://totalconcept.be/event/prowood-2030/
LOCATION:Flanders Expo\, Belgium
CATEGORIES:Beurs,Beursstand,Expo,Trade Fair
END:VEVENT
END:VCALENDAR