BEGIN:VCALENDAR
VERSION:2.0
PRODID:-//total concept - ECPv6.15.17.1//NONSGML v1.0//EN
CALSCALE:GREGORIAN
METHOD:PUBLISH
X-WR-CALNAME:total concept
X-ORIGINAL-URL:https://totalconcept.be
X-WR-CALDESC:Events for total concept
REFRESH-INTERVAL;VALUE=DURATION:PT1H
X-Robots-Tag:noindex
X-PUBLISHED-TTL:PT1H
BEGIN:VTIMEZONE
TZID:Europe/Helsinki
BEGIN:DAYLIGHT
TZOFFSETFROM:+0200
TZOFFSETTO:+0300
TZNAME:EEST
DTSTART:20250330T010000
END:DAYLIGHT
BEGIN:STANDARD
TZOFFSETFROM:+0300
TZOFFSETTO:+0200
TZNAME:EET
DTSTART:20251026T010000
END:STANDARD
BEGIN:DAYLIGHT
TZOFFSETFROM:+0200
TZOFFSETTO:+0300
TZNAME:EEST
DTSTART:20260329T010000
END:DAYLIGHT
BEGIN:STANDARD
TZOFFSETFROM:+0300
TZOFFSETTO:+0200
TZNAME:EET
DTSTART:20261025T010000
END:STANDARD
BEGIN:DAYLIGHT
TZOFFSETFROM:+0200
TZOFFSETTO:+0300
TZNAME:EEST
DTSTART:20270328T010000
END:DAYLIGHT
BEGIN:STANDARD
TZOFFSETFROM:+0300
TZOFFSETTO:+0200
TZNAME:EET
DTSTART:20271031T010000
END:STANDARD
END:VTIMEZONE
BEGIN:VEVENT
DTSTART;VALUE=DATE:20260623
DTEND;VALUE=DATE:20260626
DTSTAMP:20260422T023108
CREATED:20260421T110916Z
LAST-MODIFIED:20260421T110916Z
UID:15041-1782172800-1782431999@totalconcept.be
SUMMARY:INTERSOLAR EUROPE 2026
DESCRIPTION:Stand Builder for INTERSOLAR EUROPE 2026\nExhibiting at INTERSOLAR EUROPE 2026? Stand out at this energy\, utilities\, water technology and sustainability event with a booth designed for visibility\, conversations and results. \nINTERSOLAR EUROPE 2026 attracts utilities\, EPC contractors\, engineers\, municipalities\, facility managers and sustainability buyers. Total Concept designs and builds exhibition stands across Europe\, from modular systems to fully custom booth concepts with production\, transport\, installation and dismantling included. \nGet a Free Stand Design Proposal \n\nAbout INTERSOLAR EUROPE 2026\nINTERSOLAR EUROPE 2026 takes place from 23-25 June 2026 at Messe München. The event focuses on energy\, utilities\, water technology and sustainability\, making it relevant for exhibitors that want to meet qualified visitors and build visibility in their market. \nWho Visits INTERSOLAR EUROPE 2026?\nThe typical audience includes utilities\, EPC contractors\, engineers\, municipalities\, facility managers and sustainability buyers. Depending on your offer\, the fair is especially valuable for suppliers active in renewable energy solutions\, water systems\, HVAC technology\, monitoring platforms and technical services. \nYour Exhibition Stand at INTERSOLAR EUROPE 2026\nAt this event\, your stand should combine technical credibility with clear messaging and enough space for project-based discussions. We create exhibition stands that support product presentation\, brand visibility and efficient meetings on the show floor. \n\nCustom Design Stands: Custom stand designs that communicate innovation\, references and system benefits with clarity.\nModular Stands: Reusable modular stands that stay practical while maintaining a strong professional look.\nHybrid Solutions: Hybrid concepts that combine modular efficiency with custom visuals\, demos and technical storytelling.\n\nWhy Choose Total Concept?\n\nStrategic Design: We translate your objectives\, target audience and product story into a stand concept that fits the event.\nIn-House Production: Our own workshop handles structure\, finishing\, graphics and practical build quality.\nLogistics & Installation: We coordinate transport\, build-up\, dismantling and on-site follow-up.\nDedicated Project Management: You have one clear point of contact from first briefing to final handover.\n\n\nPlanning to Exhibit at INTERSOLAR EUROPE 2026?\nLet’s create a stand that helps your brand connect with the right visitors at Messe München. \n  ➜ Contact Total Concept
URL:https://totalconcept.be/event/intersolar-europe-2026/
LOCATION:Messe München\, Germany
CATEGORIES:Beurs,Beursstand,Expo,Trade Fair
END:VEVENT
END:VCALENDAR