BEGIN:VCALENDAR
VERSION:2.0
PRODID:-//total concept - ECPv6.15.17.1//NONSGML v1.0//EN
CALSCALE:GREGORIAN
METHOD:PUBLISH
X-WR-CALNAME:total concept
X-ORIGINAL-URL:https://totalconcept.be
X-WR-CALDESC:Events for total concept
REFRESH-INTERVAL;VALUE=DURATION:PT1H
X-Robots-Tag:noindex
X-PUBLISHED-TTL:PT1H
BEGIN:VTIMEZONE
TZID:Europe/Helsinki
BEGIN:DAYLIGHT
TZOFFSETFROM:+0200
TZOFFSETTO:+0300
TZNAME:EEST
DTSTART:20250330T010000
END:DAYLIGHT
BEGIN:STANDARD
TZOFFSETFROM:+0300
TZOFFSETTO:+0200
TZNAME:EET
DTSTART:20251026T010000
END:STANDARD
BEGIN:DAYLIGHT
TZOFFSETFROM:+0200
TZOFFSETTO:+0300
TZNAME:EEST
DTSTART:20260329T010000
END:DAYLIGHT
BEGIN:STANDARD
TZOFFSETFROM:+0300
TZOFFSETTO:+0200
TZNAME:EET
DTSTART:20261025T010000
END:STANDARD
BEGIN:DAYLIGHT
TZOFFSETFROM:+0200
TZOFFSETTO:+0300
TZNAME:EEST
DTSTART:20270328T010000
END:DAYLIGHT
BEGIN:STANDARD
TZOFFSETFROM:+0300
TZOFFSETTO:+0200
TZNAME:EET
DTSTART:20271031T010000
END:STANDARD
BEGIN:DAYLIGHT
TZOFFSETFROM:+0200
TZOFFSETTO:+0300
TZNAME:EEST
DTSTART:20280326T010000
END:DAYLIGHT
BEGIN:STANDARD
TZOFFSETFROM:+0300
TZOFFSETTO:+0200
TZNAME:EET
DTSTART:20281029T010000
END:STANDARD
BEGIN:DAYLIGHT
TZOFFSETFROM:+0200
TZOFFSETTO:+0300
TZNAME:EEST
DTSTART:20290325T010000
END:DAYLIGHT
BEGIN:STANDARD
TZOFFSETFROM:+0300
TZOFFSETTO:+0200
TZNAME:EET
DTSTART:20291028T010000
END:STANDARD
BEGIN:DAYLIGHT
TZOFFSETFROM:+0200
TZOFFSETTO:+0300
TZNAME:EEST
DTSTART:20300331T010000
END:DAYLIGHT
BEGIN:STANDARD
TZOFFSETFROM:+0300
TZOFFSETTO:+0200
TZNAME:EET
DTSTART:20301027T010000
END:STANDARD
BEGIN:DAYLIGHT
TZOFFSETFROM:+0200
TZOFFSETTO:+0300
TZNAME:EEST
DTSTART:20310330T010000
END:DAYLIGHT
BEGIN:STANDARD
TZOFFSETFROM:+0300
TZOFFSETTO:+0200
TZNAME:EET
DTSTART:20311026T010000
END:STANDARD
BEGIN:DAYLIGHT
TZOFFSETFROM:+0200
TZOFFSETTO:+0300
TZNAME:EEST
DTSTART:20320328T010000
END:DAYLIGHT
BEGIN:STANDARD
TZOFFSETFROM:+0300
TZOFFSETTO:+0200
TZNAME:EET
DTSTART:20321031T010000
END:STANDARD
END:VTIMEZONE
BEGIN:VEVENT
DTSTART;VALUE=DATE:20260601
DTEND;VALUE=DATE:20260607
DTSTAMP:20260424T111537
CREATED:20260418T070850Z
LAST-MODIFIED:20260421T110601Z
UID:14256-1780272000-1780790399@totalconcept.be
SUMMARY:INTERSCHUTZ 2026
DESCRIPTION:Stand Builder for INTERSCHUTZ 2026\nExhibiting at INTERSCHUTZ 2026? Stand out at this workplace safety\, occupational health\, PPE and emergency response event with a booth designed for visibility\, conversations and results. \nINTERSCHUTZ 2026 attracts HSE managers\, safety officers\, procurement teams\, distributors\, public safety professionals and industrial decision-makers. Total Concept designs and builds exhibition stands across Europe\, from modular systems to fully custom booth concepts with production\, transport\, installation and dismantling included. \nGet a Free Stand Design Proposal \n\nAbout INTERSCHUTZ 2026\nINTERSCHUTZ 2026 takes place from 1-6 June 2026 at Messe Hannover. The event focuses on workplace safety\, occupational health\, PPE and emergency response\, making it relevant for exhibitors that want to meet qualified visitors and build visibility in their market. \nWho Visits INTERSCHUTZ 2026?\nThe typical audience includes HSE managers\, safety officers\, procurement teams\, distributors\, public safety professionals and industrial decision-makers. Depending on your offer\, the fair is especially valuable for suppliers active in PPE brands\, detection systems\, rescue equipment\, training providers\, fire protection solutions and compliance services. \nYour Exhibition Stand at INTERSCHUTZ 2026\nAt this event\, your stand should support product demonstrations\, explain technical features clearly and create trust with professional buyers. We create exhibition stands that support product presentation\, brand visibility and efficient meetings on the show floor. \n\nCustom Design Stands: Custom booth concepts built around product demos\, certification messaging and practical buyer conversations.\nModular Stands: Reusable stand systems with clear zoning for products\, presentations and lead capture.\nHybrid Solutions: Hybrid solutions that combine efficiency with custom demo areas and strong branded visibility.\n\nWhy Choose Total Concept?\n\nStrategic Design: We translate your objectives\, target audience and product story into a stand concept that fits the event.\nIn-House Production: Our own workshop handles structure\, finishing\, graphics and practical build quality.\nLogistics & Installation: We coordinate transport\, build-up\, dismantling and on-site follow-up.\nDedicated Project Management: You have one clear point of contact from first briefing to final handover.\n\n\nPlanning to Exhibit at INTERSCHUTZ 2026?\nLet’s create a stand that helps your brand connect with the right visitors at Messe Hannover. \n  ➜ Contact Total Concept
URL:https://totalconcept.be/event/interschutz-2026-2/
LOCATION:Messe Hannover\, Germany
CATEGORIES:Beurs,Beursstand,Expo,Trade Fair
END:VEVENT
BEGIN:VEVENT
DTSTART;VALUE=DATE:20310601
DTEND;VALUE=DATE:20310607
DTSTAMP:20260424T111537
CREATED:20260421T114404Z
LAST-MODIFIED:20260422T050544Z
UID:15725-1938038400-1938556799@totalconcept.be
SUMMARY:INTERSCHUTZ 2031
DESCRIPTION:Stand Builder for INTERSCHUTZ 2031\nExhibiting at INTERSCHUTZ 2031? Stand out at this workplace safety\, occupational health\, PPE and emergency response event with a booth designed for visibility\, conversations and results. \nINTERSCHUTZ 2031 attracts HSE managers\, safety officers\, procurement teams\, distributors\, public safety professionals and industrial decision-makers. Total Concept designs and builds exhibition stands across Europe\, from modular systems to fully custom booth concepts with production\, transport\, installation and dismantling included. \nGet a Free Stand Design Proposal \n\nAbout INTERSCHUTZ 2031\nINTERSCHUTZ 2031 takes place from 1-6 June 2031 at Messe Hannover. The event focuses on workplace safety\, occupational health\, PPE and emergency response\, making it relevant for exhibitors that want to meet qualified visitors and build visibility in their market. \nWho Visits INTERSCHUTZ 2031?\nThe typical audience includes HSE managers\, safety officers\, procurement teams\, distributors\, public safety professionals and industrial decision-makers. Depending on your offer\, the fair is especially valuable for suppliers active in PPE brands\, detection systems\, rescue equipment\, training providers\, fire protection solutions and compliance services. \nYour Exhibition Stand at INTERSCHUTZ 2031\nAt this event\, your stand should support product demonstrations\, explain technical features clearly and create trust with professional buyers. We create exhibition stands that support product presentation\, brand visibility and efficient meetings on the show floor. \n\nCustom Design Stands: Custom booth concepts built around product demos\, certification messaging and practical buyer conversations.\nModular Stands: Reusable stand systems with clear zoning for products\, presentations and lead capture.\nHybrid Solutions: Hybrid solutions that combine efficiency with custom demo areas and strong branded visibility.\n\nWhy Choose Total Concept?\n\nStrategic Design: We translate your objectives\, target audience and product story into a stand concept that fits the event.\nIn-House Production: Our own workshop handles structure\, finishing\, graphics and practical build quality.\nLogistics & Installation: We coordinate transport\, build-up\, dismantling and on-site follow-up.\nDedicated Project Management: You have one clear point of contact from first briefing to final handover.\n\n\nPlanning to Exhibit at INTERSCHUTZ 2031?\nLet’s create a stand that helps your brand connect with the right visitors at Messe Hannover. \n  ➜ Contact Total Concept
URL:https://totalconcept.be/event/interschutz-2031/
LOCATION:Messe Hannover\, Germany
CATEGORIES:Beurs,Beursstand,Expo,Trade Fair
END:VEVENT
END:VCALENDAR