BEGIN:VCALENDAR
VERSION:2.0
PRODID:-//total concept - ECPv6.15.17.1//NONSGML v1.0//EN
CALSCALE:GREGORIAN
METHOD:PUBLISH
X-ORIGINAL-URL:https://totalconcept.be
X-WR-CALDESC:Events for total concept
REFRESH-INTERVAL;VALUE=DURATION:PT1H
X-Robots-Tag:noindex
X-PUBLISHED-TTL:PT1H
BEGIN:VTIMEZONE
TZID:Europe/Helsinki
BEGIN:DAYLIGHT
TZOFFSETFROM:+0200
TZOFFSETTO:+0300
TZNAME:EEST
DTSTART:20260329T010000
END:DAYLIGHT
BEGIN:STANDARD
TZOFFSETFROM:+0300
TZOFFSETTO:+0200
TZNAME:EET
DTSTART:20261025T010000
END:STANDARD
BEGIN:DAYLIGHT
TZOFFSETFROM:+0200
TZOFFSETTO:+0300
TZNAME:EEST
DTSTART:20270328T010000
END:DAYLIGHT
BEGIN:STANDARD
TZOFFSETFROM:+0300
TZOFFSETTO:+0200
TZNAME:EET
DTSTART:20271031T010000
END:STANDARD
BEGIN:DAYLIGHT
TZOFFSETFROM:+0200
TZOFFSETTO:+0300
TZNAME:EEST
DTSTART:20280326T010000
END:DAYLIGHT
BEGIN:STANDARD
TZOFFSETFROM:+0300
TZOFFSETTO:+0200
TZNAME:EET
DTSTART:20281029T010000
END:STANDARD
END:VTIMEZONE
BEGIN:VEVENT
DTSTART;VALUE=DATE:20270316
DTEND;VALUE=DATE:20270321
DTSTAMP:20260422T050644
CREATED:20260421T112602Z
LAST-MODIFIED:20260421T112602Z
UID:15390-1805155200-1805587199@totalconcept.be
SUMMARY:IDS 2027
DESCRIPTION:Stand Builder for IDS 2027\nExhibiting at IDS 2027? Stand out at this healthcare\, medical technology and care solutions event with a booth designed for visibility\, conversations and results. \nIDS 2027 attracts clinicians\, hospital buyers\, practice owners\, distributors\, care managers and healthcare decision-makers. Total Concept designs and builds exhibition stands across Europe\, from modular systems to fully custom booth concepts with production\, transport\, installation and dismantling included. \nGet a Free Stand Design Proposal \n\nAbout IDS 2027\nIDS 2027 takes place from 16-20 March 2027 at Koelnmesse. The event focuses on healthcare\, medical technology and care solutions\, making it relevant for exhibitors that want to meet qualified visitors and build visibility in their market. \nWho Visits IDS 2027?\nThe typical audience includes clinicians\, hospital buyers\, practice owners\, distributors\, care managers and healthcare decision-makers. Depending on your offer\, the fair is especially valuable for suppliers active in medical devices\, dental equipment\, diagnostics\, care technology\, software and healthcare services. \nYour Exhibition Stand at IDS 2027\nAt this event\, your stand should create trust\, support live explanations and give visitors a calm space for professional discussions. We create exhibition stands that support product presentation\, brand visibility and efficient meetings on the show floor. \n\nCustom Design Stands: Custom stand concepts with a clean finish\, strong brand confidence and room for demonstrations or consultations.\nModular Stands: Practical modular stands that present products clearly and keep visitor flow easy to manage.\nHybrid Solutions: Hybrid stands that balance reusable structure with custom demo areas\, counters and premium graphics.\n\nWhy Choose Total Concept?\n\nStrategic Design: We translate your objectives\, target audience and product story into a stand concept that fits the event.\nIn-House Production: Our own workshop handles structure\, finishing\, graphics and practical build quality.\nLogistics & Installation: We coordinate transport\, build-up\, dismantling and on-site follow-up.\nDedicated Project Management: You have one clear point of contact from first briefing to final handover.\n\n\nPlanning to Exhibit at IDS 2027?\nLet’s create a stand that helps your brand connect with the right visitors at Koelnmesse. \n  ➜ Contact Total Concept
URL:https://totalconcept.be/event/ids-2027/
LOCATION:Koelnmesse\, Germany
CATEGORIES:Beurs,Beursstand,Expo,Trade Fair
END:VEVENT
END:VCALENDAR