BEGIN:VCALENDAR
VERSION:2.0
PRODID:-//total concept - ECPv6.15.17.1//NONSGML v1.0//EN
CALSCALE:GREGORIAN
METHOD:PUBLISH
X-WR-CALNAME:total concept
X-ORIGINAL-URL:https://totalconcept.be
X-WR-CALDESC:Events for total concept
REFRESH-INTERVAL;VALUE=DURATION:PT1H
X-Robots-Tag:noindex
X-PUBLISHED-TTL:PT1H
BEGIN:VTIMEZONE
TZID:Europe/Helsinki
BEGIN:DAYLIGHT
TZOFFSETFROM:+0200
TZOFFSETTO:+0300
TZNAME:EEST
DTSTART:20260329T010000
END:DAYLIGHT
BEGIN:STANDARD
TZOFFSETFROM:+0300
TZOFFSETTO:+0200
TZNAME:EET
DTSTART:20261025T010000
END:STANDARD
BEGIN:DAYLIGHT
TZOFFSETFROM:+0200
TZOFFSETTO:+0300
TZNAME:EEST
DTSTART:20270328T010000
END:DAYLIGHT
BEGIN:STANDARD
TZOFFSETFROM:+0300
TZOFFSETTO:+0200
TZNAME:EET
DTSTART:20271031T010000
END:STANDARD
BEGIN:DAYLIGHT
TZOFFSETFROM:+0200
TZOFFSETTO:+0300
TZNAME:EEST
DTSTART:20280326T010000
END:DAYLIGHT
BEGIN:STANDARD
TZOFFSETFROM:+0300
TZOFFSETTO:+0200
TZNAME:EET
DTSTART:20281029T010000
END:STANDARD
END:VTIMEZONE
BEGIN:VEVENT
DTSTART;VALUE=DATE:20270125
DTEND;VALUE=DATE:20270130
DTSTAMP:20260422T033750
CREATED:20260421T112231Z
LAST-MODIFIED:20260421T112231Z
UID:15316-1800835200-1801267199@totalconcept.be
SUMMARY:IDEX (INTERNATIONAL DEFENCE EXHIBITION) 2027
DESCRIPTION:Stand Builder for IDEX (INTERNATIONAL DEFENCE EXHIBITION) 2027\nExhibiting at IDEX (INTERNATIONAL DEFENCE EXHIBITION) 2027? Stand out at this aviation\, aerospace and defence technology event with a booth designed for visibility\, conversations and results. \nIDEX (INTERNATIONAL DEFENCE EXHIBITION) 2027 attracts OEMs\, tier suppliers\, airlines\, MRO teams\, engineers and programme buyers. Total Concept designs and builds exhibition stands across Europe\, from modular systems to fully custom booth concepts with production\, transport\, installation and dismantling included. \nGet a Free Stand Design Proposal \n\nAbout IDEX (INTERNATIONAL DEFENCE EXHIBITION) 2027\nIDEX (INTERNATIONAL DEFENCE EXHIBITION) 2027 takes place from 25-29 January 2027 at ADNEC Centre. The event focuses on aviation\, aerospace and defence technology\, making it relevant for exhibitors that want to meet qualified visitors and build visibility in their market. \nWho Visits IDEX (INTERNATIONAL DEFENCE EXHIBITION) 2027?\nThe typical audience includes OEMs\, tier suppliers\, airlines\, MRO teams\, engineers and programme buyers. Depending on your offer\, the fair is especially valuable for suppliers active in cabin solutions\, components\, systems\, engineering services\, simulation technologies and specialist suppliers. \nYour Exhibition Stand at IDEX (INTERNATIONAL DEFENCE EXHIBITION) 2027\nAt this event\, your stand should balance premium presentation with technical credibility\, discreet meeting space and clear product communication. We create exhibition stands that support product presentation\, brand visibility and efficient meetings on the show floor. \n\nCustom Design Stands: Premium stand concepts that support product storytelling\, innovation launches and scheduled buyer meetings.\nModular Stands: Clean\, high-spec modular stands for companies that need flexibility and a professional engineering-driven look.\nHybrid Solutions: Hybrid booths that combine modular efficiency with custom details\, materials and technical displays.\n\nWhy Choose Total Concept?\n\nStrategic Design: We translate your objectives\, target audience and product story into a stand concept that fits the event.\nIn-House Production: Our own workshop handles structure\, finishing\, graphics and practical build quality.\nLogistics & Installation: We coordinate transport\, build-up\, dismantling and on-site follow-up.\nDedicated Project Management: You have one clear point of contact from first briefing to final handover.\n\n\nPlanning to Exhibit at IDEX (INTERNATIONAL DEFENCE EXHIBITION) 2027?\nLet’s create a stand that helps your brand connect with the right visitors at ADNEC Centre. \n  ➜ Contact Total Concept
URL:https://totalconcept.be/event/idex-international-defence-exhibition-2027/
CATEGORIES:Beurs,Beursstand,Expo,Trade Fair
END:VEVENT
END:VCALENDAR