BEGIN:VCALENDAR
VERSION:2.0
PRODID:-//total concept - ECPv6.15.17.1//NONSGML v1.0//EN
CALSCALE:GREGORIAN
METHOD:PUBLISH
X-WR-CALNAME:total concept
X-ORIGINAL-URL:https://totalconcept.be
X-WR-CALDESC:Events for total concept
REFRESH-INTERVAL;VALUE=DURATION:PT1H
X-Robots-Tag:noindex
X-PUBLISHED-TTL:PT1H
BEGIN:VTIMEZONE
TZID:Europe/Helsinki
BEGIN:DAYLIGHT
TZOFFSETFROM:+0200
TZOFFSETTO:+0300
TZNAME:EEST
DTSTART:20250330T010000
END:DAYLIGHT
BEGIN:STANDARD
TZOFFSETFROM:+0300
TZOFFSETTO:+0200
TZNAME:EET
DTSTART:20251026T010000
END:STANDARD
BEGIN:DAYLIGHT
TZOFFSETFROM:+0200
TZOFFSETTO:+0300
TZNAME:EEST
DTSTART:20260329T010000
END:DAYLIGHT
BEGIN:STANDARD
TZOFFSETFROM:+0300
TZOFFSETTO:+0200
TZNAME:EET
DTSTART:20261025T010000
END:STANDARD
BEGIN:DAYLIGHT
TZOFFSETFROM:+0200
TZOFFSETTO:+0300
TZNAME:EEST
DTSTART:20270328T010000
END:DAYLIGHT
BEGIN:STANDARD
TZOFFSETFROM:+0300
TZOFFSETTO:+0200
TZNAME:EET
DTSTART:20271031T010000
END:STANDARD
END:VTIMEZONE
BEGIN:VEVENT
DTSTART;VALUE=DATE:20261030
DTEND;VALUE=DATE:20261102
DTSTAMP:20260422T022343
CREATED:20260421T111702Z
LAST-MODIFIED:20260421T111702Z
UID:15209-1793318400-1793577599@totalconcept.be
SUMMARY:HUIS & WOONBEURS 2026
DESCRIPTION:Stand Builder for HUIS & WOONBEURS 2026\nExhibiting at HUIS & WOONBEURS 2026? Stand out at this construction\, building materials\, architecture and renovation event with a booth designed for visibility\, conversations and results. \nHUIS & WOONBEURS 2026 attracts architects\, contractors\, developers\, installers\, specifiers and building professionals. Total Concept designs and builds exhibition stands across Europe\, from modular systems to fully custom booth concepts with production\, transport\, installation and dismantling included. \nGet a Free Stand Design Proposal \n\nAbout HUIS & WOONBEURS 2026\nHUIS & WOONBEURS 2026 takes place from 30 October – 1 November 2026 at Evenementenhal Hardenberg. The event focuses on construction\, building materials\, architecture and renovation\, making it relevant for exhibitors that want to meet qualified visitors and build visibility in their market. \nWho Visits HUIS & WOONBEURS 2026?\nThe typical audience includes architects\, contractors\, developers\, installers\, specifiers and building professionals. Depending on your offer\, the fair is especially valuable for suppliers active in building systems\, finishing materials\, tools\, surfaces\, infrastructure solutions and specialist services. \nYour Exhibition Stand at HUIS & WOONBEURS 2026\nAt this event\, your stand should show material quality\, explain technical details and support meetings with specifiers and project partners. We create exhibition stands that support product presentation\, brand visibility and efficient meetings on the show floor. \n\nCustom Design Stands: Custom booths that highlight materials\, details and project references in a premium professional setting.\nModular Stands: Modular systems that organise samples\, visuals and consultation spaces in a clean architectural layout.\nHybrid Solutions: Hybrid stands that combine modular efficiency with custom material displays and branded product zones.\n\nWhy Choose Total Concept?\n\nStrategic Design: We translate your objectives\, target audience and product story into a stand concept that fits the event.\nIn-House Production: Our own workshop handles structure\, finishing\, graphics and practical build quality.\nLogistics & Installation: We coordinate transport\, build-up\, dismantling and on-site follow-up.\nDedicated Project Management: You have one clear point of contact from first briefing to final handover.\n\n\nPlanning to Exhibit at HUIS & WOONBEURS 2026?\nLet’s create a stand that helps your brand connect with the right visitors at Evenementenhal Hardenberg. \n  ➜ Contact Total Concept
URL:https://totalconcept.be/event/huis-woonbeurs-2026/
LOCATION:Evenementenhal Hardenberg\, Netherlands
CATEGORIES:Beurs,Beursstand,Expo,Trade Fair
END:VEVENT
END:VCALENDAR