BEGIN:VCALENDAR
VERSION:2.0
PRODID:-//total concept - ECPv6.15.17.1//NONSGML v1.0//EN
CALSCALE:GREGORIAN
METHOD:PUBLISH
X-WR-CALNAME:total concept
X-ORIGINAL-URL:https://totalconcept.be
X-WR-CALDESC:Events for total concept
REFRESH-INTERVAL;VALUE=DURATION:PT1H
X-Robots-Tag:noindex
X-PUBLISHED-TTL:PT1H
BEGIN:VTIMEZONE
TZID:Europe/Helsinki
BEGIN:DAYLIGHT
TZOFFSETFROM:+0200
TZOFFSETTO:+0300
TZNAME:EEST
DTSTART:20250330T010000
END:DAYLIGHT
BEGIN:STANDARD
TZOFFSETFROM:+0300
TZOFFSETTO:+0200
TZNAME:EET
DTSTART:20251026T010000
END:STANDARD
BEGIN:DAYLIGHT
TZOFFSETFROM:+0200
TZOFFSETTO:+0300
TZNAME:EEST
DTSTART:20260329T010000
END:DAYLIGHT
BEGIN:STANDARD
TZOFFSETFROM:+0300
TZOFFSETTO:+0200
TZNAME:EET
DTSTART:20261025T010000
END:STANDARD
BEGIN:DAYLIGHT
TZOFFSETFROM:+0200
TZOFFSETTO:+0300
TZNAME:EEST
DTSTART:20270328T010000
END:DAYLIGHT
BEGIN:STANDARD
TZOFFSETFROM:+0300
TZOFFSETTO:+0200
TZNAME:EET
DTSTART:20271031T010000
END:STANDARD
END:VTIMEZONE
BEGIN:VEVENT
DTSTART;VALUE=DATE:20261118
DTEND;VALUE=DATE:20261120
DTSTAMP:20260423T221820
CREATED:20260421T111946Z
LAST-MODIFIED:20260421T111946Z
UID:15261-1794960000-1795132799@totalconcept.be
SUMMARY:FUTURE LIGHTING 2026
DESCRIPTION:Stand Builder for FUTURE LIGHTING 2026\nExhibiting at FUTURE LIGHTING 2026? Stand out at this interiors\, furniture\, home textiles and design event with a booth designed for visibility\, conversations and results. \nFUTURE LIGHTING 2026 attracts retailers\, architects\, interior designers\, specifiers\, distributors and lifestyle buyers. Total Concept designs and builds exhibition stands across Europe\, from modular systems to fully custom booth concepts with production\, transport\, installation and dismantling included. \nGet a Free Stand Design Proposal \n\nAbout FUTURE LIGHTING 2026\nFUTURE LIGHTING 2026 takes place from 18-19 November 2026 at Evenementenhal Gorinchem. The event focuses on interiors\, furniture\, home textiles and design\, making it relevant for exhibitors that want to meet qualified visitors and build visibility in their market. \nWho Visits FUTURE LIGHTING 2026?\nThe typical audience includes retailers\, architects\, interior designers\, specifiers\, distributors and lifestyle buyers. Depending on your offer\, the fair is especially valuable for suppliers active in furniture\, textiles\, lighting\, surfaces\, décor products and design-led brands. \nYour Exhibition Stand at FUTURE LIGHTING 2026\nAt this event\, your stand should create atmosphere\, highlight finishes and help visitors experience the brand with clarity and quality. We create exhibition stands that support product presentation\, brand visibility and efficient meetings on the show floor. \n\nCustom Design Stands: Custom stands with premium finishes\, material storytelling and a strong design-led visitor experience.\nModular Stands: Modular stands with clean lines and organised product presentation for efficient international exhibiting.\nHybrid Solutions: Hybrid concepts that combine modular structure with custom finishes\, styling and display features.\n\nWhy Choose Total Concept?\n\nStrategic Design: We translate your objectives\, target audience and product story into a stand concept that fits the event.\nIn-House Production: Our own workshop handles structure\, finishing\, graphics and practical build quality.\nLogistics & Installation: We coordinate transport\, build-up\, dismantling and on-site follow-up.\nDedicated Project Management: You have one clear point of contact from first briefing to final handover.\n\n\nPlanning to Exhibit at FUTURE LIGHTING 2026?\nLet’s create a stand that helps your brand connect with the right visitors at Evenementenhal Gorinchem. \n  ➜ Contact Total Concept
URL:https://totalconcept.be/event/future-lighting-2026/
LOCATION:Evenementenhal Gorinchem\, Netherlands
CATEGORIES:Beurs,Beursstand,Expo,Trade Fair
END:VEVENT
END:VCALENDAR