BEGIN:VCALENDAR
VERSION:2.0
PRODID:-//total concept - ECPv6.15.17.1//NONSGML v1.0//EN
CALSCALE:GREGORIAN
METHOD:PUBLISH
X-WR-CALNAME:total concept
X-ORIGINAL-URL:https://totalconcept.be
X-WR-CALDESC:Events for total concept
REFRESH-INTERVAL;VALUE=DURATION:PT1H
X-Robots-Tag:noindex
X-PUBLISHED-TTL:PT1H
BEGIN:VTIMEZONE
TZID:Europe/Helsinki
BEGIN:DAYLIGHT
TZOFFSETFROM:+0200
TZOFFSETTO:+0300
TZNAME:EEST
DTSTART:20250330T010000
END:DAYLIGHT
BEGIN:STANDARD
TZOFFSETFROM:+0300
TZOFFSETTO:+0200
TZNAME:EET
DTSTART:20251026T010000
END:STANDARD
BEGIN:DAYLIGHT
TZOFFSETFROM:+0200
TZOFFSETTO:+0300
TZNAME:EEST
DTSTART:20260329T010000
END:DAYLIGHT
BEGIN:STANDARD
TZOFFSETFROM:+0300
TZOFFSETTO:+0200
TZNAME:EET
DTSTART:20261025T010000
END:STANDARD
BEGIN:DAYLIGHT
TZOFFSETFROM:+0200
TZOFFSETTO:+0300
TZNAME:EEST
DTSTART:20270328T010000
END:DAYLIGHT
BEGIN:STANDARD
TZOFFSETFROM:+0300
TZOFFSETTO:+0200
TZNAME:EET
DTSTART:20271031T010000
END:STANDARD
BEGIN:DAYLIGHT
TZOFFSETFROM:+0200
TZOFFSETTO:+0300
TZNAME:EEST
DTSTART:20280326T010000
END:DAYLIGHT
BEGIN:STANDARD
TZOFFSETFROM:+0300
TZOFFSETTO:+0200
TZNAME:EET
DTSTART:20281029T010000
END:STANDARD
END:VTIMEZONE
BEGIN:VEVENT
DTSTART;VALUE=DATE:20260526
DTEND;VALUE=DATE:20260529
DTSTAMP:20260424T075526
CREATED:20260418T071249Z
LAST-MODIFIED:20260421T110546Z
UID:14309-1779753600-1780012799@totalconcept.be
SUMMARY:PADEL WORLD SUMMIT 2026
DESCRIPTION:Stand Builder for PADEL WORLD SUMMIT 2026\nExhibiting at PADEL WORLD SUMMIT 2026? Stand out at this sport\, fitness\, outdoor and active lifestyle event with a booth designed for visibility\, conversations and results. \nPADEL WORLD SUMMIT 2026 attracts retailers\, distributors\, clubs\, federations\, buyers and sports professionals. Total Concept designs and builds exhibition stands across Europe\, from modular systems to fully custom booth concepts with production\, transport\, installation and dismantling included. \nGet a Free Stand Design Proposal \n\nAbout PADEL WORLD SUMMIT 2026\nPADEL WORLD SUMMIT 2026 takes place from 26-28 May 2026 at Fira de Barcelona.Gran Via Exhi.Centr.. The event focuses on sport\, fitness\, outdoor and active lifestyle\, making it relevant for exhibitors that want to meet qualified visitors and build visibility in their market. \nWho Visits PADEL WORLD SUMMIT 2026?\nThe typical audience includes retailers\, distributors\, clubs\, federations\, buyers and sports professionals. Depending on your offer\, the fair is especially valuable for suppliers active in equipment\, apparel\, nutrition\, technology\, services and active-lifestyle brands. \nYour Exhibition Stand at PADEL WORLD SUMMIT 2026\nAt this event\, your stand should create energy\, support demos and present products in a way that feels active and accessible. We create exhibition stands that support product presentation\, brand visibility and efficient meetings on the show floor. \n\nCustom Design Stands: Custom stands that bring energy\, product interaction and strong brand visibility together.\nModular Stands: Practical modular stands that keep products\, graphics and demo moments well organised.\nHybrid Solutions: Hybrid booths that combine modular efficiency with custom activation areas and visual impact.\n\nWhy Choose Total Concept?\n\nStrategic Design: We translate your objectives\, target audience and product story into a stand concept that fits the event.\nIn-House Production: Our own workshop handles structure\, finishing\, graphics and practical build quality.\nLogistics & Installation: We coordinate transport\, build-up\, dismantling and on-site follow-up.\nDedicated Project Management: You have one clear point of contact from first briefing to final handover.\n\n\nPlanning to Exhibit at PADEL WORLD SUMMIT 2026?\nLet’s create a stand that helps your brand connect with the right visitors at Fira de Barcelona.Gran Via Exhi.Centr.. \n  ➜ Contact Total Concept
URL:https://totalconcept.be/event/padel-world-summit-2026-2/
CATEGORIES:Beurs,Beursstand,Expo,Trade Fair
END:VEVENT
BEGIN:VEVENT
DTSTART;VALUE=DATE:20260624
DTEND;VALUE=DATE:20260628
DTSTAMP:20260424T075526
CREATED:20260421T110917Z
LAST-MODIFIED:20260421T110917Z
UID:15044-1782259200-1782604799@totalconcept.be
SUMMARY:EUROBIKE 2026
DESCRIPTION:Stand Builder for EUROBIKE 2026\nExhibiting at EUROBIKE 2026? Stand out at this sport\, fitness\, outdoor and active lifestyle event with a booth designed for visibility\, conversations and results. \nEUROBIKE 2026 attracts retailers\, distributors\, clubs\, federations\, buyers and sports professionals. Total Concept designs and builds exhibition stands across Europe\, from modular systems to fully custom booth concepts with production\, transport\, installation and dismantling included. \nGet a Free Stand Design Proposal \n\nAbout EUROBIKE 2026\nEUROBIKE 2026 takes place from 24-27 June 2026 at Messe Frankfurt. The event focuses on sport\, fitness\, outdoor and active lifestyle\, making it relevant for exhibitors that want to meet qualified visitors and build visibility in their market. \nWho Visits EUROBIKE 2026?\nThe typical audience includes retailers\, distributors\, clubs\, federations\, buyers and sports professionals. Depending on your offer\, the fair is especially valuable for suppliers active in equipment\, apparel\, nutrition\, technology\, services and active-lifestyle brands. \nYour Exhibition Stand at EUROBIKE 2026\nAt this event\, your stand should create energy\, support demos and present products in a way that feels active and accessible. We create exhibition stands that support product presentation\, brand visibility and efficient meetings on the show floor. \n\nCustom Design Stands: Custom stands that bring energy\, product interaction and strong brand visibility together.\nModular Stands: Practical modular stands that keep products\, graphics and demo moments well organised.\nHybrid Solutions: Hybrid booths that combine modular efficiency with custom activation areas and visual impact.\n\nWhy Choose Total Concept?\n\nStrategic Design: We translate your objectives\, target audience and product story into a stand concept that fits the event.\nIn-House Production: Our own workshop handles structure\, finishing\, graphics and practical build quality.\nLogistics & Installation: We coordinate transport\, build-up\, dismantling and on-site follow-up.\nDedicated Project Management: You have one clear point of contact from first briefing to final handover.\n\n\nPlanning to Exhibit at EUROBIKE 2026?\nLet’s create a stand that helps your brand connect with the right visitors at Messe Frankfurt. \n  ➜ Contact Total Concept
URL:https://totalconcept.be/event/eurobike-2026/
LOCATION:Messe Frankfurt
CATEGORIES:Beurs,Beursstand,Expo,Trade Fair
END:VEVENT
BEGIN:VEVENT
DTSTART;VALUE=DATE:20260901
DTEND;VALUE=DATE:20260905
DTSTAMP:20260424T075526
CREATED:20260418T070329Z
LAST-MODIFIED:20260421T111001Z
UID:14115-1788220800-1788566399@totalconcept.be
SUMMARY:CARAVAN SALON 2026
DESCRIPTION:Stand Builder for CARAVAN SALON 2026\nExhibiting at CARAVAN SALON 2026? Stand out at this sport\, fitness\, outdoor and active lifestyle event with a booth designed for visibility\, conversations and results. \nCARAVAN SALON 2026 attracts retailers\, distributors\, clubs\, federations\, buyers and sports professionals. Total Concept designs and builds exhibition stands across Europe\, from modular systems to fully custom booth concepts with production\, transport\, installation and dismantling included. \nGet a Free Stand Design Proposal \n\nAbout CARAVAN SALON 2026\nCARAVAN SALON 2026 takes place from 1-4 September 2026 at Messe Düsseldorf. The event focuses on sport\, fitness\, outdoor and active lifestyle\, making it relevant for exhibitors that want to meet qualified visitors and build visibility in their market. \nWho Visits CARAVAN SALON 2026?\nThe typical audience includes retailers\, distributors\, clubs\, federations\, buyers and sports professionals. Depending on your offer\, the fair is especially valuable for suppliers active in equipment\, apparel\, nutrition\, technology\, services and active-lifestyle brands. \nYour Exhibition Stand at CARAVAN SALON 2026\nAt this event\, your stand should create energy\, support demos and present products in a way that feels active and accessible. We create exhibition stands that support product presentation\, brand visibility and efficient meetings on the show floor. \n\nCustom Design Stands: Custom stands that bring energy\, product interaction and strong brand visibility together.\nModular Stands: Practical modular stands that keep products\, graphics and demo moments well organised.\nHybrid Solutions: Hybrid booths that combine modular efficiency with custom activation areas and visual impact.\n\nWhy Choose Total Concept?\n\nStrategic Design: We translate your objectives\, target audience and product story into a stand concept that fits the event.\nIn-House Production: Our own workshop handles structure\, finishing\, graphics and practical build quality.\nLogistics & Installation: We coordinate transport\, build-up\, dismantling and on-site follow-up.\nDedicated Project Management: You have one clear point of contact from first briefing to final handover.\n\n\nPlanning to Exhibit at CARAVAN SALON 2026?\nLet’s create a stand that helps your brand connect with the right visitors at Messe Düsseldorf. \n  ➜ Contact Total Concept
URL:https://totalconcept.be/event/caravan-salon-2026-2/
LOCATION:Messe Düsseldorf\, Germany
CATEGORIES:Beurs,Beursstand,Expo,Trade Fair
END:VEVENT
BEGIN:VEVENT
DTSTART;VALUE=DATE:20261104
DTEND;VALUE=DATE:20261106
DTSTAMP:20260424T075526
CREATED:20260418T070844Z
LAST-MODIFIED:20260421T111747Z
UID:14246-1793750400-1793923199@totalconcept.be
SUMMARY:INTERNATIONAL RUNNING EXPO 2026
DESCRIPTION:Stand Builder for INTERNATIONAL RUNNING EXPO 2026\nExhibiting at INTERNATIONAL RUNNING EXPO 2026? Stand out at this sport\, fitness\, outdoor and active lifestyle event with a booth designed for visibility\, conversations and results. \nINTERNATIONAL RUNNING EXPO 2026 attracts retailers\, distributors\, clubs\, federations\, buyers and sports professionals. Total Concept designs and builds exhibition stands across Europe\, from modular systems to fully custom booth concepts with production\, transport\, installation and dismantling included. \nGet a Free Stand Design Proposal \n\nAbout INTERNATIONAL RUNNING EXPO 2026\nINTERNATIONAL RUNNING EXPO 2026 takes place from 4-5 November 2026 at RAI Amsterdam. The event focuses on sport\, fitness\, outdoor and active lifestyle\, making it relevant for exhibitors that want to meet qualified visitors and build visibility in their market. \nWho Visits INTERNATIONAL RUNNING EXPO 2026?\nThe typical audience includes retailers\, distributors\, clubs\, federations\, buyers and sports professionals. Depending on your offer\, the fair is especially valuable for suppliers active in equipment\, apparel\, nutrition\, technology\, services and active-lifestyle brands. \nYour Exhibition Stand at INTERNATIONAL RUNNING EXPO 2026\nAt this event\, your stand should create energy\, support demos and present products in a way that feels active and accessible. We create exhibition stands that support product presentation\, brand visibility and efficient meetings on the show floor. \n\nCustom Design Stands: Custom stands that bring energy\, product interaction and strong brand visibility together.\nModular Stands: Practical modular stands that keep products\, graphics and demo moments well organised.\nHybrid Solutions: Hybrid booths that combine modular efficiency with custom activation areas and visual impact.\n\nWhy Choose Total Concept?\n\nStrategic Design: We translate your objectives\, target audience and product story into a stand concept that fits the event.\nIn-House Production: Our own workshop handles structure\, finishing\, graphics and practical build quality.\nLogistics & Installation: We coordinate transport\, build-up\, dismantling and on-site follow-up.\nDedicated Project Management: You have one clear point of contact from first briefing to final handover.\n\n\nPlanning to Exhibit at INTERNATIONAL RUNNING EXPO 2026?\nLet’s create a stand that helps your brand connect with the right visitors at RAI Amsterdam. \n  ➜ Contact Total Concept
URL:https://totalconcept.be/event/international-running-expo-2026/
LOCATION:RAI Amsterdam\, Netherlands
CATEGORIES:Beurs,Beursstand,Expo,Trade Fair
END:VEVENT
BEGIN:VEVENT
DTSTART;VALUE=DATE:20261117
DTEND;VALUE=DATE:20261120
DTSTAMP:20260424T075526
CREATED:20260421T111932Z
LAST-MODIFIED:20260421T111932Z
UID:15258-1794873600-1795132799@totalconcept.be
SUMMARY:METS 2026
DESCRIPTION:Stand Builder for METS 2026\nExhibiting at METS 2026? Stand out at this sport\, fitness\, outdoor and active lifestyle event with a booth designed for visibility\, conversations and results. \nMETS 2026 attracts retailers\, distributors\, clubs\, federations\, buyers and sports professionals. Total Concept designs and builds exhibition stands across Europe\, from modular systems to fully custom booth concepts with production\, transport\, installation and dismantling included. \nGet a Free Stand Design Proposal \n\nAbout METS 2026\nMETS 2026 takes place from 17-19 November 2026 at RAI Amsterdam. The event focuses on sport\, fitness\, outdoor and active lifestyle\, making it relevant for exhibitors that want to meet qualified visitors and build visibility in their market. \nWho Visits METS 2026?\nThe typical audience includes retailers\, distributors\, clubs\, federations\, buyers and sports professionals. Depending on your offer\, the fair is especially valuable for suppliers active in equipment\, apparel\, nutrition\, technology\, services and active-lifestyle brands. \nYour Exhibition Stand at METS 2026\nAt this event\, your stand should create energy\, support demos and present products in a way that feels active and accessible. We create exhibition stands that support product presentation\, brand visibility and efficient meetings on the show floor. \n\nCustom Design Stands: Custom stands that bring energy\, product interaction and strong brand visibility together.\nModular Stands: Practical modular stands that keep products\, graphics and demo moments well organised.\nHybrid Solutions: Hybrid booths that combine modular efficiency with custom activation areas and visual impact.\n\nWhy Choose Total Concept?\n\nStrategic Design: We translate your objectives\, target audience and product story into a stand concept that fits the event.\nIn-House Production: Our own workshop handles structure\, finishing\, graphics and practical build quality.\nLogistics & Installation: We coordinate transport\, build-up\, dismantling and on-site follow-up.\nDedicated Project Management: You have one clear point of contact from first briefing to final handover.\n\n\nPlanning to Exhibit at METS 2026?\nLet’s create a stand that helps your brand connect with the right visitors at RAI Amsterdam. \n  ➜ Contact Total Concept
URL:https://totalconcept.be/event/mets-2026/
LOCATION:RAI Amsterdam\, Netherlands
CATEGORIES:Beurs,Beursstand,Expo,Trade Fair
END:VEVENT
BEGIN:VEVENT
DTSTART;VALUE=DATE:20270304
DTEND;VALUE=DATE:20270308
DTSTAMP:20260424T075526
CREATED:20260421T112502Z
LAST-MODIFIED:20260421T112502Z
UID:15370-1804118400-1804463999@totalconcept.be
SUMMARY:IWA 2027
DESCRIPTION:Stand Builder for IWA 2027\nExhibiting at IWA 2027? Stand out at this sport\, fitness\, outdoor and active lifestyle event with a booth designed for visibility\, conversations and results. \nIWA 2027 attracts retailers\, distributors\, clubs\, federations\, buyers and sports professionals. Total Concept designs and builds exhibition stands across Europe\, from modular systems to fully custom booth concepts with production\, transport\, installation and dismantling included. \nGet a Free Stand Design Proposal \n\nAbout IWA 2027\nIWA 2027 takes place from 4-7 March 2027 at Nürnberg Messe. The event focuses on sport\, fitness\, outdoor and active lifestyle\, making it relevant for exhibitors that want to meet qualified visitors and build visibility in their market. \nWho Visits IWA 2027?\nThe typical audience includes retailers\, distributors\, clubs\, federations\, buyers and sports professionals. Depending on your offer\, the fair is especially valuable for suppliers active in equipment\, apparel\, nutrition\, technology\, services and active-lifestyle brands. \nYour Exhibition Stand at IWA 2027\nAt this event\, your stand should create energy\, support demos and present products in a way that feels active and accessible. We create exhibition stands that support product presentation\, brand visibility and efficient meetings on the show floor. \n\nCustom Design Stands: Custom stands that bring energy\, product interaction and strong brand visibility together.\nModular Stands: Practical modular stands that keep products\, graphics and demo moments well organised.\nHybrid Solutions: Hybrid booths that combine modular efficiency with custom activation areas and visual impact.\n\nWhy Choose Total Concept?\n\nStrategic Design: We translate your objectives\, target audience and product story into a stand concept that fits the event.\nIn-House Production: Our own workshop handles structure\, finishing\, graphics and practical build quality.\nLogistics & Installation: We coordinate transport\, build-up\, dismantling and on-site follow-up.\nDedicated Project Management: You have one clear point of contact from first briefing to final handover.\n\n\nPlanning to Exhibit at IWA 2027?\nLet’s create a stand that helps your brand connect with the right visitors at Nürnberg Messe. \n  ➜ Contact Total Concept
URL:https://totalconcept.be/event/iwa-2027/
LOCATION:Nürnberg Messe\, Germany
CATEGORIES:Beurs,Beursstand,Expo,Trade Fair
END:VEVENT
END:VCALENDAR