BEGIN:VCALENDAR
VERSION:2.0
PRODID:-//total concept - ECPv6.15.17.1//NONSGML v1.0//EN
CALSCALE:GREGORIAN
METHOD:PUBLISH
X-ORIGINAL-URL:https://totalconcept.be
X-WR-CALDESC:Events for total concept
REFRESH-INTERVAL;VALUE=DURATION:PT1H
X-Robots-Tag:noindex
X-PUBLISHED-TTL:PT1H
BEGIN:VTIMEZONE
TZID:Europe/Helsinki
BEGIN:DAYLIGHT
TZOFFSETFROM:+0200
TZOFFSETTO:+0300
TZNAME:EEST
DTSTART:20270328T010000
END:DAYLIGHT
BEGIN:STANDARD
TZOFFSETFROM:+0300
TZOFFSETTO:+0200
TZNAME:EET
DTSTART:20271031T010000
END:STANDARD
BEGIN:DAYLIGHT
TZOFFSETFROM:+0200
TZOFFSETTO:+0300
TZNAME:EEST
DTSTART:20280326T010000
END:DAYLIGHT
BEGIN:STANDARD
TZOFFSETFROM:+0300
TZOFFSETTO:+0200
TZNAME:EET
DTSTART:20281029T010000
END:STANDARD
BEGIN:DAYLIGHT
TZOFFSETFROM:+0200
TZOFFSETTO:+0300
TZNAME:EEST
DTSTART:20290325T010000
END:DAYLIGHT
BEGIN:STANDARD
TZOFFSETFROM:+0300
TZOFFSETTO:+0200
TZNAME:EET
DTSTART:20291028T010000
END:STANDARD
END:VTIMEZONE
BEGIN:VEVENT
DTSTART;VALUE=DATE:20280222
DTEND;VALUE=DATE:20280225
DTSTAMP:20260424T104012
CREATED:20260421T113602Z
LAST-MODIFIED:20260421T113602Z
UID:15589-1834790400-1835049599@totalconcept.be
SUMMARY:EUROCIS 2028
DESCRIPTION:Stand Builder for EUROCIS 2028\nExhibiting at EUROCIS 2028? Stand out at this retail\, e-commerce\, marketing and customer experience event with a booth designed for visibility\, conversations and results. \nEUROCIS 2028 attracts retailers\, brand managers\, marketers\, agencies\, e-commerce teams and commercial decision-makers. Total Concept designs and builds exhibition stands across Europe\, from modular systems to fully custom booth concepts with production\, transport\, installation and dismantling included. \nGet a Free Stand Design Proposal \n\nAbout EUROCIS 2028\nEUROCIS 2028 takes place from 22-24 February 2028 at Messe Düsseldorf. The event focuses on retail\, e-commerce\, marketing and customer experience\, making it relevant for exhibitors that want to meet qualified visitors and build visibility in their market. \nWho Visits EUROCIS 2028?\nThe typical audience includes retailers\, brand managers\, marketers\, agencies\, e-commerce teams and commercial decision-makers. Depending on your offer\, the fair is especially valuable for suppliers active in software platforms\, store concepts\, POS solutions\, retail services and marketing technologies. \nYour Exhibition Stand at EUROCIS 2028\nAt this event\, your stand should deliver a sharp message fast\, support demos and make networking easy in a high-traffic environment. We create exhibition stands that support product presentation\, brand visibility and efficient meetings on the show floor. \n\nCustom Design Stands: Custom stands built for brand visibility\, product storytelling and high-value commercial meetings.\nModular Stands: Efficient modular solutions that stay clean\, scalable and easy to adapt across multiple events.\nHybrid Solutions: Hybrid concepts that mix modular practicality with custom brand moments and interactive demo zones.\n\nWhy Choose Total Concept?\n\nStrategic Design: We translate your objectives\, target audience and product story into a stand concept that fits the event.\nIn-House Production: Our own workshop handles structure\, finishing\, graphics and practical build quality.\nLogistics & Installation: We coordinate transport\, build-up\, dismantling and on-site follow-up.\nDedicated Project Management: You have one clear point of contact from first briefing to final handover.\n\n\nPlanning to Exhibit at EUROCIS 2028?\nLet’s create a stand that helps your brand connect with the right visitors at Messe Düsseldorf. \n  ➜ Contact Total Concept
URL:https://totalconcept.be/event/eurocis-2028/
LOCATION:Messe Düsseldorf\, Germany
CATEGORIES:Beurs,Beursstand,Expo,Trade Fair
END:VEVENT
END:VCALENDAR