BEGIN:VCALENDAR
VERSION:2.0
PRODID:-//total concept - ECPv6.15.17.1//NONSGML v1.0//EN
CALSCALE:GREGORIAN
METHOD:PUBLISH
X-WR-CALNAME:total concept
X-ORIGINAL-URL:https://totalconcept.be
X-WR-CALDESC:Events for total concept
REFRESH-INTERVAL;VALUE=DURATION:PT1H
X-Robots-Tag:noindex
X-PUBLISHED-TTL:PT1H
BEGIN:VTIMEZONE
TZID:Europe/Helsinki
BEGIN:DAYLIGHT
TZOFFSETFROM:+0200
TZOFFSETTO:+0300
TZNAME:EEST
DTSTART:20260329T010000
END:DAYLIGHT
BEGIN:STANDARD
TZOFFSETFROM:+0300
TZOFFSETTO:+0200
TZNAME:EET
DTSTART:20261025T010000
END:STANDARD
BEGIN:DAYLIGHT
TZOFFSETFROM:+0200
TZOFFSETTO:+0300
TZNAME:EEST
DTSTART:20270328T010000
END:DAYLIGHT
BEGIN:STANDARD
TZOFFSETFROM:+0300
TZOFFSETTO:+0200
TZNAME:EET
DTSTART:20271031T010000
END:STANDARD
BEGIN:DAYLIGHT
TZOFFSETFROM:+0200
TZOFFSETTO:+0300
TZNAME:EEST
DTSTART:20280326T010000
END:DAYLIGHT
BEGIN:STANDARD
TZOFFSETFROM:+0300
TZOFFSETTO:+0200
TZNAME:EET
DTSTART:20281029T010000
END:STANDARD
BEGIN:DAYLIGHT
TZOFFSETFROM:+0200
TZOFFSETTO:+0300
TZNAME:EEST
DTSTART:20290325T010000
END:DAYLIGHT
BEGIN:STANDARD
TZOFFSETFROM:+0300
TZOFFSETTO:+0200
TZNAME:EET
DTSTART:20291028T010000
END:STANDARD
BEGIN:DAYLIGHT
TZOFFSETFROM:+0200
TZOFFSETTO:+0300
TZNAME:EEST
DTSTART:20300331T010000
END:DAYLIGHT
BEGIN:STANDARD
TZOFFSETFROM:+0300
TZOFFSETTO:+0200
TZNAME:EET
DTSTART:20301027T010000
END:STANDARD
END:VTIMEZONE
BEGIN:VEVENT
DTSTART;VALUE=DATE:20270511
DTEND;VALUE=DATE:20270514
DTSTAMP:20260422T035205
CREATED:20260421T112902Z
LAST-MODIFIED:20260421T112902Z
UID:15450-1809993600-1810252799@totalconcept.be
SUMMARY:ZOOMARK 2027
DESCRIPTION:Stand Builder for ZOOMARK 2027\nExhibiting at ZOOMARK 2027? Stand out at this healthcare\, medical technology and care solutions event with a booth designed for visibility\, conversations and results. \nZOOMARK 2027 attracts clinicians\, hospital buyers\, practice owners\, distributors\, care managers and healthcare decision-makers. Total Concept designs and builds exhibition stands across Europe\, from modular systems to fully custom booth concepts with production\, transport\, installation and dismantling included. \nGet a Free Stand Design Proposal \n\nAbout ZOOMARK 2027\nZOOMARK 2027 takes place from 11-13 May 2027 at Bologna Fiere. The event focuses on healthcare\, medical technology and care solutions\, making it relevant for exhibitors that want to meet qualified visitors and build visibility in their market. \nWho Visits ZOOMARK 2027?\nThe typical audience includes clinicians\, hospital buyers\, practice owners\, distributors\, care managers and healthcare decision-makers. Depending on your offer\, the fair is especially valuable for suppliers active in medical devices\, dental equipment\, diagnostics\, care technology\, software and healthcare services. \nYour Exhibition Stand at ZOOMARK 2027\nAt this event\, your stand should create trust\, support live explanations and give visitors a calm space for professional discussions. We create exhibition stands that support product presentation\, brand visibility and efficient meetings on the show floor. \n\nCustom Design Stands: Custom stand concepts with a clean finish\, strong brand confidence and room for demonstrations or consultations.\nModular Stands: Practical modular stands that present products clearly and keep visitor flow easy to manage.\nHybrid Solutions: Hybrid stands that balance reusable structure with custom demo areas\, counters and premium graphics.\n\nWhy Choose Total Concept?\n\nStrategic Design: We translate your objectives\, target audience and product story into a stand concept that fits the event.\nIn-House Production: Our own workshop handles structure\, finishing\, graphics and practical build quality.\nLogistics & Installation: We coordinate transport\, build-up\, dismantling and on-site follow-up.\nDedicated Project Management: You have one clear point of contact from first briefing to final handover.\n\n\nPlanning to Exhibit at ZOOMARK 2027?\nLet’s create a stand that helps your brand connect with the right visitors at Bologna Fiere. \n  ➜ Contact Total Concept
URL:https://totalconcept.be/event/zoomark-2027/
CATEGORIES:Beurs,Beursstand,Expo,Trade Fair
END:VEVENT
BEGIN:VEVENT
DTSTART;VALUE=DATE:20270610
DTEND;VALUE=DATE:20270612
DTSTAMP:20260422T035205
CREATED:20260421T112947Z
LAST-MODIFIED:20260421T112947Z
UID:15463-1812585600-1812758399@totalconcept.be
SUMMARY:COSMETICBUSINESS 2027
DESCRIPTION:Stand Builder for COSMETICBUSINESS 2027\nExhibiting at COSMETICBUSINESS 2027? Stand out at this healthcare\, medical technology and care solutions event with a booth designed for visibility\, conversations and results. \nCOSMETICBUSINESS 2027 attracts clinicians\, hospital buyers\, practice owners\, distributors\, care managers and healthcare decision-makers. Total Concept designs and builds exhibition stands across Europe\, from modular systems to fully custom booth concepts with production\, transport\, installation and dismantling included. \nGet a Free Stand Design Proposal \n\nAbout COSMETICBUSINESS 2027\nCOSMETICBUSINESS 2027 takes place from 10-11 June 2027 at MOC Munich. The event focuses on healthcare\, medical technology and care solutions\, making it relevant for exhibitors that want to meet qualified visitors and build visibility in their market. \nWho Visits COSMETICBUSINESS 2027?\nThe typical audience includes clinicians\, hospital buyers\, practice owners\, distributors\, care managers and healthcare decision-makers. Depending on your offer\, the fair is especially valuable for suppliers active in medical devices\, dental equipment\, diagnostics\, care technology\, software and healthcare services. \nYour Exhibition Stand at COSMETICBUSINESS 2027\nAt this event\, your stand should create trust\, support live explanations and give visitors a calm space for professional discussions. We create exhibition stands that support product presentation\, brand visibility and efficient meetings on the show floor. \n\nCustom Design Stands: Custom stand concepts with a clean finish\, strong brand confidence and room for demonstrations or consultations.\nModular Stands: Practical modular stands that present products clearly and keep visitor flow easy to manage.\nHybrid Solutions: Hybrid stands that balance reusable structure with custom demo areas\, counters and premium graphics.\n\nWhy Choose Total Concept?\n\nStrategic Design: We translate your objectives\, target audience and product story into a stand concept that fits the event.\nIn-House Production: Our own workshop handles structure\, finishing\, graphics and practical build quality.\nLogistics & Installation: We coordinate transport\, build-up\, dismantling and on-site follow-up.\nDedicated Project Management: You have one clear point of contact from first briefing to final handover.\n\n\nPlanning to Exhibit at COSMETICBUSINESS 2027?\nLet’s create a stand that helps your brand connect with the right visitors at MOC Munich. \n  ➜ Contact Total Concept
URL:https://totalconcept.be/event/cosmeticbusiness-2027/
CATEGORIES:Beurs,Beursstand,Expo,Trade Fair
END:VEVENT
BEGIN:VEVENT
DTSTART;VALUE=DATE:20271010
DTEND;VALUE=DATE:20271013
DTSTAMP:20260422T035205
CREATED:20260421T113232Z
LAST-MODIFIED:20260421T113232Z
UID:15520-1823126400-1823385599@totalconcept.be
SUMMARY:ESTETIKA HERFST 2027
DESCRIPTION:Stand Builder for ESTETIKA HERFST 2027\nExhibiting at ESTETIKA HERFST 2027? Stand out at this healthcare\, medical technology and care solutions event with a booth designed for visibility\, conversations and results. \nESTETIKA HERFST 2027 attracts clinicians\, hospital buyers\, practice owners\, distributors\, care managers and healthcare decision-makers. Total Concept designs and builds exhibition stands across Europe\, from modular systems to fully custom booth concepts with production\, transport\, installation and dismantling included. \nGet a Free Stand Design Proposal \n\nAbout ESTETIKA HERFST 2027\nESTETIKA HERFST 2027 takes place from 10-12 October 2027 at Brussels Expo. The event focuses on healthcare\, medical technology and care solutions\, making it relevant for exhibitors that want to meet qualified visitors and build visibility in their market. \nWho Visits ESTETIKA HERFST 2027?\nThe typical audience includes clinicians\, hospital buyers\, practice owners\, distributors\, care managers and healthcare decision-makers. Depending on your offer\, the fair is especially valuable for suppliers active in medical devices\, dental equipment\, diagnostics\, care technology\, software and healthcare services. \nYour Exhibition Stand at ESTETIKA HERFST 2027\nAt this event\, your stand should create trust\, support live explanations and give visitors a calm space for professional discussions. We create exhibition stands that support product presentation\, brand visibility and efficient meetings on the show floor. \n\nCustom Design Stands: Custom stand concepts with a clean finish\, strong brand confidence and room for demonstrations or consultations.\nModular Stands: Practical modular stands that present products clearly and keep visitor flow easy to manage.\nHybrid Solutions: Hybrid stands that balance reusable structure with custom demo areas\, counters and premium graphics.\n\nWhy Choose Total Concept?\n\nStrategic Design: We translate your objectives\, target audience and product story into a stand concept that fits the event.\nIn-House Production: Our own workshop handles structure\, finishing\, graphics and practical build quality.\nLogistics & Installation: We coordinate transport\, build-up\, dismantling and on-site follow-up.\nDedicated Project Management: You have one clear point of contact from first briefing to final handover.\n\n\nPlanning to Exhibit at ESTETIKA HERFST 2027?\nLet’s create a stand that helps your brand connect with the right visitors at Brussels Expo. \n  ➜ Contact Total Concept
URL:https://totalconcept.be/event/estetika-herfst-2027/
LOCATION:Brussels Expo\, Belgium
CATEGORIES:Beurs,Beursstand,Expo,Trade Fair
END:VEVENT
BEGIN:VEVENT
DTSTART;VALUE=DATE:20271116
DTEND;VALUE=DATE:20271120
DTSTAMP:20260422T035205
CREATED:20260421T113418Z
LAST-MODIFIED:20260421T113418Z
UID:15554-1826323200-1826668799@totalconcept.be
SUMMARY:MEDICA 2027
DESCRIPTION:Stand Builder for MEDICA 2027\nExhibiting at MEDICA 2027? Stand out at this healthcare\, medical technology and care solutions event with a booth designed for visibility\, conversations and results. \nMEDICA 2027 attracts clinicians\, hospital buyers\, practice owners\, distributors\, care managers and healthcare decision-makers. Total Concept designs and builds exhibition stands across Europe\, from modular systems to fully custom booth concepts with production\, transport\, installation and dismantling included. \nGet a Free Stand Design Proposal \n\nAbout MEDICA 2027\nMEDICA 2027 takes place from 16-19 November 2027 at Messe Düsseldorf. The event focuses on healthcare\, medical technology and care solutions\, making it relevant for exhibitors that want to meet qualified visitors and build visibility in their market. \nWho Visits MEDICA 2027?\nThe typical audience includes clinicians\, hospital buyers\, practice owners\, distributors\, care managers and healthcare decision-makers. Depending on your offer\, the fair is especially valuable for suppliers active in medical devices\, dental equipment\, diagnostics\, care technology\, software and healthcare services. \nYour Exhibition Stand at MEDICA 2027\nAt this event\, your stand should create trust\, support live explanations and give visitors a calm space for professional discussions. We create exhibition stands that support product presentation\, brand visibility and efficient meetings on the show floor. \n\nCustom Design Stands: Custom stand concepts with a clean finish\, strong brand confidence and room for demonstrations or consultations.\nModular Stands: Practical modular stands that present products clearly and keep visitor flow easy to manage.\nHybrid Solutions: Hybrid stands that balance reusable structure with custom demo areas\, counters and premium graphics.\n\nWhy Choose Total Concept?\n\nStrategic Design: We translate your objectives\, target audience and product story into a stand concept that fits the event.\nIn-House Production: Our own workshop handles structure\, finishing\, graphics and practical build quality.\nLogistics & Installation: We coordinate transport\, build-up\, dismantling and on-site follow-up.\nDedicated Project Management: You have one clear point of contact from first briefing to final handover.\n\n\nPlanning to Exhibit at MEDICA 2027?\nLet’s create a stand that helps your brand connect with the right visitors at Messe Düsseldorf. \n  ➜ Contact Total Concept
URL:https://totalconcept.be/event/medica-2027/
LOCATION:Messe Düsseldorf\, Germany
CATEGORIES:Beurs,Beursstand,Expo,Trade Fair
END:VEVENT
BEGIN:VEVENT
DTSTART;VALUE=DATE:20280305
DTEND;VALUE=DATE:20280306
DTSTAMP:20260422T035205
CREATED:20260421T113632Z
LAST-MODIFIED:20260421T113632Z
UID:15597-1835827200-1835913599@totalconcept.be
SUMMARY:DENTALEXPO 2028
DESCRIPTION:Stand Builder for DENTALEXPO 2028\nExhibiting at DENTALEXPO 2028? Stand out at this healthcare\, medical technology and care solutions event with a booth designed for visibility\, conversations and results. \nDENTALEXPO 2028 attracts clinicians\, hospital buyers\, practice owners\, distributors\, care managers and healthcare decision-makers. Total Concept designs and builds exhibition stands across Europe\, from modular systems to fully custom booth concepts with production\, transport\, installation and dismantling included. \nGet a Free Stand Design Proposal \n\nAbout DENTALEXPO 2028\nDENTALEXPO 2028 takes place from 5 March 2028 at Evenementenhal Gorinchem. The event focuses on healthcare\, medical technology and care solutions\, making it relevant for exhibitors that want to meet qualified visitors and build visibility in their market. \nWho Visits DENTALEXPO 2028?\nThe typical audience includes clinicians\, hospital buyers\, practice owners\, distributors\, care managers and healthcare decision-makers. Depending on your offer\, the fair is especially valuable for suppliers active in medical devices\, dental equipment\, diagnostics\, care technology\, software and healthcare services. \nYour Exhibition Stand at DENTALEXPO 2028\nAt this event\, your stand should create trust\, support live explanations and give visitors a calm space for professional discussions. We create exhibition stands that support product presentation\, brand visibility and efficient meetings on the show floor. \n\nCustom Design Stands: Custom stand concepts with a clean finish\, strong brand confidence and room for demonstrations or consultations.\nModular Stands: Practical modular stands that present products clearly and keep visitor flow easy to manage.\nHybrid Solutions: Hybrid stands that balance reusable structure with custom demo areas\, counters and premium graphics.\n\nWhy Choose Total Concept?\n\nStrategic Design: We translate your objectives\, target audience and product story into a stand concept that fits the event.\nIn-House Production: Our own workshop handles structure\, finishing\, graphics and practical build quality.\nLogistics & Installation: We coordinate transport\, build-up\, dismantling and on-site follow-up.\nDedicated Project Management: You have one clear point of contact from first briefing to final handover.\n\n\nPlanning to Exhibit at DENTALEXPO 2028?\nLet’s create a stand that helps your brand connect with the right visitors at Evenementenhal Gorinchem. \n  ➜ Contact Total Concept
URL:https://totalconcept.be/event/dentalexpo-2028/
LOCATION:Evenementenhal Gorinchem\, Netherlands
CATEGORIES:Beurs,Beursstand,Expo,Trade Fair
END:VEVENT
BEGIN:VEVENT
DTSTART;VALUE=DATE:20280414
DTEND;VALUE=DATE:20280415
DTSTAMP:20260422T035205
CREATED:20260421T113747Z
LAST-MODIFIED:20260421T113747Z
UID:15623-1839283200-1839369599@totalconcept.be
SUMMARY:ZORG & ICT 2028
DESCRIPTION:Stand Builder for ZORG & ICT 2028\nExhibiting at ZORG & ICT 2028? Stand out at this healthcare\, medical technology and care solutions event with a booth designed for visibility\, conversations and results. \nZORG & ICT 2028 attracts clinicians\, hospital buyers\, practice owners\, distributors\, care managers and healthcare decision-makers. Total Concept designs and builds exhibition stands across Europe\, from modular systems to fully custom booth concepts with production\, transport\, installation and dismantling included. \nGet a Free Stand Design Proposal \n\nAbout ZORG & ICT 2028\nZORG & ICT 2028 takes place from 14 April 2028 at Jaarbeurs. The event focuses on healthcare\, medical technology and care solutions\, making it relevant for exhibitors that want to meet qualified visitors and build visibility in their market. \nWho Visits ZORG & ICT 2028?\nThe typical audience includes clinicians\, hospital buyers\, practice owners\, distributors\, care managers and healthcare decision-makers. Depending on your offer\, the fair is especially valuable for suppliers active in medical devices\, dental equipment\, diagnostics\, care technology\, software and healthcare services. \nYour Exhibition Stand at ZORG & ICT 2028\nAt this event\, your stand should create trust\, support live explanations and give visitors a calm space for professional discussions. We create exhibition stands that support product presentation\, brand visibility and efficient meetings on the show floor. \n\nCustom Design Stands: Custom stand concepts with a clean finish\, strong brand confidence and room for demonstrations or consultations.\nModular Stands: Practical modular stands that present products clearly and keep visitor flow easy to manage.\nHybrid Solutions: Hybrid stands that balance reusable structure with custom demo areas\, counters and premium graphics.\n\nWhy Choose Total Concept?\n\nStrategic Design: We translate your objectives\, target audience and product story into a stand concept that fits the event.\nIn-House Production: Our own workshop handles structure\, finishing\, graphics and practical build quality.\nLogistics & Installation: We coordinate transport\, build-up\, dismantling and on-site follow-up.\nDedicated Project Management: You have one clear point of contact from first briefing to final handover.\n\n\nPlanning to Exhibit at ZORG & ICT 2028?\nLet’s create a stand that helps your brand connect with the right visitors at Jaarbeurs. \n  ➜ Contact Total Concept
URL:https://totalconcept.be/event/zorg-ict-2028/
CATEGORIES:Beurs,Beursstand,Expo,Trade Fair
END:VEVENT
BEGIN:VEVENT
DTSTART;VALUE=DATE:20280422
DTEND;VALUE=DATE:20280424
DTSTAMP:20260422T035205
CREATED:20260421T113817Z
LAST-MODIFIED:20260421T113817Z
UID:15631-1839974400-1840147199@totalconcept.be
SUMMARY:INSPIRE HEALTH & CARE 2028
DESCRIPTION:Stand Builder for INSPIRE HEALTH & CARE 2028\nExhibiting at INSPIRE HEALTH & CARE 2028? Stand out at this healthcare\, medical technology and care solutions event with a booth designed for visibility\, conversations and results. \nINSPIRE HEALTH & CARE 2028 attracts clinicians\, hospital buyers\, practice owners\, distributors\, care managers and healthcare decision-makers. Total Concept designs and builds exhibition stands across Europe\, from modular systems to fully custom booth concepts with production\, transport\, installation and dismantling included. \nGet a Free Stand Design Proposal \n\nAbout INSPIRE HEALTH & CARE 2028\nINSPIRE HEALTH & CARE 2028 takes place from 22-23 April 2028 at Flanders Expo. The event focuses on healthcare\, medical technology and care solutions\, making it relevant for exhibitors that want to meet qualified visitors and build visibility in their market. \nWho Visits INSPIRE HEALTH & CARE 2028?\nThe typical audience includes clinicians\, hospital buyers\, practice owners\, distributors\, care managers and healthcare decision-makers. Depending on your offer\, the fair is especially valuable for suppliers active in medical devices\, dental equipment\, diagnostics\, care technology\, software and healthcare services. \nYour Exhibition Stand at INSPIRE HEALTH & CARE 2028\nAt this event\, your stand should create trust\, support live explanations and give visitors a calm space for professional discussions. We create exhibition stands that support product presentation\, brand visibility and efficient meetings on the show floor. \n\nCustom Design Stands: Custom stand concepts with a clean finish\, strong brand confidence and room for demonstrations or consultations.\nModular Stands: Practical modular stands that present products clearly and keep visitor flow easy to manage.\nHybrid Solutions: Hybrid stands that balance reusable structure with custom demo areas\, counters and premium graphics.\n\nWhy Choose Total Concept?\n\nStrategic Design: We translate your objectives\, target audience and product story into a stand concept that fits the event.\nIn-House Production: Our own workshop handles structure\, finishing\, graphics and practical build quality.\nLogistics & Installation: We coordinate transport\, build-up\, dismantling and on-site follow-up.\nDedicated Project Management: You have one clear point of contact from first briefing to final handover.\n\n\nPlanning to Exhibit at INSPIRE HEALTH & CARE 2028?\nLet’s create a stand that helps your brand connect with the right visitors at Flanders Expo. \n  ➜ Contact Total Concept
URL:https://totalconcept.be/event/inspire-health-care-2028/
LOCATION:Flanders Expo\, Belgium
CATEGORIES:Beurs,Beursstand,Expo,Trade Fair
END:VEVENT
BEGIN:VEVENT
DTSTART;VALUE=DATE:20281001
DTEND;VALUE=DATE:20281004
DTSTAMP:20260422T035205
CREATED:20260421T114002Z
LAST-MODIFIED:20260421T114002Z
UID:15667-1853971200-1854230399@totalconcept.be
SUMMARY:DENTEX 2028
DESCRIPTION:Stand Builder for DENTEX 2028\nExhibiting at DENTEX 2028? Stand out at this healthcare\, medical technology and care solutions event with a booth designed for visibility\, conversations and results. \nDENTEX 2028 attracts clinicians\, hospital buyers\, practice owners\, distributors\, care managers and healthcare decision-makers. Total Concept designs and builds exhibition stands across Europe\, from modular systems to fully custom booth concepts with production\, transport\, installation and dismantling included. \nGet a Free Stand Design Proposal \n\nAbout DENTEX 2028\nDENTEX 2028 takes place from 1-3 October 2028 at Brussels Expo. The event focuses on healthcare\, medical technology and care solutions\, making it relevant for exhibitors that want to meet qualified visitors and build visibility in their market. \nWho Visits DENTEX 2028?\nThe typical audience includes clinicians\, hospital buyers\, practice owners\, distributors\, care managers and healthcare decision-makers. Depending on your offer\, the fair is especially valuable for suppliers active in medical devices\, dental equipment\, diagnostics\, care technology\, software and healthcare services. \nYour Exhibition Stand at DENTEX 2028\nAt this event\, your stand should create trust\, support live explanations and give visitors a calm space for professional discussions. We create exhibition stands that support product presentation\, brand visibility and efficient meetings on the show floor. \n\nCustom Design Stands: Custom stand concepts with a clean finish\, strong brand confidence and room for demonstrations or consultations.\nModular Stands: Practical modular stands that present products clearly and keep visitor flow easy to manage.\nHybrid Solutions: Hybrid stands that balance reusable structure with custom demo areas\, counters and premium graphics.\n\nWhy Choose Total Concept?\n\nStrategic Design: We translate your objectives\, target audience and product story into a stand concept that fits the event.\nIn-House Production: Our own workshop handles structure\, finishing\, graphics and practical build quality.\nLogistics & Installation: We coordinate transport\, build-up\, dismantling and on-site follow-up.\nDedicated Project Management: You have one clear point of contact from first briefing to final handover.\n\n\nPlanning to Exhibit at DENTEX 2028?\nLet’s create a stand that helps your brand connect with the right visitors at Brussels Expo. \n  ➜ Contact Total Concept
URL:https://totalconcept.be/event/dentex-2028/
LOCATION:Brussels Expo\, Belgium
CATEGORIES:Beurs,Beursstand,Expo,Trade Fair
END:VEVENT
BEGIN:VEVENT
DTSTART;VALUE=DATE:20290510
DTEND;VALUE=DATE:20290513
DTSTAMP:20260422T035205
CREATED:20260421T114132Z
LAST-MODIFIED:20260421T114132Z
UID:15700-1873065600-1873324799@totalconcept.be
SUMMARY:ZOOMARK 2029
DESCRIPTION:Stand Builder for ZOOMARK 2029\nExhibiting at ZOOMARK 2029? Stand out at this healthcare\, medical technology and care solutions event with a booth designed for visibility\, conversations and results. \nZOOMARK 2029 attracts clinicians\, hospital buyers\, practice owners\, distributors\, care managers and healthcare decision-makers. Total Concept designs and builds exhibition stands across Europe\, from modular systems to fully custom booth concepts with production\, transport\, installation and dismantling included. \nGet a Free Stand Design Proposal \n\nAbout ZOOMARK 2029\nZOOMARK 2029 takes place from 10-12 May 2029 at Bologna Fiere. The event focuses on healthcare\, medical technology and care solutions\, making it relevant for exhibitors that want to meet qualified visitors and build visibility in their market. \nWho Visits ZOOMARK 2029?\nThe typical audience includes clinicians\, hospital buyers\, practice owners\, distributors\, care managers and healthcare decision-makers. Depending on your offer\, the fair is especially valuable for suppliers active in medical devices\, dental equipment\, diagnostics\, care technology\, software and healthcare services. \nYour Exhibition Stand at ZOOMARK 2029\nAt this event\, your stand should create trust\, support live explanations and give visitors a calm space for professional discussions. We create exhibition stands that support product presentation\, brand visibility and efficient meetings on the show floor. \n\nCustom Design Stands: Custom stand concepts with a clean finish\, strong brand confidence and room for demonstrations or consultations.\nModular Stands: Practical modular stands that present products clearly and keep visitor flow easy to manage.\nHybrid Solutions: Hybrid stands that balance reusable structure with custom demo areas\, counters and premium graphics.\n\nWhy Choose Total Concept?\n\nStrategic Design: We translate your objectives\, target audience and product story into a stand concept that fits the event.\nIn-House Production: Our own workshop handles structure\, finishing\, graphics and practical build quality.\nLogistics & Installation: We coordinate transport\, build-up\, dismantling and on-site follow-up.\nDedicated Project Management: You have one clear point of contact from first briefing to final handover.\n\n\nPlanning to Exhibit at ZOOMARK 2029?\nLet’s create a stand that helps your brand connect with the right visitors at Bologna Fiere. \n  ➜ Contact Total Concept
URL:https://totalconcept.be/event/zoomark-2029/
CATEGORIES:Beurs,Beursstand,Expo,Trade Fair
END:VEVENT
END:VCALENDAR