BEGIN:VCALENDAR
VERSION:2.0
PRODID:-//total concept - ECPv6.15.17.1//NONSGML v1.0//EN
CALSCALE:GREGORIAN
METHOD:PUBLISH
X-WR-CALNAME:total concept
X-ORIGINAL-URL:https://totalconcept.be
X-WR-CALDESC:Events for total concept
REFRESH-INTERVAL;VALUE=DURATION:PT1H
X-Robots-Tag:noindex
X-PUBLISHED-TTL:PT1H
BEGIN:VTIMEZONE
TZID:Europe/Helsinki
BEGIN:DAYLIGHT
TZOFFSETFROM:+0200
TZOFFSETTO:+0300
TZNAME:EEST
DTSTART:20250330T010000
END:DAYLIGHT
BEGIN:STANDARD
TZOFFSETFROM:+0300
TZOFFSETTO:+0200
TZNAME:EET
DTSTART:20251026T010000
END:STANDARD
BEGIN:DAYLIGHT
TZOFFSETFROM:+0200
TZOFFSETTO:+0300
TZNAME:EEST
DTSTART:20260329T010000
END:DAYLIGHT
BEGIN:STANDARD
TZOFFSETFROM:+0300
TZOFFSETTO:+0200
TZNAME:EET
DTSTART:20261025T010000
END:STANDARD
BEGIN:DAYLIGHT
TZOFFSETFROM:+0200
TZOFFSETTO:+0300
TZNAME:EEST
DTSTART:20270328T010000
END:DAYLIGHT
BEGIN:STANDARD
TZOFFSETFROM:+0300
TZOFFSETTO:+0200
TZNAME:EET
DTSTART:20271031T010000
END:STANDARD
BEGIN:DAYLIGHT
TZOFFSETFROM:+0200
TZOFFSETTO:+0300
TZNAME:EEST
DTSTART:20280326T010000
END:DAYLIGHT
BEGIN:STANDARD
TZOFFSETFROM:+0300
TZOFFSETTO:+0200
TZNAME:EET
DTSTART:20281029T010000
END:STANDARD
BEGIN:DAYLIGHT
TZOFFSETFROM:+0200
TZOFFSETTO:+0300
TZNAME:EEST
DTSTART:20290325T010000
END:DAYLIGHT
BEGIN:STANDARD
TZOFFSETFROM:+0300
TZOFFSETTO:+0200
TZNAME:EET
DTSTART:20291028T010000
END:STANDARD
END:VTIMEZONE
BEGIN:VEVENT
DTSTART;VALUE=DATE:20260520
DTEND;VALUE=DATE:20260522
DTSTAMP:20260422T003532
CREATED:20260421T110531Z
LAST-MODIFIED:20260421T110531Z
UID:14963-1779235200-1779407999@totalconcept.be
SUMMARY:CYBERSEC EUROPE 2026
DESCRIPTION:Stand Builder for CYBERSEC EUROPE 2026\nExhibiting at CYBERSEC EUROPE 2026? Stand out at this IT\, software\, cybersecurity and digital transformation event with a booth designed for visibility\, conversations and results. \nCYBERSEC EUROPE 2026 attracts IT leaders\, integrators\, enterprise buyers\, developers and digital decision-makers. Total Concept designs and builds exhibition stands across Europe\, from modular systems to fully custom booth concepts with production\, transport\, installation and dismantling included. \nGet a Free Stand Design Proposal \n\nAbout CYBERSEC EUROPE 2026\nCYBERSEC EUROPE 2026 takes place from 20-21 May 2026 at Brussels Expo. The event focuses on IT\, software\, cybersecurity and digital transformation\, making it relevant for exhibitors that want to meet qualified visitors and build visibility in their market. \nWho Visits CYBERSEC EUROPE 2026?\nThe typical audience includes IT leaders\, integrators\, enterprise buyers\, developers and digital decision-makers. Depending on your offer\, the fair is especially valuable for suppliers active in software platforms\, hardware\, data solutions\, security tools\, cloud services and consulting. \nYour Exhibition Stand at CYBERSEC EUROPE 2026\nAt this event\, your stand should make the value proposition instantly clear\, support demos and create comfortable meeting space. We create exhibition stands that support product presentation\, brand visibility and efficient meetings on the show floor. \n\nCustom Design Stands: Custom booth concepts that translate complex digital offers into a clear and engaging physical presence.\nModular Stands: Efficient modular stands with strong screens\, demo counters and a clean professional layout.\nHybrid Solutions: Hybrid stands that combine modular flexibility with custom presentation zones and impactful branding.\n\nWhy Choose Total Concept?\n\nStrategic Design: We translate your objectives\, target audience and product story into a stand concept that fits the event.\nIn-House Production: Our own workshop handles structure\, finishing\, graphics and practical build quality.\nLogistics & Installation: We coordinate transport\, build-up\, dismantling and on-site follow-up.\nDedicated Project Management: You have one clear point of contact from first briefing to final handover.\n\n\nPlanning to Exhibit at CYBERSEC EUROPE 2026?\nLet’s create a stand that helps your brand connect with the right visitors at Brussels Expo. \n  ➜ Contact Total Concept
URL:https://totalconcept.be/event/cybersec-europe-2026/
LOCATION:Brussels Expo\, Belgium
CATEGORIES:Beurs,Beursstand,Expo,Trade Fair
END:VEVENT
BEGIN:VEVENT
DTSTART;VALUE=DATE:20270520
DTEND;VALUE=DATE:20270522
DTSTAMP:20260422T003532
CREATED:20260421T112932Z
LAST-MODIFIED:20260421T112932Z
UID:15458-1810771200-1810943999@totalconcept.be
SUMMARY:CYBERSEC EUROPE 2027
DESCRIPTION:Stand Builder for CYBERSEC EUROPE 2027\nExhibiting at CYBERSEC EUROPE 2027? Stand out at this IT\, software\, cybersecurity and digital transformation event with a booth designed for visibility\, conversations and results. \nCYBERSEC EUROPE 2027 attracts IT leaders\, integrators\, enterprise buyers\, developers and digital decision-makers. Total Concept designs and builds exhibition stands across Europe\, from modular systems to fully custom booth concepts with production\, transport\, installation and dismantling included. \nGet a Free Stand Design Proposal \n\nAbout CYBERSEC EUROPE 2027\nCYBERSEC EUROPE 2027 takes place from 20-21 May 2027 at Brussels Expo. The event focuses on IT\, software\, cybersecurity and digital transformation\, making it relevant for exhibitors that want to meet qualified visitors and build visibility in their market. \nWho Visits CYBERSEC EUROPE 2027?\nThe typical audience includes IT leaders\, integrators\, enterprise buyers\, developers and digital decision-makers. Depending on your offer\, the fair is especially valuable for suppliers active in software platforms\, hardware\, data solutions\, security tools\, cloud services and consulting. \nYour Exhibition Stand at CYBERSEC EUROPE 2027\nAt this event\, your stand should make the value proposition instantly clear\, support demos and create comfortable meeting space. We create exhibition stands that support product presentation\, brand visibility and efficient meetings on the show floor. \n\nCustom Design Stands: Custom booth concepts that translate complex digital offers into a clear and engaging physical presence.\nModular Stands: Efficient modular stands with strong screens\, demo counters and a clean professional layout.\nHybrid Solutions: Hybrid stands that combine modular flexibility with custom presentation zones and impactful branding.\n\nWhy Choose Total Concept?\n\nStrategic Design: We translate your objectives\, target audience and product story into a stand concept that fits the event.\nIn-House Production: Our own workshop handles structure\, finishing\, graphics and practical build quality.\nLogistics & Installation: We coordinate transport\, build-up\, dismantling and on-site follow-up.\nDedicated Project Management: You have one clear point of contact from first briefing to final handover.\n\n\nPlanning to Exhibit at CYBERSEC EUROPE 2027?\nLet’s create a stand that helps your brand connect with the right visitors at Brussels Expo. \n  ➜ Contact Total Concept
URL:https://totalconcept.be/event/cybersec-europe-2027/
LOCATION:Brussels Expo\, Belgium
CATEGORIES:Beurs,Beursstand,Expo,Trade Fair
END:VEVENT
BEGIN:VEVENT
DTSTART;VALUE=DATE:20280520
DTEND;VALUE=DATE:20280522
DTSTAMP:20260422T003532
CREATED:20260421T113832Z
LAST-MODIFIED:20260421T113832Z
UID:15640-1842393600-1842566399@totalconcept.be
SUMMARY:CYBERSEC EUROPE 2028
DESCRIPTION:Stand Builder for CYBERSEC EUROPE 2028\nExhibiting at CYBERSEC EUROPE 2028? Stand out at this IT\, software\, cybersecurity and digital transformation event with a booth designed for visibility\, conversations and results. \nCYBERSEC EUROPE 2028 attracts IT leaders\, integrators\, enterprise buyers\, developers and digital decision-makers. Total Concept designs and builds exhibition stands across Europe\, from modular systems to fully custom booth concepts with production\, transport\, installation and dismantling included. \nGet a Free Stand Design Proposal \n\nAbout CYBERSEC EUROPE 2028\nCYBERSEC EUROPE 2028 takes place from 20-21 May 2028 at Brussels Expo. The event focuses on IT\, software\, cybersecurity and digital transformation\, making it relevant for exhibitors that want to meet qualified visitors and build visibility in their market. \nWho Visits CYBERSEC EUROPE 2028?\nThe typical audience includes IT leaders\, integrators\, enterprise buyers\, developers and digital decision-makers. Depending on your offer\, the fair is especially valuable for suppliers active in software platforms\, hardware\, data solutions\, security tools\, cloud services and consulting. \nYour Exhibition Stand at CYBERSEC EUROPE 2028\nAt this event\, your stand should make the value proposition instantly clear\, support demos and create comfortable meeting space. We create exhibition stands that support product presentation\, brand visibility and efficient meetings on the show floor. \n\nCustom Design Stands: Custom booth concepts that translate complex digital offers into a clear and engaging physical presence.\nModular Stands: Efficient modular stands with strong screens\, demo counters and a clean professional layout.\nHybrid Solutions: Hybrid stands that combine modular flexibility with custom presentation zones and impactful branding.\n\nWhy Choose Total Concept?\n\nStrategic Design: We translate your objectives\, target audience and product story into a stand concept that fits the event.\nIn-House Production: Our own workshop handles structure\, finishing\, graphics and practical build quality.\nLogistics & Installation: We coordinate transport\, build-up\, dismantling and on-site follow-up.\nDedicated Project Management: You have one clear point of contact from first briefing to final handover.\n\n\nPlanning to Exhibit at CYBERSEC EUROPE 2028?\nLet’s create a stand that helps your brand connect with the right visitors at Brussels Expo. \n  ➜ Contact Total Concept
URL:https://totalconcept.be/event/cybersec-europe-2028/
LOCATION:Brussels Expo\, Belgium
CATEGORIES:Beurs,Beursstand,Expo,Trade Fair
END:VEVENT
END:VCALENDAR