BEGIN:VCALENDAR
VERSION:2.0
PRODID:-//total concept - ECPv6.15.17.1//NONSGML v1.0//EN
CALSCALE:GREGORIAN
METHOD:PUBLISH
X-ORIGINAL-URL:https://totalconcept.be
X-WR-CALDESC:Events for total concept
REFRESH-INTERVAL;VALUE=DURATION:PT1H
X-Robots-Tag:noindex
X-PUBLISHED-TTL:PT1H
BEGIN:VTIMEZONE
TZID:Europe/Helsinki
BEGIN:DAYLIGHT
TZOFFSETFROM:+0200
TZOFFSETTO:+0300
TZNAME:EEST
DTSTART:20250330T010000
END:DAYLIGHT
BEGIN:STANDARD
TZOFFSETFROM:+0300
TZOFFSETTO:+0200
TZNAME:EET
DTSTART:20251026T010000
END:STANDARD
BEGIN:DAYLIGHT
TZOFFSETFROM:+0200
TZOFFSETTO:+0300
TZNAME:EEST
DTSTART:20260329T010000
END:DAYLIGHT
BEGIN:STANDARD
TZOFFSETFROM:+0300
TZOFFSETTO:+0200
TZNAME:EET
DTSTART:20261025T010000
END:STANDARD
BEGIN:DAYLIGHT
TZOFFSETFROM:+0200
TZOFFSETTO:+0300
TZNAME:EEST
DTSTART:20270328T010000
END:DAYLIGHT
BEGIN:STANDARD
TZOFFSETFROM:+0300
TZOFFSETTO:+0200
TZNAME:EET
DTSTART:20271031T010000
END:STANDARD
BEGIN:DAYLIGHT
TZOFFSETFROM:+0200
TZOFFSETTO:+0300
TZNAME:EEST
DTSTART:20280326T010000
END:DAYLIGHT
BEGIN:STANDARD
TZOFFSETFROM:+0300
TZOFFSETTO:+0200
TZNAME:EET
DTSTART:20281029T010000
END:STANDARD
BEGIN:DAYLIGHT
TZOFFSETFROM:+0200
TZOFFSETTO:+0300
TZNAME:EEST
DTSTART:20290325T010000
END:DAYLIGHT
BEGIN:STANDARD
TZOFFSETFROM:+0300
TZOFFSETTO:+0200
TZNAME:EET
DTSTART:20291028T010000
END:STANDARD
BEGIN:DAYLIGHT
TZOFFSETFROM:+0200
TZOFFSETTO:+0300
TZNAME:EEST
DTSTART:20300331T010000
END:DAYLIGHT
BEGIN:STANDARD
TZOFFSETFROM:+0300
TZOFFSETTO:+0200
TZNAME:EET
DTSTART:20301027T010000
END:STANDARD
BEGIN:DAYLIGHT
TZOFFSETFROM:+0200
TZOFFSETTO:+0300
TZNAME:EEST
DTSTART:20310330T010000
END:DAYLIGHT
BEGIN:STANDARD
TZOFFSETFROM:+0300
TZOFFSETTO:+0200
TZNAME:EET
DTSTART:20311026T010000
END:STANDARD
END:VTIMEZONE
BEGIN:VEVENT
DTSTART;VALUE=DATE:20260513
DTEND;VALUE=DATE:20260516
DTSTAMP:20260422T001639
CREATED:20260421T110416Z
LAST-MODIFIED:20260421T110416Z
UID:14933-1778630400-1778889599@totalconcept.be
SUMMARY:BSDA 2026
DESCRIPTION:Stand Builder for BSDA 2026\nExhibiting at BSDA 2026? Stand out at this aviation\, aerospace and defence technology event with a booth designed for visibility\, conversations and results. \nBSDA 2026 attracts OEMs\, tier suppliers\, airlines\, MRO teams\, engineers and programme buyers. Total Concept designs and builds exhibition stands across Europe\, from modular systems to fully custom booth concepts with production\, transport\, installation and dismantling included. \nGet a Free Stand Design Proposal \n\nAbout BSDA 2026\nBSDA 2026 takes place from 13-15 May 2026 at Romaero. The event focuses on aviation\, aerospace and defence technology\, making it relevant for exhibitors that want to meet qualified visitors and build visibility in their market. \nWho Visits BSDA 2026?\nThe typical audience includes OEMs\, tier suppliers\, airlines\, MRO teams\, engineers and programme buyers. Depending on your offer\, the fair is especially valuable for suppliers active in cabin solutions\, components\, systems\, engineering services\, simulation technologies and specialist suppliers. \nYour Exhibition Stand at BSDA 2026\nAt this event\, your stand should balance premium presentation with technical credibility\, discreet meeting space and clear product communication. We create exhibition stands that support product presentation\, brand visibility and efficient meetings on the show floor. \n\nCustom Design Stands: Premium stand concepts that support product storytelling\, innovation launches and scheduled buyer meetings.\nModular Stands: Clean\, high-spec modular stands for companies that need flexibility and a professional engineering-driven look.\nHybrid Solutions: Hybrid booths that combine modular efficiency with custom details\, materials and technical displays.\n\nWhy Choose Total Concept?\n\nStrategic Design: We translate your objectives\, target audience and product story into a stand concept that fits the event.\nIn-House Production: Our own workshop handles structure\, finishing\, graphics and practical build quality.\nLogistics & Installation: We coordinate transport\, build-up\, dismantling and on-site follow-up.\nDedicated Project Management: You have one clear point of contact from first briefing to final handover.\n\n\nPlanning to Exhibit at BSDA 2026?\nLet’s create a stand that helps your brand connect with the right visitors at Romaero. \n  ➜ Contact Total Concept
URL:https://totalconcept.be/event/bsda-2026/
CATEGORIES:Beurs,Beursstand,Expo,Trade Fair
END:VEVENT
BEGIN:VEVENT
DTSTART;VALUE=DATE:20280513
DTEND;VALUE=DATE:20280516
DTSTAMP:20260422T001639
CREATED:20260421T113832Z
LAST-MODIFIED:20260421T113832Z
UID:15636-1841788800-1842047999@totalconcept.be
SUMMARY:BSDA 2028
DESCRIPTION:Stand Builder for BSDA 2028\nExhibiting at BSDA 2028? Stand out at this aviation\, aerospace and defence technology event with a booth designed for visibility\, conversations and results. \nBSDA 2028 attracts OEMs\, tier suppliers\, airlines\, MRO teams\, engineers and programme buyers. Total Concept designs and builds exhibition stands across Europe\, from modular systems to fully custom booth concepts with production\, transport\, installation and dismantling included. \nGet a Free Stand Design Proposal \n\nAbout BSDA 2028\nBSDA 2028 takes place from 13-15 May 2028 at Romaero. The event focuses on aviation\, aerospace and defence technology\, making it relevant for exhibitors that want to meet qualified visitors and build visibility in their market. \nWho Visits BSDA 2028?\nThe typical audience includes OEMs\, tier suppliers\, airlines\, MRO teams\, engineers and programme buyers. Depending on your offer\, the fair is especially valuable for suppliers active in cabin solutions\, components\, systems\, engineering services\, simulation technologies and specialist suppliers. \nYour Exhibition Stand at BSDA 2028\nAt this event\, your stand should balance premium presentation with technical credibility\, discreet meeting space and clear product communication. We create exhibition stands that support product presentation\, brand visibility and efficient meetings on the show floor. \n\nCustom Design Stands: Premium stand concepts that support product storytelling\, innovation launches and scheduled buyer meetings.\nModular Stands: Clean\, high-spec modular stands for companies that need flexibility and a professional engineering-driven look.\nHybrid Solutions: Hybrid booths that combine modular efficiency with custom details\, materials and technical displays.\n\nWhy Choose Total Concept?\n\nStrategic Design: We translate your objectives\, target audience and product story into a stand concept that fits the event.\nIn-House Production: Our own workshop handles structure\, finishing\, graphics and practical build quality.\nLogistics & Installation: We coordinate transport\, build-up\, dismantling and on-site follow-up.\nDedicated Project Management: You have one clear point of contact from first briefing to final handover.\n\n\nPlanning to Exhibit at BSDA 2028?\nLet’s create a stand that helps your brand connect with the right visitors at Romaero. \n  ➜ Contact Total Concept
URL:https://totalconcept.be/event/bsda-2028/
CATEGORIES:Beurs,Beursstand,Expo,Trade Fair
END:VEVENT
BEGIN:VEVENT
DTSTART;VALUE=DATE:20300513
DTEND;VALUE=DATE:20300516
DTSTAMP:20260422T001639
CREATED:20260421T114403Z
LAST-MODIFIED:20260421T114403Z
UID:15721-1904860800-1905119999@totalconcept.be
SUMMARY:BSDA 2030
DESCRIPTION:Stand Builder for BSDA 2030\nExhibiting at BSDA 2030? Stand out at this aviation\, aerospace and defence technology event with a booth designed for visibility\, conversations and results. \nBSDA 2030 attracts OEMs\, tier suppliers\, airlines\, MRO teams\, engineers and programme buyers. Total Concept designs and builds exhibition stands across Europe\, from modular systems to fully custom booth concepts with production\, transport\, installation and dismantling included. \nGet a Free Stand Design Proposal \n\nAbout BSDA 2030\nBSDA 2030 takes place from 13-15 May 2030 at Romaero. The event focuses on aviation\, aerospace and defence technology\, making it relevant for exhibitors that want to meet qualified visitors and build visibility in their market. \nWho Visits BSDA 2030?\nThe typical audience includes OEMs\, tier suppliers\, airlines\, MRO teams\, engineers and programme buyers. Depending on your offer\, the fair is especially valuable for suppliers active in cabin solutions\, components\, systems\, engineering services\, simulation technologies and specialist suppliers. \nYour Exhibition Stand at BSDA 2030\nAt this event\, your stand should balance premium presentation with technical credibility\, discreet meeting space and clear product communication. We create exhibition stands that support product presentation\, brand visibility and efficient meetings on the show floor. \n\nCustom Design Stands: Premium stand concepts that support product storytelling\, innovation launches and scheduled buyer meetings.\nModular Stands: Clean\, high-spec modular stands for companies that need flexibility and a professional engineering-driven look.\nHybrid Solutions: Hybrid booths that combine modular efficiency with custom details\, materials and technical displays.\n\nWhy Choose Total Concept?\n\nStrategic Design: We translate your objectives\, target audience and product story into a stand concept that fits the event.\nIn-House Production: Our own workshop handles structure\, finishing\, graphics and practical build quality.\nLogistics & Installation: We coordinate transport\, build-up\, dismantling and on-site follow-up.\nDedicated Project Management: You have one clear point of contact from first briefing to final handover.\n\n\nPlanning to Exhibit at BSDA 2030?\nLet’s create a stand that helps your brand connect with the right visitors at Romaero. \n  ➜ Contact Total Concept
URL:https://totalconcept.be/event/bsda-2030/
CATEGORIES:Beurs,Beursstand,Expo,Trade Fair
END:VEVENT
END:VCALENDAR