BEGIN:VCALENDAR
VERSION:2.0
PRODID:-//total concept - ECPv6.15.17.1//NONSGML v1.0//EN
CALSCALE:GREGORIAN
METHOD:PUBLISH
X-ORIGINAL-URL:https://totalconcept.be
X-WR-CALDESC:Events for total concept
REFRESH-INTERVAL;VALUE=DURATION:PT1H
X-Robots-Tag:noindex
X-PUBLISHED-TTL:PT1H
BEGIN:VTIMEZONE
TZID:Europe/Helsinki
BEGIN:DAYLIGHT
TZOFFSETFROM:+0200
TZOFFSETTO:+0300
TZNAME:EEST
DTSTART:20250330T010000
END:DAYLIGHT
BEGIN:STANDARD
TZOFFSETFROM:+0300
TZOFFSETTO:+0200
TZNAME:EET
DTSTART:20251026T010000
END:STANDARD
BEGIN:DAYLIGHT
TZOFFSETFROM:+0200
TZOFFSETTO:+0300
TZNAME:EEST
DTSTART:20260329T010000
END:DAYLIGHT
BEGIN:STANDARD
TZOFFSETFROM:+0300
TZOFFSETTO:+0200
TZNAME:EET
DTSTART:20261025T010000
END:STANDARD
BEGIN:DAYLIGHT
TZOFFSETFROM:+0200
TZOFFSETTO:+0300
TZNAME:EEST
DTSTART:20270328T010000
END:DAYLIGHT
BEGIN:STANDARD
TZOFFSETFROM:+0300
TZOFFSETTO:+0200
TZNAME:EET
DTSTART:20271031T010000
END:STANDARD
BEGIN:DAYLIGHT
TZOFFSETFROM:+0200
TZOFFSETTO:+0300
TZNAME:EEST
DTSTART:20280326T010000
END:DAYLIGHT
BEGIN:STANDARD
TZOFFSETFROM:+0300
TZOFFSETTO:+0200
TZNAME:EET
DTSTART:20281029T010000
END:STANDARD
BEGIN:DAYLIGHT
TZOFFSETFROM:+0200
TZOFFSETTO:+0300
TZNAME:EEST
DTSTART:20290325T010000
END:DAYLIGHT
BEGIN:STANDARD
TZOFFSETFROM:+0300
TZOFFSETTO:+0200
TZNAME:EET
DTSTART:20291028T010000
END:STANDARD
BEGIN:DAYLIGHT
TZOFFSETFROM:+0200
TZOFFSETTO:+0300
TZNAME:EEST
DTSTART:20300331T010000
END:DAYLIGHT
BEGIN:STANDARD
TZOFFSETFROM:+0300
TZOFFSETTO:+0200
TZNAME:EET
DTSTART:20301027T010000
END:STANDARD
END:VTIMEZONE
BEGIN:VEVENT
DTSTART;VALUE=DATE:20260602
DTEND;VALUE=DATE:20260605
DTSTAMP:20260422T060512
CREATED:20260421T110601Z
LAST-MODIFIED:20260421T110601Z
UID:14975-1780358400-1780617599@totalconcept.be
SUMMARY:APEX SHOW 2026
DESCRIPTION:Stand Builder for APEX SHOW 2026\nExhibiting at APEX SHOW 2026? Stand out at this business services\, professional networks and commercial solutions event with a booth designed for visibility\, conversations and results. \nAPEX SHOW 2026 attracts business owners\, managers\, buyers\, consultants and commercial decision-makers. Total Concept designs and builds exhibition stands across Europe\, from modular systems to fully custom booth concepts with production\, transport\, installation and dismantling included. \nGet a Free Stand Design Proposal \n\nAbout APEX SHOW 2026\nAPEX SHOW 2026 takes place from 2-4 June 2026 at MECC Maastricht. The event focuses on business services\, professional networks and commercial solutions\, making it relevant for exhibitors that want to meet qualified visitors and build visibility in their market. \nWho Visits APEX SHOW 2026?\nThe typical audience includes business owners\, managers\, buyers\, consultants and commercial decision-makers. Depending on your offer\, the fair is especially valuable for suppliers active in software\, services\, finance\, advisory\, associations and commercial suppliers. \nYour Exhibition Stand at APEX SHOW 2026\nAt this event\, your stand should make your proposition clear fast and create an approachable space for lead generation. We create exhibition stands that support product presentation\, brand visibility and efficient meetings on the show floor. \n\nCustom Design Stands: Custom booths focused on clarity\, trust and strong first impressions with qualified visitors.\nModular Stands: Clean modular stands that support conversation\, lead capture and efficient event logistics.\nHybrid Solutions: Hybrid concepts that combine modular practicality with stronger custom branding and messaging.\n\nWhy Choose Total Concept?\n\nStrategic Design: We translate your objectives\, target audience and product story into a stand concept that fits the event.\nIn-House Production: Our own workshop handles structure\, finishing\, graphics and practical build quality.\nLogistics & Installation: We coordinate transport\, build-up\, dismantling and on-site follow-up.\nDedicated Project Management: You have one clear point of contact from first briefing to final handover.\n\n\nPlanning to Exhibit at APEX SHOW 2026?\nLet’s create a stand that helps your brand connect with the right visitors at MECC Maastricht. \n  ➜ Contact Total Concept
URL:https://totalconcept.be/event/apex-show-2026/
CATEGORIES:Beurs,Beursstand,Expo,Trade Fair
END:VEVENT
BEGIN:VEVENT
DTSTART;VALUE=DATE:20290602
DTEND;VALUE=DATE:20290605
DTSTAMP:20260422T060512
CREATED:20260421T114147Z
LAST-MODIFIED:20260421T114147Z
UID:15701-1875052800-1875311999@totalconcept.be
SUMMARY:APEX SHOW 2029
DESCRIPTION:Stand Builder for APEX SHOW 2029\nExhibiting at APEX SHOW 2029? Stand out at this business services\, professional networks and commercial solutions event with a booth designed for visibility\, conversations and results. \nAPEX SHOW 2029 attracts business owners\, managers\, buyers\, consultants and commercial decision-makers. Total Concept designs and builds exhibition stands across Europe\, from modular systems to fully custom booth concepts with production\, transport\, installation and dismantling included. \nGet a Free Stand Design Proposal \n\nAbout APEX SHOW 2029\nAPEX SHOW 2029 takes place from 2-4 June 2029 at MECC Maastricht. The event focuses on business services\, professional networks and commercial solutions\, making it relevant for exhibitors that want to meet qualified visitors and build visibility in their market. \nWho Visits APEX SHOW 2029?\nThe typical audience includes business owners\, managers\, buyers\, consultants and commercial decision-makers. Depending on your offer\, the fair is especially valuable for suppliers active in software\, services\, finance\, advisory\, associations and commercial suppliers. \nYour Exhibition Stand at APEX SHOW 2029\nAt this event\, your stand should make your proposition clear fast and create an approachable space for lead generation. We create exhibition stands that support product presentation\, brand visibility and efficient meetings on the show floor. \n\nCustom Design Stands: Custom booths focused on clarity\, trust and strong first impressions with qualified visitors.\nModular Stands: Clean modular stands that support conversation\, lead capture and efficient event logistics.\nHybrid Solutions: Hybrid concepts that combine modular practicality with stronger custom branding and messaging.\n\nWhy Choose Total Concept?\n\nStrategic Design: We translate your objectives\, target audience and product story into a stand concept that fits the event.\nIn-House Production: Our own workshop handles structure\, finishing\, graphics and practical build quality.\nLogistics & Installation: We coordinate transport\, build-up\, dismantling and on-site follow-up.\nDedicated Project Management: You have one clear point of contact from first briefing to final handover.\n\n\nPlanning to Exhibit at APEX SHOW 2029?\nLet’s create a stand that helps your brand connect with the right visitors at MECC Maastricht. \n  ➜ Contact Total Concept
URL:https://totalconcept.be/event/apex-show-2029/
CATEGORIES:Beurs,Beursstand,Expo,Trade Fair
END:VEVENT
END:VCALENDAR