BEGIN:VCALENDAR
VERSION:2.0
PRODID:-//total concept - ECPv6.15.17.1//NONSGML v1.0//EN
CALSCALE:GREGORIAN
METHOD:PUBLISH
X-WR-CALNAME:total concept
X-ORIGINAL-URL:https://totalconcept.be
X-WR-CALDESC:Events for total concept
REFRESH-INTERVAL;VALUE=DURATION:PT1H
X-Robots-Tag:noindex
X-PUBLISHED-TTL:PT1H
BEGIN:VTIMEZONE
TZID:Europe/Helsinki
BEGIN:DAYLIGHT
TZOFFSETFROM:+0200
TZOFFSETTO:+0300
TZNAME:EEST
DTSTART:20260329T010000
END:DAYLIGHT
BEGIN:STANDARD
TZOFFSETFROM:+0300
TZOFFSETTO:+0200
TZNAME:EET
DTSTART:20261025T010000
END:STANDARD
BEGIN:DAYLIGHT
TZOFFSETFROM:+0200
TZOFFSETTO:+0300
TZNAME:EEST
DTSTART:20270328T010000
END:DAYLIGHT
BEGIN:STANDARD
TZOFFSETFROM:+0300
TZOFFSETTO:+0200
TZNAME:EET
DTSTART:20271031T010000
END:STANDARD
BEGIN:DAYLIGHT
TZOFFSETFROM:+0200
TZOFFSETTO:+0300
TZNAME:EEST
DTSTART:20280326T010000
END:DAYLIGHT
BEGIN:STANDARD
TZOFFSETFROM:+0300
TZOFFSETTO:+0200
TZNAME:EET
DTSTART:20281029T010000
END:STANDARD
END:VTIMEZONE
BEGIN:VEVENT
DTSTART;VALUE=DATE:20270614
DTEND;VALUE=DATE:20270619
DTSTAMP:20260421T211419
CREATED:20260421T112947Z
LAST-MODIFIED:20260421T112947Z
UID:15464-1812931200-1813363199@totalconcept.be
SUMMARY:ACHEMA 2027
DESCRIPTION:Stand Builder for ACHEMA 2027\nExhibiting at ACHEMA 2027? Stand out at this process engineering\, chemicals\, pharma production and laboratory technology event with a booth designed for visibility\, conversations and results. \nACHEMA 2027 attracts process engineers\, R&D teams\, QA specialists\, laboratory professionals\, plant operators and procurement managers. Total Concept designs and builds exhibition stands across Europe\, from modular systems to fully custom booth concepts with production\, transport\, installation and dismantling included. \nGet a Free Stand Design Proposal \n\nAbout ACHEMA 2027\nACHEMA 2027 takes place from 14-18 June 2027 at Messe Frankfurt. The event focuses on process engineering\, chemicals\, pharma production and laboratory technology\, making it relevant for exhibitors that want to meet qualified visitors and build visibility in their market. \nWho Visits ACHEMA 2027?\nThe typical audience includes process engineers\, R&D teams\, QA specialists\, laboratory professionals\, plant operators and procurement managers. Depending on your offer\, the fair is especially valuable for suppliers active in process equipment\, lab technology\, cleanroom solutions\, packaging systems\, ingredients and technical services. \nYour Exhibition Stand at ACHEMA 2027\nAt this event\, your stand should build confidence\, communicate complex solutions clearly and make room for serious project discussions. We create exhibition stands that support product presentation\, brand visibility and efficient meetings on the show floor. \n\nCustom Design Stands: Stand concepts that support technical storytelling\, product launches and in-depth meetings with qualified buyers.\nModular Stands: Professional modular solutions with a clean\, structured look suited to scientific and technical audiences.\nHybrid Solutions: Hybrid stands that combine efficient systems with custom detail zones\, samples and application-led graphics.\n\nWhy Choose Total Concept?\n\nStrategic Design: We translate your objectives\, target audience and product story into a stand concept that fits the event.\nIn-House Production: Our own workshop handles structure\, finishing\, graphics and practical build quality.\nLogistics & Installation: We coordinate transport\, build-up\, dismantling and on-site follow-up.\nDedicated Project Management: You have one clear point of contact from first briefing to final handover.\n\n\nPlanning to Exhibit at ACHEMA 2027?\nLet’s create a stand that helps your brand connect with the right visitors at Messe Frankfurt. \n  ➜ Contact Total Concept
URL:https://totalconcept.be/event/achema-2027/
LOCATION:Messe Frankfurt
CATEGORIES:Beurs,Beursstand,Expo,Trade Fair
END:VEVENT
END:VCALENDAR