BEGIN:VCALENDAR
VERSION:2.0
PRODID:-//total concept - ECPv6.15.17.1//NONSGML v1.0//EN
CALSCALE:GREGORIAN
METHOD:PUBLISH
X-ORIGINAL-URL:https://totalconcept.be
X-WR-CALDESC:Events for total concept
REFRESH-INTERVAL;VALUE=DURATION:PT1H
X-Robots-Tag:noindex
X-PUBLISHED-TTL:PT1H
BEGIN:VTIMEZONE
TZID:Europe/Helsinki
BEGIN:DAYLIGHT
TZOFFSETFROM:+0200
TZOFFSETTO:+0300
TZNAME:EEST
DTSTART:20250330T010000
END:DAYLIGHT
BEGIN:STANDARD
TZOFFSETFROM:+0300
TZOFFSETTO:+0200
TZNAME:EET
DTSTART:20251026T010000
END:STANDARD
BEGIN:DAYLIGHT
TZOFFSETFROM:+0200
TZOFFSETTO:+0300
TZNAME:EEST
DTSTART:20260329T010000
END:DAYLIGHT
BEGIN:STANDARD
TZOFFSETFROM:+0300
TZOFFSETTO:+0200
TZNAME:EET
DTSTART:20261025T010000
END:STANDARD
BEGIN:DAYLIGHT
TZOFFSETFROM:+0200
TZOFFSETTO:+0300
TZNAME:EEST
DTSTART:20270328T010000
END:DAYLIGHT
BEGIN:STANDARD
TZOFFSETFROM:+0300
TZOFFSETTO:+0200
TZNAME:EET
DTSTART:20271031T010000
END:STANDARD
END:VTIMEZONE
BEGIN:VEVENT
DTSTART;VALUE=DATE:20261004
DTEND;VALUE=DATE:20261007
DTSTAMP:20260421T013504
CREATED:20260418T070620Z
LAST-MODIFIED:20260418T070620Z
UID:14167-1791072000-1791331199@totalconcept.be
SUMMARY:FERMA FORUM 2026
DESCRIPTION:
URL:https://totalconcept.be/event/ferma-forum-2026-2/
CATEGORIES:Beurs
END:VEVENT
BEGIN:VEVENT
DTSTART;VALUE=DATE:20261004
DTEND;VALUE=DATE:20261007
DTSTAMP:20260421T013504
CREATED:20260418T071249Z
LAST-MODIFIED:20260418T071249Z
UID:14306-1791072000-1791331199@totalconcept.be
SUMMARY:ONDERWIJSBEURS NOORDOOST 2026
DESCRIPTION:
URL:https://totalconcept.be/event/onderwijsbeurs-noordoost-2026-2/
LOCATION:Evenementenhal Hardenberg\, Netherlands
CATEGORIES:Beurs
END:VEVENT
BEGIN:VEVENT
DTSTART;VALUE=DATE:20261005
DTEND;VALUE=DATE:20261008
DTSTAMP:20260421T013504
CREATED:20260418T070257Z
LAST-MODIFIED:20260418T070257Z
UID:14090-1791158400-1791417599@totalconcept.be
SUMMARY:BBB 2026
DESCRIPTION:
URL:https://totalconcept.be/event/bbb-2026-2/
CATEGORIES:Beurs
END:VEVENT
BEGIN:VEVENT
DTSTART;VALUE=DATE:20261005
DTEND;VALUE=DATE:20261008
DTSTAMP:20260421T013504
CREATED:20260418T070617Z
LAST-MODIFIED:20260418T070617Z
UID:14160-1791158400-1791417599@totalconcept.be
SUMMARY:EXPO REAL 2026
DESCRIPTION:
URL:https://totalconcept.be/event/expo-real-2026-2/
LOCATION:Messe München\, Germany
CATEGORIES:Beurs
END:VEVENT
BEGIN:VEVENT
DTSTART;VALUE=DATE:20261005
DTEND;VALUE=DATE:20261008
DTSTAMP:20260421T013504
CREATED:20260418T071506Z
LAST-MODIFIED:20260418T071506Z
UID:14343-1791158400-1791417599@totalconcept.be
SUMMARY:SIGN2COM 2026
DESCRIPTION:
URL:https://totalconcept.be/event/sign2com-2026-2/
LOCATION:Kortrijk Xpo\, Belgium
CATEGORIES:Beurs
END:VEVENT
BEGIN:VEVENT
DTSTART;VALUE=DATE:20261006
DTEND;VALUE=DATE:20261009
DTSTAMP:20260421T013504
CREATED:20260418T070235Z
LAST-MODIFIED:20260418T070235Z
UID:14071-1791244800-1791503999@totalconcept.be
SUMMARY:ALUMINIU2026
DESCRIPTION:
URL:https://totalconcept.be/event/aluminiu2026-2/
LOCATION:Messe Düsseldorf\, Germany
CATEGORIES:Beurs
END:VEVENT
BEGIN:VEVENT
DTSTART;VALUE=DATE:20261006
DTEND;VALUE=DATE:20261009
DTSTAMP:20260421T013504
CREATED:20260418T070332Z
LAST-MODIFIED:20260418T070332Z
UID:14123-1791244800-1791503999@totalconcept.be
SUMMARY:CPHI 2026
DESCRIPTION:
URL:https://totalconcept.be/event/cphi-2026-2/
CATEGORIES:Beurs
END:VEVENT
BEGIN:VEVENT
DTSTART;VALUE=DATE:20261006
DTEND;VALUE=DATE:20261009
DTSTAMP:20260421T013504
CREATED:20260418T070526Z
LAST-MODIFIED:20260418T070526Z
UID:14138-1791244800-1791503999@totalconcept.be
SUMMARY:ECOMOBIEL 2026
DESCRIPTION:
URL:https://totalconcept.be/event/ecomobiel-2026-2/
CATEGORIES:Beurs
END:VEVENT
BEGIN:VEVENT
DTSTART;VALUE=DATE:20261006
DTEND;VALUE=DATE:20261009
DTSTAMP:20260421T013504
CREATED:20260418T070546Z
LAST-MODIFIED:20260418T070546Z
UID:14144-1791244800-1791503999@totalconcept.be
SUMMARY:ENERGIE 2026
DESCRIPTION:
URL:https://totalconcept.be/event/energie-2026-2/
CATEGORIES:Beurs
END:VEVENT
BEGIN:VEVENT
DTSTART;VALUE=DATE:20261006
DTEND;VALUE=DATE:20261009
DTSTAMP:20260421T013504
CREATED:20260418T070633Z
LAST-MODIFIED:20260418T070633Z
UID:14178-1791244800-1791503999@totalconcept.be
SUMMARY:FOODTECH ALIMENTARIA 2026
DESCRIPTION:
URL:https://totalconcept.be/event/foodtech-alimentaria-2026-2/
CATEGORIES:Beurs
END:VEVENT
BEGIN:VEVENT
DTSTART;VALUE=DATE:20261006
DTEND;VALUE=DATE:20261009
DTSTAMP:20260421T013504
CREATED:20260418T070636Z
LAST-MODIFIED:20260418T070636Z
UID:14181-1791244800-1791503999@totalconcept.be
SUMMARY:FRUIT ATTRACTION 2026
DESCRIPTION:
URL:https://totalconcept.be/event/fruit-attraction-2026-2/
CATEGORIES:Beurs
END:VEVENT
BEGIN:VEVENT
DTSTART;VALUE=DATE:20261006
DTEND;VALUE=DATE:20261009
DTSTAMP:20260421T013504
CREATED:20260418T071136Z
LAST-MODIFIED:20260418T071136Z
UID:14289-1791244800-1791503999@totalconcept.be
SUMMARY:METAVAK 2026
DESCRIPTION:
URL:https://totalconcept.be/event/metavak-2026-2/
LOCATION:Evenementenhal Gorinchem\, Netherlands
CATEGORIES:Beurs
END:VEVENT
BEGIN:VEVENT
DTSTART;VALUE=DATE:20261006
DTEND;VALUE=DATE:20261009
DTSTAMP:20260421T013504
CREATED:20260418T071302Z
LAST-MODIFIED:20260418T071302Z
UID:14317-1791244800-1791503999@totalconcept.be
SUMMARY:PREFAB 2026
DESCRIPTION:
URL:https://totalconcept.be/event/prefab-2026-2/
CATEGORIES:Beurs
END:VEVENT
BEGIN:VEVENT
DTSTART;VALUE=DATE:20261007
DTEND;VALUE=DATE:20261009
DTSTAMP:20260421T013504
CREATED:20260418T070545Z
LAST-MODIFIED:20260418T070545Z
UID:14140-1791331200-1791503999@totalconcept.be
SUMMARY:EFINTEC 2026
DESCRIPTION:
URL:https://totalconcept.be/event/efintec-2026-2/
CATEGORIES:Beurs
END:VEVENT
BEGIN:VEVENT
DTSTART;VALUE=DATE:20261007
DTEND;VALUE=DATE:20261012
DTSTAMP:20260421T013504
CREATED:20260418T070321Z
LAST-MODIFIED:20260418T070321Z
UID:14112-1791331200-1791763199@totalconcept.be
SUMMARY:BUCHMESSE 2026
DESCRIPTION:
URL:https://totalconcept.be/event/buchmesse-2026-2/
LOCATION:Messe Frankfurt
CATEGORIES:Beurs
END:VEVENT
BEGIN:VEVENT
DTSTART;VALUE=DATE:20261009
DTEND;VALUE=DATE:20261010
DTSTAMP:20260421T013504
CREATED:20260418T070821Z
LAST-MODIFIED:20260418T070821Z
UID:14233-1791504000-1791590399@totalconcept.be
SUMMARY:Install Day 2026
DESCRIPTION:
URL:https://totalconcept.be/event/install-day-2026-2/
CATEGORIES:Beurs
END:VEVENT
BEGIN:VEVENT
DTSTART;VALUE=DATE:20261010
DTEND;VALUE=DATE:20261013
DTSTAMP:20260421T013504
CREATED:20260418T070556Z
LAST-MODIFIED:20260418T070556Z
UID:14150-1791590400-1791849599@totalconcept.be
SUMMARY:ESTETIKA NAJAAR 2026
DESCRIPTION:
URL:https://totalconcept.be/event/estetika-najaar-2026-2/
LOCATION:Brussels Expo\, Belgium
CATEGORIES:Beurs
END:VEVENT
BEGIN:VEVENT
DTSTART;VALUE=DATE:20261010
DTEND;VALUE=DATE:20261019
DTSTAMP:20260421T013504
CREATED:20260418T070307Z
LAST-MODIFIED:20260418T070308Z
UID:14095-1791590400-1792367999@totalconcept.be
SUMMARY:BIS 2026
DESCRIPTION:
URL:https://totalconcept.be/event/bis-2026-2/
LOCATION:Flanders Expo Gent
CATEGORIES:Beurs
END:VEVENT
BEGIN:VEVENT
DTSTART;VALUE=DATE:20261010
DTEND;VALUE=DATE:20261019
DTSTAMP:20260421T013504
CREATED:20260418T070317Z
LAST-MODIFIED:20260418T070319Z
UID:14101-1791590400-1792367999@totalconcept.be
SUMMARY:BISBEURS 2026
DESCRIPTION:
URL:https://totalconcept.be/event/bisbeurs-2026-2/
CATEGORIES:Beurs
END:VEVENT
BEGIN:VEVENT
DTSTART;VALUE=DATE:20261012
DTEND;VALUE=DATE:20261017
DTSTAMP:20260421T013504
CREATED:20260418T070617Z
LAST-MODIFIED:20260418T070617Z
UID:14164-1791763200-1792195199@totalconcept.be
SUMMARY:FAKUMA 2026
DESCRIPTION:
URL:https://totalconcept.be/event/fakuma-2026-2/
CATEGORIES:Beurs
END:VEVENT
BEGIN:VEVENT
DTSTART;VALUE=DATE:20261013
DTEND;VALUE=DATE:20261016
DTSTAMP:20260421T013504
CREATED:20260418T070329Z
LAST-MODIFIED:20260418T070329Z
UID:14118-1791849600-1792108799@totalconcept.be
SUMMARY:CHILLVENTA 2026
DESCRIPTION:
URL:https://totalconcept.be/event/chillventa-2026-2/
LOCATION:Nürnberg Messe\, Germany
CATEGORIES:Beurs
END:VEVENT
BEGIN:VEVENT
DTSTART;VALUE=DATE:20261013
DTEND;VALUE=DATE:20261016
DTSTAMP:20260421T013504
CREATED:20260418T071303Z
LAST-MODIFIED:20260418T071303Z
UID:14318-1791849600-1792108799@totalconcept.be
SUMMARY:PRI IN PERSON 2026
DESCRIPTION:
URL:https://totalconcept.be/event/pri-in-person-2026-2/
LOCATION:RAI Amsterdam\, Netherlands
CATEGORIES:Beurs
END:VEVENT
BEGIN:VEVENT
DTSTART;VALUE=DATE:20261014
DTEND;VALUE=DATE:20261016
DTSTAMP:20260421T013504
CREATED:20260418T070354Z
LAST-MODIFIED:20260418T070354Z
UID:14134-1791936000-1792108799@totalconcept.be
SUMMARY:DUTCH PORK AND POULTRY EXPO 2026
DESCRIPTION:
URL:https://totalconcept.be/event/dutch-pork-and-poultry-expo-2026-2/
LOCATION:Evenementenhal Hardenberg\, Netherlands
CATEGORIES:Beurs
END:VEVENT
BEGIN:VEVENT
DTSTART;VALUE=DATE:20261017
DTEND;VALUE=DATE:20261021
DTSTAMP:20260421T013504
CREATED:20260418T071658Z
LAST-MODIFIED:20260418T071658Z
UID:14377-1792195200-1792540799@totalconcept.be
SUMMARY:UEG WEEK 2026
DESCRIPTION:
URL:https://totalconcept.be/event/ueg-week-2026-2/
CATEGORIES:Beurs
END:VEVENT
BEGIN:VEVENT
DTSTART;VALUE=DATE:20261017
DTEND;VALUE=DATE:20261022
DTSTAMP:20260421T013504
CREATED:20260418T071459Z
LAST-MODIFIED:20260418T071459Z
UID:14341-1792195200-1792627199@totalconcept.be
SUMMARY:SIAL 2026
DESCRIPTION:
URL:https://totalconcept.be/event/sial-2026-2/
CATEGORIES:Beurs
END:VEVENT
BEGIN:VEVENT
DTSTART;VALUE=DATE:20261020
DTEND;VALUE=DATE:20261022
DTSTAMP:20260421T013504
CREATED:20260418T071546Z
LAST-MODIFIED:20260418T071546Z
UID:14365-1792454400-1792627199@totalconcept.be
SUMMARY:TECH TEX 2026
DESCRIPTION:
URL:https://totalconcept.be/event/tech-tex-2026-2/
LOCATION:RAI Amsterdam\, Netherlands
CATEGORIES:Beurs
END:VEVENT
BEGIN:VEVENT
DTSTART;VALUE=DATE:20261020
DTEND;VALUE=DATE:20261023
DTSTAMP:20260421T013504
CREATED:20260418T071457Z
LAST-MODIFIED:20260418T071457Z
UID:14335-1792454400-1792713599@totalconcept.be
SUMMARY:RUNDVEE & MECHANISATIE HARDENBERG 2026
DESCRIPTION:
URL:https://totalconcept.be/event/rundvee-mechanisatie-hardenberg-2026-2/
LOCATION:Evenementenhal Hardenberg\, Netherlands
CATEGORIES:Beurs
END:VEVENT
BEGIN:VEVENT
DTSTART;VALUE=DATE:20261020
DTEND;VALUE=DATE:20261024
DTSTAMP:20260421T013504
CREATED:20260418T070556Z
LAST-MODIFIED:20260418T070556Z
UID:14154-1792454400-1792799999@totalconcept.be
SUMMARY:EUROBLECH 2026
DESCRIPTION:
URL:https://totalconcept.be/event/euroblech-2026-2/
LOCATION:Messe Hannover\, Germany
CATEGORIES:Beurs
END:VEVENT
BEGIN:VEVENT
DTSTART;VALUE=DATE:20261020
DTEND;VALUE=DATE:20261024
DTSTAMP:20260421T013504
CREATED:20260418T070646Z
LAST-MODIFIED:20260418T070646Z
UID:14191-1792454400-1792799999@totalconcept.be
SUMMARY:GLASSTEC 2026
DESCRIPTION:
URL:https://totalconcept.be/event/glasstec-2026-2/
LOCATION:Messe Düsseldorf\, Germany
CATEGORIES:Beurs
END:VEVENT
BEGIN:VEVENT
DTSTART;VALUE=DATE:20261021
DTEND;VALUE=DATE:20261023
DTSTAMP:20260421T013504
CREATED:20260418T071527Z
LAST-MODIFIED:20260419T165807Z
UID:14352-1792540800-1792713599@totalconcept.be
SUMMARY:Solids Antwerp 2026
DESCRIPTION:Stand Builder for SOLIDS Antwerp 2026\nAre you exhibiting at SOLIDS Antwerp 2026? Make a strong impression at the biennial meeting place for the powder and bulk industry in the Benelux. \nTotal Concept is your experienced partner for stand design and construction in Antwerp.\nWhether you need a modular booth or a premium custom-built stand\, we create exhibition concepts that help your brand stand out in front of process professionals\, plant managers\, engineers and technical decision-makers. \nGet a Free Stand Design Proposal \n\nAbout SOLIDS Antwerp 2026\nHeld from 21–22 October 2026 at Antwerp Expo\, SOLIDS Antwerp is the biennial meeting place for the powder and bulk industry in the Benelux.\nThe event focuses on processing\, storage and transport technologies for dry bulk solids and offers a strong platform for innovation\, networking and business development. \nFor exhibitors active in bulk handling\, process technology\, screening\, conveying\, storage\, dust control\, automation or specialist services\, a professional stand is essential to create visibility and quality B2B opportunities. \nYour Exhibition Stand at SOLIDS Antwerp\nAt a specialist technical event like SOLIDS Antwerp\, your stand should communicate expertise\, reliability and innovation.\nTotal Concept offers turnkey stand solutions tailored to your objectives and budget: \n\nCustom Design Stands: Premium booth concepts with strong branding\, technical storytelling and clear product presentation.\nModular System Stands: Efficient and reusable stand systems with a clean industrial look.\nHybrid Solutions: A smart mix of modular efficiency and custom-built impact.\n\nWhy Choose Total Concept?\nWe understand the practical and technical expectations of industrial trade fairs.\nAs your full-service stand builder\, we take care of the complete process: \n\n3D Visualization: We create a realistic stand concept before production starts.\nIn-House Production: Our workshop ensures quality build\, finishing and print production.\nLogistics & Installation: We manage transport\, assembly and dismantling in Antwerp.\nProject Management: Your dedicated project manager follows up timing and organizer communication from start to finish.\n\nFAQ for SOLIDS Antwerp Exhibitors\n\nCan you build stands at Antwerp Expo?\nYes. We regularly support exhibitors in Antwerp and across Europe.\nWhat type of stand works best for SOLIDS Antwerp?\nWe often recommend a stand with strong technical messaging\, practical product presentation and a layout that supports quality business meetings.\nDo you offer turnkey stand construction?\nYes. We provide stand design\, production\, transport\, installation and dismantling.\n\n\nReady to Exhibit at SOLIDS Antwerp 2026?\n  Let’s create a stand that positions your brand professionally in the powder and bulk industry. \n  ➜ Contact Total Concept
URL:https://totalconcept.be/event/solids-antwerp-2026/
LOCATION:Antwerp Expo
CATEGORIES:Beurs,Beursstand,Expo,Trade Fair
END:VEVENT
END:VCALENDAR